<?xml version="1.0" encoding="UTF-8" standalone="no"?>
<metadata xml:lang="en">
<Esri>
<CreaDate>20180627</CreaDate>
<CreaTime>13323700</CreaTime>
<ArcGISFormat>1.0</ArcGISFormat>
<ArcGISstyle>FGDC CSDGM Metadata</ArcGISstyle>
<SyncOnce>FALSE</SyncOnce>
<DataProperties>
<lineage>
<Process Date="20180627" Name="" Time="133237" ToolSource="c:\program files (x86)\arcgis\desktop10.4\ArcToolbox\Toolboxes\Data Management Tools.tbx\CreateMosaicDataset" export="">CreateMosaicDataset \\stgisdataprd001.file.core.windows.net\gisprd1gisdata\svcFgdb\megis\orthoMunicipal.gdb orthoMunicipalKittery2006 "PROJCS['NAD_1983_StatePlane_Maine_West_FIPS_1802',GEOGCS['GCS_North_American_1983',DATUM['D_North_American_1983',SPHEROID['GRS_1980',6378137.0,298.257222101]],PRIMEM['Greenwich',0.0],UNIT['Degree',0.0174532925199433]],PROJECTION['Transverse_Mercator'],PARAMETER['False_Easting',900000.0],PARAMETER['False_Northing',0.0],PARAMETER['Central_Meridian',-70.16666666666667],PARAMETER['Scale_Factor',0.9999666666666667],PARAMETER['Latitude_Of_Origin',42.83333333333334],UNIT['Meter',1.0]],VERTCS['NAVD_1988',VDATUM['North_American_Vertical_Datum_1988'],PARAMETER['Vertical_Shift',0.0],PARAMETER['Direction',1.0],UNIT['Meter',1.0]];-4723000 -14745800 10000;-100000 10000;-100000 10000;0.001;0.001;0.001;IsHighPrecision" 3 8_BIT_UNSIGNED NATURAL_COLOR_RGB "Red 630 690;Green 530 570;Blue 440 510"</Process>
<Process Date="20180627" Name="" Time="133514" ToolSource="c:\program files (x86)\arcgis\desktop10.4\ArcToolbox\Toolboxes\Data Management Tools.tbx\AddRastersToMosaicDataset" export="">AddRastersToMosaicDataset \\stgisdataprd001.file.core.windows.net\gisprd1gisdata\svcFgdb\megis\orthoMunicipal.gdb\orthoMunicipalKittery2006 "Raster Dataset" \\oit-teaqfstier2.emc.state.me.us\gisdata\megis\ras\kittery_06\tiles UPDATE_CELL_SIZES UPDATE_BOUNDARY UPDATE_OVERVIEWS # 0 1500 "PROJCS['NAD_1983_StatePlane_Maine_West_FIPS_1802',GEOGCS['GCS_North_American_1983',DATUM['D_North_American_1983',SPHEROID['GRS_1980',6378137.0,298.257222101]],PRIMEM['Greenwich',0.0],UNIT['Degree',0.0174532925199433]],PROJECTION['Transverse_Mercator'],PARAMETER['False_Easting',900000.0],PARAMETER['False_Northing',0.0],PARAMETER['Central_Meridian',-70.16666666666667],PARAMETER['Scale_Factor',0.9999666666666667],PARAMETER['Latitude_Of_Origin',42.83333333333334],UNIT['Meter',1.0]];-4723000 -14745800 10000;-100000 10000;-100000 10000;0.001;0.001;0.001;IsHighPrecision" # SUBFOLDERS ALLOW_DUPLICATES BUILD_PYRAMIDS CALCULATE_STATISTICS NO_THUMBNAILS # NO_FORCE_SPATIAL_REFERENCE NO_STATISTICS #</Process>
<Process Date="20180628" Name="" Time="125247" ToolSource="c:\program files (x86)\arcgis\desktop10.4\ArcToolbox\Toolboxes\Data Management Tools.tbx\AnalyzeMosaicDataset" export="">AnalyzeMosaicDataset \\stgisdataprd001.file.core.windows.net\gisprd1gisdata\svcFgdb\megis\orthoMunicipal.gdb\orthoMunicipalKittery2006 # FOOTPRINT;FUNCTION;RASTER;PATHS</Process>
<Process Date="20180719" Name="" Time="133354" ToolSource="c:\program files\arcgis\pro\Resources\ArcToolbox\toolboxes\Data Management Tools.tbx\BuildPyramidsandStatistics" export="">BuildPyramidsandStatistics \\stgisdataprd001.file.core.windows.net\gisprd1gisdata\svcFgdb\megis\orthoMunicipal.gdb\orthoMunicipalKittery2006 # BUILD_PYRAMIDS CALCULATE_STATISTICS BUILD_ON_SOURCE # # 1 1 # -1 NONE Bilinear "LZ77 Compression" 75 OVERWRITE #</Process>
</lineage>
<itemProps>
<itemName Sync="TRUE">orthoMunicipalKittery2006</itemName>
<itemLocation>
<linkage Sync="TRUE">file://\\stgisdataprd001.file.core.windows.net\gisprd1gisdata\svcFgdb\megis\orthoMunicipal.gdb</linkage>
<protocol Sync="TRUE">Local Area Network</protocol>
</itemLocation>
<nativeExtBox>
<westBL Sync="TRUE">846069.050000</westBL>
<eastBL Sync="TRUE">860600.750000</eastBL>
<southBL Sync="TRUE">25494.150000</southBL>
<northBL Sync="TRUE">35275.200000</northBL>
<exTypeCode Sync="TRUE">1</exTypeCode>
</nativeExtBox>
</itemProps>
<coordRef>
<type Sync="TRUE">Projected</type>
<geogcsn Sync="TRUE">GCS_North_American_1983</geogcsn>
<csUnits Sync="TRUE">Linear Unit: Meter (1.000000)</csUnits>
<projcsn Sync="TRUE">NAD_1983_StatePlane_Maine_West_FIPS_1802</projcsn>
<peXml Sync="TRUE">&lt;ProjectedCoordinateSystem xsi:type='typens:ProjectedCoordinateSystem' xmlns:xsi='http://www.w3.org/2001/XMLSchema-instance' xmlns:xs='http://www.w3.org/2001/XMLSchema' xmlns:typens='http://www.esri.com/schemas/ArcGIS/10.6'&gt;&lt;WKT&gt;PROJCS[&amp;quot;NAD_1983_StatePlane_Maine_West_FIPS_1802&amp;quot;,GEOGCS[&amp;quot;GCS_North_American_1983&amp;quot;,DATUM[&amp;quot;D_North_American_1983&amp;quot;,SPHEROID[&amp;quot;GRS_1980&amp;quot;,6378137.0,298.257222101]],PRIMEM[&amp;quot;Greenwich&amp;quot;,0.0],UNIT[&amp;quot;Degree&amp;quot;,0.0174532925199433]],PROJECTION[&amp;quot;Transverse_Mercator&amp;quot;],PARAMETER[&amp;quot;False_Easting&amp;quot;,900000.0],PARAMETER[&amp;quot;False_Northing&amp;quot;,0.0],PARAMETER[&amp;quot;Central_Meridian&amp;quot;,-70.16666666666667],PARAMETER[&amp;quot;Scale_Factor&amp;quot;,0.9999666666666667],PARAMETER[&amp;quot;Latitude_Of_Origin&amp;quot;,42.83333333333334],UNIT[&amp;quot;Meter&amp;quot;,1.0]],VERTCS[&amp;quot;NAVD_1988&amp;quot;,VDATUM[&amp;quot;North_American_Vertical_Datum_1988&amp;quot;],PARAMETER[&amp;quot;Vertical_Shift&amp;quot;,0.0],PARAMETER[&amp;quot;Direction&amp;quot;,1.0],UNIT[&amp;quot;Meter&amp;quot;,1.0]]&lt;/WKT&gt;&lt;XOrigin&gt;-4723000&lt;/XOrigin&gt;&lt;YOrigin&gt;-14745800&lt;/YOrigin&gt;&lt;XYScale&gt;450281163.53343117&lt;/XYScale&gt;&lt;ZOrigin&gt;-100000&lt;/ZOrigin&gt;&lt;ZScale&gt;10000&lt;/ZScale&gt;&lt;MOrigin&gt;-100000&lt;/MOrigin&gt;&lt;MScale&gt;10000&lt;/MScale&gt;&lt;XYTolerance&gt;0.001&lt;/XYTolerance&gt;&lt;ZTolerance&gt;0.001&lt;/ZTolerance&gt;&lt;MTolerance&gt;0.001&lt;/MTolerance&gt;&lt;HighPrecision&gt;true&lt;/HighPrecision&gt;&lt;WKID&gt;26984&lt;/WKID&gt;&lt;LatestWKID&gt;26984&lt;/LatestWKID&gt;&lt;VCSWKID&gt;5703&lt;/VCSWKID&gt;&lt;LatestVCSWKID&gt;5703&lt;/LatestVCSWKID&gt;&lt;/ProjectedCoordinateSystem&gt;</peXml>
</coordRef>
<RasterProperties>
<General>
<PixelDepth Sync="TRUE">8</PixelDepth>
<HasColormap Sync="TRUE">FALSE</HasColormap>
<CompressionType Sync="TRUE">None</CompressionType>
<NumBands Sync="TRUE">3</NumBands>
<Format Sync="TRUE">AMD</Format>
<HasPyramids Sync="TRUE">TRUE</HasPyramids>
<SourceType Sync="TRUE">continuous</SourceType>
<PixelType Sync="TRUE">unsigned integer</PixelType>
<NoDataValue Sync="TRUE"/>
</General>
<Properties>
<MaxImageHeight Sync="TRUE">4100</MaxImageHeight>
<MaxImageWidth Sync="TRUE">15000</MaxImageWidth>
<MaxRecordCount Sync="TRUE">1000</MaxRecordCount>
<MaxDownloadImageCount Sync="TRUE">20</MaxDownloadImageCount>
<MaxDownloadSizeLimit Sync="TRUE">2048</MaxDownloadSizeLimit>
<MaxMosaicImageCount Sync="TRUE">20</MaxMosaicImageCount>
<DefaultCompressionQuality Sync="TRUE">87</DefaultCompressionQuality>
<DefaultCompressionTolerance Sync="TRUE">0.01</DefaultCompressionTolerance>
<BlendWidth Sync="TRUE">10</BlendWidth>
<ViewpointSpacingX Sync="TRUE">600</ViewpointSpacingX>
<ViewpointSpacingY Sync="TRUE">300</ViewpointSpacingY>
<AllowedItemMetadata Sync="TRUE">Basic</AllowedItemMetadata>
<DefaultResamplingMethod Sync="TRUE">1</DefaultResamplingMethod>
<AllowedMosaicMethods Sync="TRUE">NorthWest,Center,ByAttribute,Nadir,Viewpoint,None</AllowedMosaicMethods>
<AllowedCompressions Sync="TRUE">LZ77,None,JPEG,LERC</AllowedCompressions>
<AllowedMensurationCapabilities Sync="TRUE">Basic</AllowedMensurationCapabilities>
<AvailableMensurationCapabilities Sync="TRUE">None,Basic,Base-Top Height,Top-Top Shadow Height,Base-Top Shadow Height,3D</AvailableMensurationCapabilities>
<ClipToBoundary Sync="TRUE">-1</ClipToBoundary>
<FootprintMayContainNoData Sync="TRUE">-1</FootprintMayContainNoData>
<CellSizeTolerance Sync="TRUE">0.8</CellSizeTolerance>
<MinimumPixelContribution Sync="TRUE">1</MinimumPixelContribution>
<AvailableMosaicMethods Sync="TRUE">NorthWest,Center,LockRaster,ByAttribute,Nadir,Viewpoint,Seamline,None</AvailableMosaicMethods>
<AvailableCompressionMethods Sync="TRUE">None,JPEG,LZ77,LERC</AvailableCompressionMethods>
<AvailableItemMetadataLevels Sync="TRUE">None,Basic,Full</AvailableItemMetadataLevels>
<ConfigKeyword Sync="TRUE"/>
<BandDefinitionKeyword Sync="TRUE">NaturalColor</BandDefinitionKeyword>
<AllowedFields Sync="TRUE">Name,MinPS,MaxPS,LowPS,HighPS,Tag,GroupName,ProductName,CenterX,CenterY,ZOrder,Shape_Length,Shape_Area,Date,DateInt</AllowedFields>
<MaxCellSize Sync="TRUE">2430</MaxCellSize>
<LowCellSize Sync="TRUE">0.149999999999315</LowCellSize>
<HighCellSize Sync="TRUE">48.6</HighCellSize>
<AvailableFields Sync="TRUE">Name,MinPS,MaxPS,LowPS,HighPS,Tag,GroupName,ProductName,CenterX,CenterY,ZOrder,Shape_Length,Shape_Area,Date,DateInt</AvailableFields>
<SortableFields Sync="TRUE">MinPS,MaxPS,LowPS,HighPS,CenterX,CenterY,ZOrder,Shape_Length,Shape_Area,Date,DateInt</SortableFields>
<SortAscending Sync="TRUE">-1</SortAscending>
<MosaicOperator Sync="TRUE">1</MosaicOperator>
<BlendWidthUnits Sync="TRUE">1</BlendWidthUnits>
<ClipToFootprint Sync="TRUE">0</ClipToFootprint>
<ClipOverviewsToFootprint Sync="TRUE">0</ClipOverviewsToFootprint>
<HasDodgingTable Sync="TRUE">0</HasDodgingTable>
<ApplyColorCorrection Sync="TRUE">0</ApplyColorCorrection>
<UseTime Sync="TRUE">-1</UseTime>
<StartTimeFieldName Sync="TRUE">Date</StartTimeFieldName>
<EndTimeFieldName Sync="TRUE">Date</EndTimeFieldName>
<TimeValueFormat Sync="TRUE">YYYY-MM-DD</TimeValueFormat>
<UseRange Sync="TRUE">0</UseRange>
<TimeInterval Sync="TRUE">2</TimeInterval>
<TimeIntervalUnits Sync="TRUE">Days</TimeIntervalUnits>
<SortField Sync="TRUE">MinPS</SortField>
<SortValue Sync="TRUE"/>
</Properties>
<Functions Sync="TRUE">
<Function Description="Performs on-the-fly mosaic on a raster catalog." Name="Mosaic Function"/>
</Functions>
</RasterProperties>
</DataProperties>
<SyncDate>20190807</SyncDate>
<SyncTime>08305000</SyncTime>
<ModDate>20190807</ModDate>
<ModTime>08305000</ModTime>
<scaleRange>
<minScale>150000000</minScale>
<maxScale>5000</maxScale>
</scaleRange>
<ArcGISProfile>FGDC</ArcGISProfile>
</Esri>
<mdLang>
<languageCode value="eng"/>
<countryCode Sync="TRUE" value="USA"/>
</mdLang>
<mdChar>
<CharSetCd value="004"/>
</mdChar>
<mdHrLv>
<ScopeCd value="005"/>
</mdHrLv>
<mdContact>
<rpIndName>Mark Bradstreet</rpIndName>
<rpOrgName>Bradstreet Consultants</rpOrgName>
<rpPosName>President</rpPosName>
<rpCntInfo>
<cntPhone>
<voiceNum>207-621-8500</voiceNum>
</cntPhone>
<cntAddress addressType="both">
<delPoint>69 Peters Rd</delPoint>
<city>Searsmont</city>
<adminArea>Maine</adminArea>
<postCode>04973</postCode>
<country>US</country>
<eMailAdd>mark (at) bradstreet.com</eMailAdd>
</cntAddress>
</rpCntInfo>
<role>
<RoleCd value="007"/>
</role>
</mdContact>
<mdDateSt Sync="TRUE">20190807</mdDateSt>
<mdStanName>ArcGIS Metadata</mdStanName>
<mdStanVer>1.0</mdStanVer>
<distInfo>
<distributor>
<distorTran>
<onLineSrc>
<linkage>http://www.maine.gov/geolib/wms.htm</linkage>
<orDesc>The Maine Office of GIS and the GeoLibrary Board provide web mapping services to distribute aerial photos and other digital data. A WMS is not a web application which you can see in a web browser; rather, it requires you to add the service to a GIS software application.</orDesc>
</onLineSrc>
</distorTran>
<distorCont>
<editorSource>external</editorSource>
<editorDigest>163605bbcfdc2918d752b2b8edf62e5d</editorDigest>
<rpOrgName>Maine Office of Geographic Information Systems</rpOrgName>
<rpPosName>GIS Coordinator</rpPosName>
<rpCntInfo>
<cntAddress addressType="postal">
<delPoint>State House Station #145</delPoint>
<city>Augusta</city>
<adminArea>Maine</adminArea>
<postCode>04333</postCode>
<eMailAdd>OIT.Customer-Support@maine.gov</eMailAdd>
<country>USA</country>
</cntAddress>
<cntPhone>
<voiceNum>207-624-7700</voiceNum>
</cntPhone>
<cntHours>9 am to 5 pm EST</cntHours>
<cntInstr>Monday through Friday</cntInstr>
</rpCntInfo>
<displayName>Maine Office of Geographic Information Systems</displayName>
<editorSave>True</editorSave>
<displayName>Maine Office of Geographic Information Systems</displayName>
<role>
<RoleCd value="005"/>
</role>
</distorCont>
</distributor>
</distInfo>
<dataIdInfo>
<idCitation>
<resTitle Sync="TRUE">orthoMunicipalKittery2006</resTitle>
<presForm>
<PresFormCd value="005"/>
</presForm>
<presForm>
<fgdcGeoform>raster digital data</fgdcGeoform>
</presForm>
<citRespParty>
<editorSource>external</editorSource>
<editorDigest>7c58fd8dd4da383224b1b940b412fe25</editorDigest>
<rpIndName>Mark Bradstreet</rpIndName>
<rpOrgName>Bradstreet Consultants</rpOrgName>
<rpPosName>President</rpPosName>
<rpCntInfo>
<cntPhone>
<voiceNum>207-621-8500</voiceNum>
</cntPhone>
<cntAddress addressType="both">
<delPoint>69 Peters Rd</delPoint>
<city>Searsmont</city>
<adminArea>Maine</adminArea>
<postCode>04973</postCode>
<country>US</country>
<eMailAdd>mark (at) bradstreet.com</eMailAdd>
</cntAddress>
</rpCntInfo>
<editorSave>True</editorSave>
<displayName>Mark Bradstreet</displayName>
<role>
<RoleCd value="006"/>
</role>
</citRespParty>
</idCitation>
<idAbs>&lt;DIV STYLE="text-align:Left;"&gt;&lt;DIV&gt;&lt;DIV&gt;&lt;P&gt;&lt;SPAN&gt;2006 aerial orthophotos at a resolution of 6 inches for Kittery, Maine. Bradstreet Consultants, Inc. used the aerial photography flown in one session on April 21, 2006, at a resolution of 0.5' pixel (similar to 1"=600'). Bradstreet Consultants, Inc. gathered control points to support full analytical aerotriangulation. The aerotriangulation solution was used to set up each stereopair of photos for orthorectification and DTM compilation. The ortho imagery was rectified from the natural color digial imagery employing a digital terrain model (DTM) and supplemented from updating some town's original DTM and some town's from scratch using the imagery in softcopy (digital) stereoplotter in the Kork KDMS and DAT/EM AutoCAD DWG format.&lt;/SPAN&gt;&lt;/P&gt;&lt;/DIV&gt;&lt;/DIV&gt;&lt;/DIV&gt;</idAbs>
<idPurp>Maine Orthoimagery Municipal Kittery 2006</idPurp>
<idCredit>Maine GeoLibrary</idCredit>
<idStatus>
<ProgCd value="001"/>
</idStatus>
<idPoC>
<rpIndName>Mark Bradstreet</rpIndName>
<rpOrgName>Bradstreet Consultants</rpOrgName>
<rpPosName>President</rpPosName>
<rpCntInfo>
<cntPhone>
<voiceNum>207-621-8500</voiceNum>
</cntPhone>
<cntAddress addressType="both">
<delPoint>69 Peters Rd</delPoint>
<city>Searsmont</city>
<adminArea>Maine</adminArea>
<postCode>04973</postCode>
<country>US</country>
<eMailAdd>mark (at) bradstreet.com</eMailAdd>
</cntAddress>
</rpCntInfo>
<role>
<RoleCd value="007"/>
</role>
</idPoC>
<resMaint>
<maintFreq>
<MaintFreqCd value="011"/>
</maintFreq>
</resMaint>
<placeKeys>
<thesaName>
<resTitle>Maine GIS Thesaurus-Place</resTitle>
</thesaName>
<keyword>United States</keyword>
<keyword>Maine</keyword>
</placeKeys>
<stratKeys>
<thesaName>
<resTitle>GCMD Parameter Keyword</resTitle>
</thesaName>
<keyword>land surface</keyword>
</stratKeys>
<themeKeys>
<thesaName>
<resTitle>ISO Keyword Thesaurus</resTitle>
</thesaName>
<keyword>ImageryBaseMapsEarthCover</keyword>
</themeKeys>
<searchKeys>
<keyword>imageryBaseMapsEarthCover</keyword>
<keyword>ortho</keyword>
<keyword>orthoimagery</keyword>
<keyword>orthophotography</keyword>
<keyword>GeoLibrary</keyword>
<keyword>Maine</keyword>
<keyword>MaineGeoLibrary</keyword>
<keyword>MaineGIS</keyword>
<keyword>municipal</keyword>
<keyword>Kittery</keyword>
<keyword>2006</keyword>
</searchKeys>
<resConst>
<Consts>
<useLimit>&lt;DIV STYLE="text-align:Left;"&gt;&lt;DIV&gt;&lt;DIV&gt;&lt;P&gt;&lt;SPAN&gt;Access: Public Use: User assumes risk.&lt;/SPAN&gt;&lt;/P&gt;&lt;/DIV&gt;&lt;/DIV&gt;&lt;/DIV&gt;</useLimit>
</Consts>
</resConst>
<dataLang>
<languageCode value="eng"/>
<countryCode Sync="TRUE" value="USA"/>
</dataLang>
<envirDesc Sync="TRUE"> Version 6.2 (Build 9200) ; Esri ArcGIS 10.6.1.9273</envirDesc>
<dataExt>
<exDesc>ground condition</exDesc>
<tempEle>
<TempExtent>
<exTemp>
<TM_Instant>
<tmPosition time="unknown">2006-04-21</tmPosition>
</TM_Instant>
</exTemp>
</TempExtent>
</tempEle>
</dataExt>
<dataExt>
<geoEle>
<GeoBndBox>
<westBL>-70.3</westBL>
<eastBL>-71</eastBL>
<southBL>43</southBL>
<northBL>43.75</northBL>
</GeoBndBox>
</geoEle>
</dataExt>
<spatRpType>
<SpatRepTypCd Sync="TRUE" value="002"/>
</spatRpType>
<dataExt>
<geoEle>
<GeoBndBox esriExtentType="search">
<exTypeCode Sync="TRUE">1</exTypeCode>
<westBL Sync="TRUE">-70.829689</westBL>
<eastBL Sync="TRUE">-70.650351</eastBL>
<northBL Sync="TRUE">43.149848</northBL>
<southBL Sync="TRUE">43.060913</southBL>
</GeoBndBox>
</geoEle>
</dataExt>
<tpCat>
<TopicCatCd value="010"/>
</tpCat>
</dataIdInfo>
<dqInfo>
<dqScope>
<scpLvl>
<ScopeCd value="005"/>
</scpLvl>
</dqScope>
<report dimension="horizontal" type="DQAbsExtPosAcc">
<measDesc>1"=600" film based aerial photos for 1:1200 mapping and orthos within 2.5' of horizontal positioning. The orthorectification process was applied to the imagery and those features which are at ground level. No attempt was made to correctly rectify elevated structures as part of this project.</measDesc>
<evalMethDesc>Comparison to Source</evalMethDesc>
</report>
<dataLineage>
<prcStep>
<stepDesc>Bradstreet Consultants, Inc. used the aerial photography flown in one session on April 21, 2006, at a resolution of 0.5' pixel (similar to 1"=600'). Bradstreet Consultants, Inc. gathered control points to support full analytical aerotriangulation. The aerotriangulation solution was used to set up each stereopair of photos for orthorectification and DTM compilation. The ortho imagery was rectified from the natural color digial imagery employing a digital terrain model (DTM) and supplemented from updating some town's original DTM and some town's from scratch using the imagery in softcopy (digital) stereoplotter in the Kork KDMS and DAT/EM AutoCAD DWG format.</stepDesc>
<stepDateTm>2006-01-01</stepDateTm>
<stepProc>
<rpIndName>Mark Bradstreet</rpIndName>
<rpOrgName>Bradstreet Consultants</rpOrgName>
<rpPosName>President</rpPosName>
<rpCntInfo>
<cntPhone>
<voiceNum>207-621-8500</voiceNum>
</cntPhone>
<cntAddress addressType="both">
<delPoint>69 Peters Road</delPoint>
<city>Searsmont</city>
<adminArea>Maine</adminArea>
<postCode>04973</postCode>
<country>US</country>
<eMailAdd>mark (at) bradstreet.com</eMailAdd>
</cntAddress>
</rpCntInfo>
<role>
<RoleCd value="009"/>
</role>
</stepProc>
</prcStep>
<prcStep>
<stepDesc>The SID files provided by Bradstreet were used as the source for this OGC-compliant web mapping service (WMS). The SID files are resampled to create overview TIFs and those provided in a MapServer-based environment.</stepDesc>
<stepDateTm>2009-01-01</stepDateTm>
<stepProc>
<rpIndName>Michael Smith</rpIndName>
<rpOrgName>Maine Office of GIS</rpOrgName>
<rpPosName>State GIS Manager</rpPosName>
<rpCntInfo>
<cntPhone>
<voiceNum>207-215-5530</voiceNum>
<faxNum>207-287-3842</faxNum>
</cntPhone>
<cntAddress addressType="postal">
<delPoint>SHS 174</delPoint>
<city>Augusta</city>
<adminArea>Maine</adminArea>
<postCode>04333</postCode>
<country>US</country>
<eMailAdd>michael.smith (at) maine.gov</eMailAdd>
</cntAddress>
</rpCntInfo>
<role>
<RoleCd value="009"/>
</role>
</stepProc>
</prcStep>
</dataLineage>
</dqInfo>
<spatRepInfo>
<Georect>
<numDims Sync="TRUE">2</numDims>
<axisDimension type="001">
<dimSize Sync="TRUE">65207</dimSize>
<dimResol>
<value Sync="TRUE" uom="m">0.150000</value>
</dimResol>
</axisDimension>
<axisDimension type="002">
<dimSize Sync="TRUE">96878</dimSize>
<dimResol>
<value Sync="TRUE" uom="m">0.150000</value>
</dimResol>
</axisDimension>
<axisDimension type="003">
<dimSize>1</dimSize>
</axisDimension>
<cellGeo>
<CellGeoCd Sync="TRUE" value="002"/>
</cellGeo>
<tranParaAv Sync="TRUE">1</tranParaAv>
<chkPtAv Sync="TRUE">0</chkPtAv>
<cornerPts>
<pos Sync="TRUE">846069.050000 25494.150000</pos>
</cornerPts>
<cornerPts>
<pos Sync="TRUE">846069.050000 35275.200000</pos>
</cornerPts>
<cornerPts>
<pos Sync="TRUE">860600.750000 35275.200000</pos>
</cornerPts>
<cornerPts>
<pos Sync="TRUE">860600.750000 25494.150000</pos>
</cornerPts>
<centerPt>
<pos Sync="TRUE">853334.900000 30384.675000</pos>
</centerPt>
<ptInPixel>
<PixOrientCd Sync="TRUE" value="001"/>
</ptInPixel>
</Georect>
</spatRepInfo>
<refSysInfo>
<RefSystem>
<refSysID>
<identCode Sync="TRUE" code="26984"/>
<idCodeSpace Sync="TRUE">EPSG</idCodeSpace>
<idVersion Sync="TRUE">6.16(3.0.1)</idVersion>
</refSysID>
</RefSystem>
</refSysInfo>
<contInfo>
<ImgDesc>
<contentTyp>
<ContentTypCd Sync="TRUE" value="001"/>
</contentTyp>
<covDim>
<Band>
<dimDescrp Sync="TRUE">Red</dimDescrp>
<maxVal Sync="TRUE">248.000000</maxVal>
<minVal Sync="TRUE">0.000000</minVal>
<bitsPerVal Sync="TRUE">8</bitsPerVal>
<valUnit>
<UOM type="length"/>
</valUnit>
</Band>
<Band>
<dimDescrp Sync="TRUE">Green</dimDescrp>
<maxVal Sync="TRUE">255.000000</maxVal>
<minVal Sync="TRUE">0.000000</minVal>
<bitsPerVal Sync="TRUE">8</bitsPerVal>
<valUnit>
<UOM type="length"/>
</valUnit>
</Band>
<Band>
<dimDescrp Sync="TRUE">Blue</dimDescrp>
<maxVal Sync="TRUE">252.000000</maxVal>
<minVal Sync="TRUE">0.000000</minVal>
<bitsPerVal Sync="TRUE">8</bitsPerVal>
<valUnit>
<UOM type="length"/>
</valUnit>
</Band>
</covDim>
</ImgDesc>
</contInfo>
</metadata>
