<?xml version="1.0" encoding="UTF-8" standalone="no"?>
<metadata xml:lang="en">
<Esri>
<CreaDate>20180627</CreaDate>
<CreaTime>14155800</CreaTime>
<ArcGISFormat>1.0</ArcGISFormat>
<ArcGISstyle>FGDC CSDGM Metadata</ArcGISstyle>
<SyncOnce>FALSE</SyncOnce>
<DataProperties>
<lineage>
<Process Date="20180627" Name="" Time="141558" ToolSource="c:\program files (x86)\arcgis\desktop10.4\ArcToolbox\Toolboxes\Data Management Tools.tbx\CreateMosaicDataset" export="">CreateMosaicDataset \\stgisdataprd001.file.core.windows.net\gisprd1gisdata\svcFgdb\megis\orthoMunicipal.gdb orthoMunicipalLewistonAuburn2006 "PROJCS['NAD_1983_StatePlane_Maine_West_FIPS_1802',GEOGCS['GCS_North_American_1983',DATUM['D_North_American_1983',SPHEROID['GRS_1980',6378137.0,298.257222101]],PRIMEM['Greenwich',0.0],UNIT['Degree',0.0174532925199433]],PROJECTION['Transverse_Mercator'],PARAMETER['False_Easting',900000.0],PARAMETER['False_Northing',0.0],PARAMETER['Central_Meridian',-70.16666666666667],PARAMETER['Scale_Factor',0.9999666666666667],PARAMETER['Latitude_Of_Origin',42.83333333333334],UNIT['Meter',1.0]],VERTCS['NAVD_1988',VDATUM['North_American_Vertical_Datum_1988'],PARAMETER['Vertical_Shift',0.0],PARAMETER['Direction',1.0],UNIT['Meter',1.0]];-4723000 -14745800 10000;-100000 10000;-100000 10000;0.001;0.001;0.001;IsHighPrecision" 3 8_BIT_UNSIGNED NATURAL_COLOR_RGB "Red 630 690;Green 530 570;Blue 440 510"</Process>
<Process Date="20180627" Name="" Time="142221" ToolSource="c:\program files (x86)\arcgis\desktop10.4\ArcToolbox\Toolboxes\Data Management Tools.tbx\AddRastersToMosaicDataset" export="">AddRastersToMosaicDataset \\stgisdataprd001.file.core.windows.net\gisprd1gisdata\svcFgdb\megis\orthoMunicipal.gdb\orthoMunicipalLewistonAuburn2006 "Raster Dataset" \\oit-teaqfstier2.emc.state.me.us\gisdata\megis\ras\la_06\tiles UPDATE_CELL_SIZES UPDATE_BOUNDARY UPDATE_OVERVIEWS # 0 1500 "PROJCS['NAD_1983_StatePlane_Maine_West_FIPS_1802',GEOGCS['GCS_North_American_1983',DATUM['D_North_American_1983',SPHEROID['GRS_1980',6378137.0,298.257222101]],PRIMEM['Greenwich',0.0],UNIT['Degree',0.0174532925199433]],PROJECTION['Transverse_Mercator'],PARAMETER['False_Easting',900000.0],PARAMETER['False_Northing',0.0],PARAMETER['Central_Meridian',-70.16666666666667],PARAMETER['Scale_Factor',0.9999666666666667],PARAMETER['Latitude_Of_Origin',42.83333333333334],UNIT['Meter',1.0]];-4723000 -14745800 10000;-100000 10000;-100000 10000;0.001;0.001;0.001;IsHighPrecision" # SUBFOLDERS ALLOW_DUPLICATES BUILD_PYRAMIDS CALCULATE_STATISTICS NO_THUMBNAILS # NO_FORCE_SPATIAL_REFERENCE NO_STATISTICS #</Process>
<Process Date="20180628" Name="" Time="125352" ToolSource="c:\program files (x86)\arcgis\desktop10.4\ArcToolbox\Toolboxes\Data Management Tools.tbx\AnalyzeMosaicDataset" export="">AnalyzeMosaicDataset \\stgisdataprd001.file.core.windows.net\gisprd1gisdata\svcFgdb\megis\orthoMunicipal.gdb\orthoMunicipalLewistonAuburn2006 # FOOTPRINT;FUNCTION;RASTER;PATHS</Process>
<Process Date="20180719" Time="153227" ToolSource="c:\program files\arcgis\pro\Resources\ArcToolbox\toolboxes\Data Management Tools.tbx\BuildPyramidsandStatistics">BuildPyramidsandStatistics \\stgisdataprd001.file.core.windows.net\gisprd1gisdata\svcFgdb\megis\orthoMunicipal.gdb\orthoMunicipalLewistonAuburn2006 # BUILD_PYRAMIDS CALCULATE_STATISTICS BUILD_ON_SOURCE # # 1 1 # -1 NONE Bilinear "LZ77 Compression" 75 OVERWRITE #</Process>
</lineage>
<itemProps>
<itemName Sync="TRUE">orthoMunicipalLewistonAuburn2006</itemName>
<itemLocation>
<linkage Sync="TRUE">file://\\stgisdataprd001.file.core.windows.net\gisprd1gisdata\svcFgdb\megis\orthoMunicipal.gdb</linkage>
<protocol Sync="TRUE">Local Area Network</protocol>
</itemLocation>
<nativeExtBox>
<westBL Sync="TRUE">885000.000000</westBL>
<eastBL Sync="TRUE">904220.550000</eastBL>
<southBL Sync="TRUE">126430.200000</southBL>
<northBL Sync="TRUE">157734.150000</northBL>
<exTypeCode Sync="TRUE">1</exTypeCode>
</nativeExtBox>
<imsContentType export="False"/>
</itemProps>
<coordRef>
<type Sync="TRUE">Projected</type>
<geogcsn Sync="TRUE">GCS_North_American_1983</geogcsn>
<csUnits Sync="TRUE">Linear Unit: Meter (1.000000)</csUnits>
<projcsn Sync="TRUE">NAD_1983_StatePlane_Maine_West_FIPS_1802</projcsn>
<peXml Sync="TRUE">&lt;ProjectedCoordinateSystem xsi:type='typens:ProjectedCoordinateSystem' xmlns:xsi='http://www.w3.org/2001/XMLSchema-instance' xmlns:xs='http://www.w3.org/2001/XMLSchema' xmlns:typens='http://www.esri.com/schemas/ArcGIS/10.6'&gt;&lt;WKT&gt;PROJCS[&amp;quot;NAD_1983_StatePlane_Maine_West_FIPS_1802&amp;quot;,GEOGCS[&amp;quot;GCS_North_American_1983&amp;quot;,DATUM[&amp;quot;D_North_American_1983&amp;quot;,SPHEROID[&amp;quot;GRS_1980&amp;quot;,6378137.0,298.257222101]],PRIMEM[&amp;quot;Greenwich&amp;quot;,0.0],UNIT[&amp;quot;Degree&amp;quot;,0.0174532925199433]],PROJECTION[&amp;quot;Transverse_Mercator&amp;quot;],PARAMETER[&amp;quot;False_Easting&amp;quot;,900000.0],PARAMETER[&amp;quot;False_Northing&amp;quot;,0.0],PARAMETER[&amp;quot;Central_Meridian&amp;quot;,-70.16666666666667],PARAMETER[&amp;quot;Scale_Factor&amp;quot;,0.9999666666666667],PARAMETER[&amp;quot;Latitude_Of_Origin&amp;quot;,42.83333333333334],UNIT[&amp;quot;Meter&amp;quot;,1.0]],VERTCS[&amp;quot;NAVD_1988&amp;quot;,VDATUM[&amp;quot;North_American_Vertical_Datum_1988&amp;quot;],PARAMETER[&amp;quot;Vertical_Shift&amp;quot;,0.0],PARAMETER[&amp;quot;Direction&amp;quot;,1.0],UNIT[&amp;quot;Meter&amp;quot;,1.0]]&lt;/WKT&gt;&lt;XOrigin&gt;-4723000&lt;/XOrigin&gt;&lt;YOrigin&gt;-14745800&lt;/YOrigin&gt;&lt;XYScale&gt;450281163.53343117&lt;/XYScale&gt;&lt;ZOrigin&gt;-100000&lt;/ZOrigin&gt;&lt;ZScale&gt;10000&lt;/ZScale&gt;&lt;MOrigin&gt;-100000&lt;/MOrigin&gt;&lt;MScale&gt;10000&lt;/MScale&gt;&lt;XYTolerance&gt;0.001&lt;/XYTolerance&gt;&lt;ZTolerance&gt;0.001&lt;/ZTolerance&gt;&lt;MTolerance&gt;0.001&lt;/MTolerance&gt;&lt;HighPrecision&gt;true&lt;/HighPrecision&gt;&lt;WKID&gt;26984&lt;/WKID&gt;&lt;LatestWKID&gt;26984&lt;/LatestWKID&gt;&lt;VCSWKID&gt;5703&lt;/VCSWKID&gt;&lt;LatestVCSWKID&gt;5703&lt;/LatestVCSWKID&gt;&lt;/ProjectedCoordinateSystem&gt;</peXml>
</coordRef>
<RasterProperties>
<General>
<PixelDepth Sync="TRUE">8</PixelDepth>
<HasColormap Sync="TRUE">FALSE</HasColormap>
<CompressionType Sync="TRUE">None</CompressionType>
<NumBands Sync="TRUE">3</NumBands>
<Format Sync="TRUE">AMD</Format>
<HasPyramids Sync="TRUE">TRUE</HasPyramids>
<SourceType Sync="TRUE">continuous</SourceType>
<PixelType Sync="TRUE">unsigned integer</PixelType>
<NoDataValue Sync="TRUE"/>
</General>
<Properties>
<MaxImageHeight Sync="TRUE">4100</MaxImageHeight>
<MaxImageWidth Sync="TRUE">15000</MaxImageWidth>
<MaxRecordCount Sync="TRUE">1000</MaxRecordCount>
<MaxDownloadImageCount Sync="TRUE">20</MaxDownloadImageCount>
<MaxDownloadSizeLimit Sync="TRUE">2048</MaxDownloadSizeLimit>
<MaxMosaicImageCount Sync="TRUE">20</MaxMosaicImageCount>
<DefaultCompressionQuality Sync="TRUE">87</DefaultCompressionQuality>
<DefaultCompressionTolerance Sync="TRUE">0.01</DefaultCompressionTolerance>
<BlendWidth Sync="TRUE">10</BlendWidth>
<ViewpointSpacingX Sync="TRUE">600</ViewpointSpacingX>
<ViewpointSpacingY Sync="TRUE">300</ViewpointSpacingY>
<AllowedItemMetadata Sync="TRUE">Basic</AllowedItemMetadata>
<DefaultResamplingMethod Sync="TRUE">1</DefaultResamplingMethod>
<AllowedMosaicMethods Sync="TRUE">NorthWest,Center,ByAttribute,Nadir,Viewpoint,None</AllowedMosaicMethods>
<AllowedCompressions Sync="TRUE">LZ77,None,JPEG,LERC</AllowedCompressions>
<AllowedMensurationCapabilities Sync="TRUE">Basic</AllowedMensurationCapabilities>
<AvailableMensurationCapabilities Sync="TRUE">None,Basic,Base-Top Height,Top-Top Shadow Height,Base-Top Shadow Height,3D</AvailableMensurationCapabilities>
<ClipToBoundary Sync="TRUE">-1</ClipToBoundary>
<FootprintMayContainNoData Sync="TRUE">-1</FootprintMayContainNoData>
<CellSizeTolerance Sync="TRUE">0.8</CellSizeTolerance>
<MinimumPixelContribution Sync="TRUE">1</MinimumPixelContribution>
<AvailableMosaicMethods Sync="TRUE">NorthWest,Center,LockRaster,ByAttribute,Nadir,Viewpoint,Seamline,None</AvailableMosaicMethods>
<AvailableCompressionMethods Sync="TRUE">None,JPEG,LZ77,LERC</AvailableCompressionMethods>
<AvailableItemMetadataLevels Sync="TRUE">None,Basic,Full</AvailableItemMetadataLevels>
<ConfigKeyword Sync="TRUE"/>
<BandDefinitionKeyword Sync="TRUE">NaturalColor</BandDefinitionKeyword>
<AllowedFields Sync="TRUE">Name,MinPS,MaxPS,LowPS,HighPS,Tag,GroupName,ProductName,CenterX,CenterY,ZOrder,Shape_Length,Shape_Area,Date,DateInt</AllowedFields>
<MaxCellSize Sync="TRUE">3645.00000000013</MaxCellSize>
<LowCellSize Sync="TRUE">7.49999999999617E-02</LowCellSize>
<HighCellSize Sync="TRUE">72.9000000000026</HighCellSize>
<AvailableFields Sync="TRUE">Name,MinPS,MaxPS,LowPS,HighPS,Tag,GroupName,ProductName,CenterX,CenterY,ZOrder,Shape_Length,Shape_Area,Date,DateInt</AvailableFields>
<SortableFields Sync="TRUE">MinPS,MaxPS,LowPS,HighPS,CenterX,CenterY,ZOrder,Shape_Length,Shape_Area,Date,DateInt</SortableFields>
<SortAscending Sync="TRUE">-1</SortAscending>
<MosaicOperator Sync="TRUE">1</MosaicOperator>
<BlendWidthUnits Sync="TRUE">1</BlendWidthUnits>
<ClipToFootprint Sync="TRUE">0</ClipToFootprint>
<ClipOverviewsToFootprint Sync="TRUE">0</ClipOverviewsToFootprint>
<HasDodgingTable Sync="TRUE">0</HasDodgingTable>
<ApplyColorCorrection Sync="TRUE">0</ApplyColorCorrection>
<UseTime Sync="TRUE">-1</UseTime>
<StartTimeFieldName Sync="TRUE">Date</StartTimeFieldName>
<EndTimeFieldName Sync="TRUE">Date</EndTimeFieldName>
<TimeValueFormat Sync="TRUE">YYYY-MM-DD</TimeValueFormat>
<UseRange Sync="TRUE">0</UseRange>
<TimeInterval Sync="TRUE">2</TimeInterval>
<TimeIntervalUnits Sync="TRUE">Days</TimeIntervalUnits>
<SortField Sync="TRUE">MinPS</SortField>
<SortValue Sync="TRUE"/>
</Properties>
<Functions Sync="TRUE">
<Function Description="Performs on-the-fly mosaic on a raster catalog." Name="Mosaic Function"/>
</Functions>
</RasterProperties>
</DataProperties>
<SyncDate>20190807</SyncDate>
<SyncTime>08311600</SyncTime>
<ModDate>20190807</ModDate>
<ModTime>08311600</ModTime>
<scaleRange>
<minScale>150000000</minScale>
<maxScale>5000</maxScale>
</scaleRange>
<ArcGISProfile>FGDC</ArcGISProfile>
</Esri>
<mdLang>
<languageCode value="eng"/>
<countryCode Sync="TRUE" value="USA"/>
</mdLang>
<mdChar>
<CharSetCd value="004"/>
</mdChar>
<mdHrLv>
<ScopeCd value="005"/>
</mdHrLv>
<mdContact>
<editorSource>external</editorSource>
<editorDigest>f7b4ccd31f5e349b4c28a2f73d0799c4</editorDigest>
<rpIndName>Jim Ward, City of Lewiston</rpIndName>
<rpOrgName>City of Lewiston</rpOrgName>
<rpPosName>GIS Manager</rpPosName>
<rpCntInfo>
<cntPhone>
<voiceNum>207-513-3000</voiceNum>
</cntPhone>
<cntAddress addressType="both">
<delPoint>City Building - 27 Pine Street</delPoint>
<city>Lewiston</city>
<adminArea>Maine</adminArea>
<postCode>04240</postCode>
<country>US</country>
<eMailAdd>jward@ci.lewiston.me.us</eMailAdd>
</cntAddress>
</rpCntInfo>
<displayName>Jim Ward</displayName>
<editorSave>True</editorSave>
<displayName>Jim Ward, City of Lewiston</displayName>
</mdContact>
<mdStanName>ArcGIS Metadata</mdStanName>
<mdStanVer>1.0</mdStanVer>
<distInfo>
<distributor>
<distorTran>
<onLineSrc>
<linkage>http://www.maine.gov/geolib/wms.htm</linkage>
<orDesc>The Maine Office of GIS and the GeoLibrary Board provide web mapping services to distribute aerial photos and other digital data. A WMS is not a web application which you can see in a web browser; rather, it requires you to add the service to a GIS software application.</orDesc>
</onLineSrc>
</distorTran>
<distorCont>
<editorSource>external</editorSource>
<editorDigest>163605bbcfdc2918d752b2b8edf62e5d</editorDigest>
<rpOrgName>Maine Office of Geographic Information Systems</rpOrgName>
<rpPosName>GIS Coordinator</rpPosName>
<rpCntInfo>
<cntAddress addressType="postal">
<delPoint>State House Station #145</delPoint>
<city>Augusta</city>
<adminArea>Maine</adminArea>
<postCode>04333</postCode>
<eMailAdd>OIT.Customer-Support@maine.gov</eMailAdd>
<country>USA</country>
</cntAddress>
<cntPhone>
<voiceNum>207-624-7700</voiceNum>
</cntPhone>
<cntHours>9 am to 5 pm EST</cntHours>
<cntInstr>Monday through Friday</cntInstr>
</rpCntInfo>
<displayName>Maine Office of Geographic Information Systems</displayName>
<editorSave>True</editorSave>
<displayName>Maine Office of Geographic Information Systems</displayName>
</distorCont>
</distributor>
</distInfo>
<dataIdInfo>
<idCitation>
<resTitle Sync="TRUE">orthoMunicipalLewistonAuburn2006</resTitle>
<date>
<pubDate>2006-01-01</pubDate>
</date>
<citRespParty>
<rpOrgName>James W. Sewall Company</rpOrgName>
<role>
<RoleCd value="006"/>
</role>
</citRespParty>
<citRespParty>
<rpIndName>Jim Ward, City of Lewiston</rpIndName>
<rpOrgName>City of Lewiston</rpOrgName>
<rpPosName>GIS Manager</rpPosName>
<rpCntInfo>
<cntPhone>
<voiceNum>207-513-3000</voiceNum>
</cntPhone>
<cntAddress addressType="both">
<delPoint>City Building - 27 Pine Street</delPoint>
<city>Lewiston</city>
<adminArea>Maine</adminArea>
<postCode>04240</postCode>
<country>US</country>
<eMailAdd>jward@ci.lewiston.me.us</eMailAdd>
</cntAddress>
</rpCntInfo>
<role>
<RoleCd value="007"/>
</role>
<displayName>Jim Ward</displayName>
</citRespParty>
<presForm>
<PresFormCd Sync="TRUE" value="005"/>
</presForm>
</idCitation>
<idAbs>&lt;DIV STYLE="text-align:Left;"&gt;&lt;DIV&gt;&lt;DIV&gt;&lt;P&gt;&lt;SPAN&gt;2006 3" pixel resolution orthoimagery of the cities of Lewiston/Auburn ME. Provided by the Maine Office of GIS and the Maine GeoLibrary Board. Lewiston/Auburn 2006 3" orthoimagery - As the prime contractor, James W. Sewall Company. used the aerial photography flown in one session on April 9th, 2006. Data were collected at an altitude of 7200' using a 6" Zeiss RMK camera with FMC. The film scale was 1" = 600', scanned at a resolution of 2540dpi (10 microns). Orthophotos were produced to meet ASPRS class 1 specifications for 1"=100' (1:1200) mapping, or a horizontal accuracy of about 1 foot with a 3-inch ground pixel resolution.&lt;/SPAN&gt;&lt;/P&gt;&lt;/DIV&gt;&lt;/DIV&gt;&lt;/DIV&gt;</idAbs>
<idPurp>Maine Orthoimagery Municipal Lewiston Auburn 2006</idPurp>
<idCredit>Maine GeoLibrary</idCredit>
<idStatus>
<ProgCd value="001"/>
</idStatus>
<idPoC>
<rpIndName>Jim Ward</rpIndName>
<rpOrgName>City of Lewiston</rpOrgName>
<rpPosName>GIS Manager</rpPosName>
<rpCntInfo>
<cntPhone>
<voiceNum>207-513-3000</voiceNum>
</cntPhone>
<cntAddress addressType="both">
<delPoint>City Building - 27 Pine Street</delPoint>
<city>Lewiston</city>
<adminArea>Maine</adminArea>
<postCode>04240</postCode>
<country>US</country>
<eMailAdd>jward@ci.lewiston.me.us</eMailAdd>
</cntAddress>
</rpCntInfo>
<role>
<RoleCd value="007"/>
</role>
</idPoC>
<resMaint>
<maintFreq>
<MaintFreqCd value="011"/>
</maintFreq>
</resMaint>
<themeKeys>
<thesaName>
<resTitle>ISO Keyword Thesaurus - Theme</resTitle>
</thesaName>
<keyword>ImageryBaseMapsEarthCover</keyword>
</themeKeys>
<themeKeys>
<keyword>rectified photograph</keyword>
<keyword>Aerial photography</keyword>
<keyword>GSD .075m</keyword>
<keyword>rectified image</keyword>
<keyword>orthophoto</keyword>
<keyword>Digital orthophotos</keyword>
<keyword>Digital image map</keyword>
</themeKeys>
<searchKeys>
<keyword>imageryBaseMapsEarthCover</keyword>
<keyword>ortho</keyword>
<keyword>orthoimagery</keyword>
<keyword>orthophotography</keyword>
<keyword>GeoLibrary</keyword>
<keyword>Maine</keyword>
<keyword>MaineGeoLibrary</keyword>
<keyword>MaineGIS</keyword>
<keyword>municipal</keyword>
<keyword>Lewiston</keyword>
<keyword>Auburn</keyword>
<keyword>2006</keyword>
</searchKeys>
<resConst>
<Consts>
<useLimit>&lt;DIV STYLE="text-align:Left;"&gt;&lt;DIV&gt;&lt;DIV&gt;&lt;P&gt;&lt;SPAN&gt;Access: Public Use: User assumes risk.&lt;/SPAN&gt;&lt;/P&gt;&lt;/DIV&gt;&lt;/DIV&gt;&lt;/DIV&gt;</useLimit>
</Consts>
</resConst>
<dataLang>
<languageCode value="eng"/>
<countryCode Sync="TRUE" value="USA"/>
</dataLang>
<envirDesc Sync="TRUE"> Version 6.2 (Build 9200) ; Esri ArcGIS 10.6.1.9273</envirDesc>
<dataExt>
<exDesc>ground condition</exDesc>
<tempEle>
<TempExtent>
<exTemp>
<TM_Instant>
<tmPosition>2006-04-09T00:00:00</tmPosition>
</TM_Instant>
</exTemp>
</TempExtent>
</tempEle>
</dataExt>
<dataExt>
<geoEle>
<GeoBndBox>
<westBL>-70.36</westBL>
<eastBL>-70.11</eastBL>
<southBL>43.97</southBL>
<northBL>44.26</northBL>
<exTypeCode>1</exTypeCode>
</GeoBndBox>
</geoEle>
</dataExt>
<dataChar>
<CharSetCd value="004"/>
</dataChar>
<spatRpType>
<SpatRepTypCd Sync="TRUE" value="002"/>
</spatRpType>
<dataExt>
<geoEle>
<GeoBndBox esriExtentType="search">
<exTypeCode Sync="TRUE">1</exTypeCode>
<westBL Sync="TRUE">-70.354491</westBL>
<eastBL Sync="TRUE">-70.113819</eastBL>
<northBL Sync="TRUE">44.253087</northBL>
<southBL Sync="TRUE">43.971198</southBL>
</GeoBndBox>
</geoEle>
</dataExt>
<tpCat>
<TopicCatCd value="010"/>
</tpCat>
</dataIdInfo>
<dqInfo>
<dqScope>
<scpLvl>
<ScopeCd value="005"/>
</scpLvl>
</dqScope>
<report type="DQCompOm">
<measDesc>Orthoimagery for Lewiston/Auburn clipped to roughly 100m beyond the city boundaries, and including extra area in Buckfield, Hebron, Poland, and Turner.</measDesc>
</report>
<report dimension="horizontal" type="DQAbsExtPosAcc">
<measDesc>Data meets ASPRS class 1 accuracy standards for 1" = 100' (1:1200) orthophots, or horizontal accuracy of 1 foot.</measDesc>
</report>
<dataLineage>
<prcStep>
<stepDesc>Lewiston/Auburn 2006 3" orthoimagery - As the prime contractor, James W. Sewall Company. used the aerial photography flown in one session on April 9th, 2006. Data were collected at an altitude of 7200' using a 6" Zeiss RMK camera with FMC. The film scale was 1" = 600', scanned at a resolution of 2540dpi (10 microns). Orthophotos were produced to meet ASPRS class 1 specifications for 1"=100' (1:1200) mapping, or a horizontal accuracy of about 1 foot with a 3-inch ground pixel resolution.</stepDesc>
</prcStep>
</dataLineage>
</dqInfo>
<spatRepInfo>
<Georect>
<numDims Sync="TRUE">2</numDims>
<cellGeo>
<CellGeoCd Sync="TRUE" value="002"/>
</cellGeo>
<tranParaAv Sync="TRUE">1</tranParaAv>
<chkPtAv Sync="TRUE">0</chkPtAv>
<cornerPts>
<pos Sync="TRUE">885000.000000 126430.200000</pos>
</cornerPts>
<cornerPts>
<pos Sync="TRUE">885000.000000 157734.150000</pos>
</cornerPts>
<cornerPts>
<pos Sync="TRUE">904220.550000 157734.150000</pos>
</cornerPts>
<cornerPts>
<pos Sync="TRUE">904220.550000 126430.200000</pos>
</cornerPts>
<centerPt>
<pos Sync="TRUE">894610.275000 142082.175000</pos>
</centerPt>
<axisDimension type="002">
<dimSize Sync="TRUE">256274</dimSize>
<dimResol>
<value Sync="TRUE" uom="m">0.075000</value>
</dimResol>
</axisDimension>
<axisDimension type="001">
<dimSize Sync="TRUE">417386</dimSize>
<dimResol>
<value Sync="TRUE" uom="m">0.075000</value>
</dimResol>
</axisDimension>
<ptInPixel>
<PixOrientCd Sync="TRUE" value="001"/>
</ptInPixel>
</Georect>
</spatRepInfo>
<refSysInfo>
<RefSystem>
<refSysID>
<identCode Sync="TRUE" code="26984"/>
<idCodeSpace Sync="TRUE">EPSG</idCodeSpace>
<idVersion Sync="TRUE">6.16(3.0.1)</idVersion>
</refSysID>
</RefSystem>
</refSysInfo>
<contInfo>
<ImgDesc>
<contentTyp>
<ContentTypCd Sync="TRUE" value="001"/>
</contentTyp>
<covDim>
<Band>
<dimDescrp Sync="TRUE">Red</dimDescrp>
<maxVal Sync="TRUE">255.000000</maxVal>
<minVal Sync="TRUE">0.000000</minVal>
<bitsPerVal Sync="TRUE">8</bitsPerVal>
<valUnit>
<UOM type="length"/>
</valUnit>
</Band>
<Band>
<dimDescrp Sync="TRUE">Green</dimDescrp>
<maxVal Sync="TRUE">255.000000</maxVal>
<minVal Sync="TRUE">0.000000</minVal>
<bitsPerVal Sync="TRUE">8</bitsPerVal>
<valUnit>
<UOM type="length"/>
</valUnit>
</Band>
<Band>
<dimDescrp Sync="TRUE">Blue</dimDescrp>
<maxVal Sync="TRUE">255.000000</maxVal>
<minVal Sync="TRUE">0.000000</minVal>
<bitsPerVal Sync="TRUE">8</bitsPerVal>
<valUnit>
<UOM type="length"/>
</valUnit>
</Band>
</covDim>
</ImgDesc>
</contInfo>
<mdDateSt Sync="TRUE">20190807</mdDateSt>
</metadata>
