{ "currentVersion": 11.5, "serviceDescription": "

Maine Statewide Orthoimagery Project - During the spring of 2020 new 4-band (R, G, B, and NIR) aerial imagery was acquired covering the entire project area using Leica ADS digital camera systems. All imagery was collected during the 2022 spring flying season during leaf-off conditions for deciduous vegetation in the State of Maine. The sun angle shall be 25-degrees or greater, and streams should be within their normal banks, unless otherwise negotiated. During flight planning and acquisition, a significant effort is made to limit clouds, snow (please note: small amounts of snow such as piles in parking lots, extreme shaded areas, within dense evergreens or unpopulated northern facing slopes may be acceptable), fog, haze, smoke, or other ground obscuring conditions in the imagery. In no case will the maximum cloud cover exceed 5% per image. Within the immediate areas of power plants, factories, or controlled agricultural burns some steam or smoke and/or shadows may be visible on imagery. Woolpert produced new 8-bit, 4-band stacked color digital orthoimagery files in GeoTIFF format with TFW \u201cworld file\u201d at a 45cm (18-inch), 30cm (12-inch), 15cm (6-inch) and 7.5cm (3-inch).<\/span><\/p>
The Maine GeoLibrary Board has developed a statewide, 5-year, rotating orthoimagery acquisition program for Maine to facilitate state, regional and local government GIS base mapping in an efficient and cost-effective program. The State of Maine will use digital orthoimagery for the development of various base map products in a computerized GIS that will support the needs of the state and multiple stakeholders through applications, such as, multi-jurisdictional homeland security mapping applications, state and county emergency management applications, regional and local planning, state and local public safety applications, economic development and other GIS business objectives.<\/span><\/p><\/div><\/div><\/div>", "serviceItemId": "4eb1642d46994549964d682765c17446", "name": "Municipal/orthoMunicipalSouthPortland2022", "description": "

Maine Statewide Orthoimagery Project - During the spring of 2020 new 4-band (R, G, B, and NIR) aerial imagery was acquired covering the entire project area using Leica ADS digital camera systems. All imagery was collected during the 2022 spring flying season during leaf-off conditions for deciduous vegetation in the State of Maine. The sun angle shall be 25-degrees or greater, and streams should be within their normal banks, unless otherwise negotiated. During flight planning and acquisition, a significant effort is made to limit clouds, snow (please note: small amounts of snow such as piles in parking lots, extreme shaded areas, within dense evergreens or unpopulated northern facing slopes may be acceptable), fog, haze, smoke, or other ground obscuring conditions in the imagery. In no case will the maximum cloud cover exceed 5% per image. Within the immediate areas of power plants, factories, or controlled agricultural burns some steam or smoke and/or shadows may be visible on imagery. Woolpert produced new 8-bit, 4-band stacked color digital orthoimagery files in GeoTIFF format with TFW \u201cworld file\u201d at a 45cm (18-inch), 30cm (12-inch), 15cm (6-inch) and 7.5cm (3-inch).<\/span><\/p>
The Maine GeoLibrary Board has developed a statewide, 5-year, rotating orthoimagery acquisition program for Maine to facilitate state, regional and local government GIS base mapping in an efficient and cost-effective program. The State of Maine will use digital orthoimagery for the development of various base map products in a computerized GIS that will support the needs of the state and multiple stakeholders through applications, such as, multi-jurisdictional homeland security mapping applications, state and county emergency management applications, regional and local planning, state and local public safety applications, economic development and other GIS business objectives.<\/span><\/p><\/div><\/div><\/div>", "extent": { "xmin": 389250, "ymin": 4827750, "xmax": 402375, "ymax": 4834875, "spatialReference": { "wkid": 26919, "latestWkid": 26919 } }, "initialExtent": { "xmin": 389250, "ymin": 4827750, "xmax": 402375, "ymax": 4834875, "spatialReference": { "wkid": 26919, "latestWkid": 26919 } }, "fullExtent": { "xmin": 389250, "ymin": 4827750, "xmax": 402375, "ymax": 4834875, "spatialReference": { "wkid": 26919, "latestWkid": 26919 } }, "sortableFields": "MinPS,MaxPS,LowPS,HighPS,CenterX,CenterY,ZOrder,Shape_Length,Shape_Area,DateBegin,DateEnd,DateIntBegin,DateIntEnd", "bandCount": 4, "pixelType": "U8", "minValues": [ 1, 1, 1, 0 ], "maxValues": [ 255, 255, 255, 255 ], "meanValues": [ 89.22775564118177, 88.83356976024884, 85.20535575763274, 117.9665951934134 ], "stdvValues": [ 45.65141069362133, 40.63547102826237, 37.252583329252026, 54.12559763208598 ], "serviceProperties": "NorthWest<\/MosaicMethod>First<\/MosaicOperator>true<\/SortAscending><\/LockImageID>MinPS<\/TileOrderField><\/TileOrderBase>600.000000<\/AvgImageSpacingX>300.000000<\/AvgImageSpacingY>0.0<\/ViewPointX>0.0<\/ViewPointY>0.0<\/ViewPointDefShiftX>0.0<\/ViewPointDefShiftY>LZ77<\/CompressionMethod>87<\/CompressionQuality>0.010000<\/CompressionTolerance>Bilinear<\/SamplingMethod><\/ImageServiceProperties><\/ImageServer>", "allowedFields": "Name,MinPS,MaxPS,LowPS,HighPS,Tag,GroupName,ProductName,CenterX,CenterY,ZOrder,Shape_Length,Shape_Area,DateBegin,DateEnd,DateIntBegin,DateIntEnd", "hasMultidimensions": false, "pixelSizeX": 0.075, "pixelSizeY": 0.075, "meanPixelSize": 0.075, "datasetFormat": "AMD", "uncompressedSize": 66500000000, "blockWidth": 2048, "blockHeight": 256, "compressionType": "None", "bandNames": [ "Band_1", "Band_2", "Band_3", "Band_4" ], "allowCopy": true, "allowAnalysis": true, "itemAccess": false, "inspectionCapabilities": "", "minPixelSize": 0, "maxPixelSize": 0, "copyrightText": "Maine GeoLibrary", "serviceDataType": "esriImageServiceDataTypeGeneric", "serviceSourceType": "esriImageServiceSourceTypeMosaicDataset", "objectIdField": "OBJECTID", "fields": [ { "name": "OBJECTID", "type": "esriFieldTypeOID", "alias": "OBJECTID", "domain": null }, { "name": "Shape", "type": "esriFieldTypeGeometry", "alias": "Shape", "domain": null }, { "name": "Name", "type": "esriFieldTypeString", "alias": "Name", "domain": null, "length": 200 }, { "name": "MinPS", "type": "esriFieldTypeDouble", "alias": "MinPS", "domain": null }, { "name": "MaxPS", "type": "esriFieldTypeDouble", "alias": "MaxPS", "domain": null }, { "name": "LowPS", "type": "esriFieldTypeDouble", "alias": "LowPS", "domain": null }, { "name": "HighPS", "type": "esriFieldTypeDouble", "alias": "HighPS", "domain": null }, { "name": "Category", "type": "esriFieldTypeInteger", "alias": "Category", "domain": { "type": "codedValue", "name": "MosaicCatalogItemCategoryDomain", "description": "Catalog item categories.", "codedValues": [ { "name": "Unknown", "code": 0 }, { "name": "Primary", "code": 1 }, { "name": "Overview", "code": 2 }, { "name": "Unprocessed Overview", "code": 3 }, { "name": "Partial Overview", "code": 4 }, { "name": "Inactive", "code": 5 }, { "name": "Uploaded", "code": 253 }, { "name": "Incomplete", "code": 254 }, { "name": "Custom", "code": 255 } ], "mergePolicy": "esriMPTDefaultValue", "splitPolicy": "esriSPTDefaultValue" } }, { "name": "Tag", "type": "esriFieldTypeString", "alias": "Tag", "domain": null, "length": 100 }, { "name": "GroupName", "type": "esriFieldTypeString", "alias": "GroupName", "domain": null, "length": 100 }, { "name": "ProductName", "type": "esriFieldTypeString", "alias": "ProductName", "domain": null, "length": 100 }, { "name": "CenterX", "type": "esriFieldTypeDouble", "alias": "CenterX", "domain": null }, { "name": "CenterY", "type": "esriFieldTypeDouble", "alias": "CenterY", "domain": null }, { "name": "ZOrder", "type": "esriFieldTypeInteger", "alias": "ZOrder", "domain": null }, { "name": "Shape_Length", "type": "esriFieldTypeDouble", "alias": "Shape_Length", "domain": null }, { "name": "Shape_Area", "type": "esriFieldTypeDouble", "alias": "Shape_Area", "domain": null }, { "name": "DateBegin", "type": "esriFieldTypeDate", "alias": "DateBegin", "domain": null, "length": 8 }, { "name": "DateEnd", "type": "esriFieldTypeDate", "alias": "DateEnd", "domain": null, "length": 8 }, { "name": "DateIntBegin", "type": "esriFieldTypeSmallInteger", "alias": "DateIntBegin", "domain": null }, { "name": "DateIntEnd", "type": "esriFieldTypeSmallInteger", "alias": "DateIntEnd", "domain": null } ], "capabilities": "Catalog,Pixels,Download,Image,Metadata", "defaultMosaicMethod": "Northwest", "allowedMosaicMethods": "NorthWest,Center,ByAttribute,Nadir,Viewpoint,None", "sortField": "", "sortValue": null, "sortAscending": true, "mosaicOperator": "First", "maxDownloadSizeLimit": 2048, "defaultCompressionQuality": 87, "defaultResamplingMethod": "Bilinear", "maxImageHeight": 4100, "maxImageWidth": 15000, "maxRecordCount": 1000, "maxDownloadImageCount": 20, "maxMosaicImageCount": 20, "allowRasterFunction": true, "rasterFunctionInfos": [ { "name": "None", "description": "Make a Raster or Raster Dataset into a Function Raster Dataset.", "help": "" } ], "rasterTypeInfos": [ { "name": "Raster Dataset", "description": "Supports all ArcGIS Raster Datasets", "help": "" } ], "mensurationCapabilities": "None", "hasHistograms": true, "hasColormap": false, "hasRasterAttributeTable": false, "minScale": 0, "maxScale": 0, "exportTilesAllowed": false, "supportsStatistics": true, "supportsAdvancedQueries": true, "editFieldsInfo": null, "ownershipBasedAccessControlForRasters": null, "allowComputeTiePoints": false, "useStandardizedQueries": true, "advancedQueryCapabilities": { "useStandardizedQueries": true, "supportsStatistics": true, "supportsOrderBy": true, "supportsDistinct": true, "supportsPagination": true }, "spatialReference": { "wkid": 26919, "latestWkid": 26919 }, "resampling": false }