2005 aerial orthophotos at a resolution of 6 inches for York, Maine. Bradstreet Consultants, Inc. used the aerial photography flown in one session on April 18, 2005, at a resolution of 0.5' pixel (similar to 1\"=600'). Bradstreet Consultants, Inc. gathered control points to support full analytical aerotriangulation. The aerotriangulation solution was used to set up each stereopair of photos for orthorectification and DTM compilation. The ortho imagery was rectified from the natural color digial imagery employing a digital terrain model (DTM) and supplemented from updating some town's original DTM and some town's from scratch using the imagery in softcopy (digital) stereoplotter in the Kork KDMS and DAT/EM AutoCAD DWG format.<\/span><\/p><\/div><\/div><\/div>",
"serviceItemId": "4a1390f7cbd249f6a7a4366fa44f2c69",
"name": "Municipal/orthoMunicipalYork2005",
"description": "2005 aerial orthophotos at a resolution of 6 inches for York, Maine. Bradstreet Consultants, Inc. used the aerial photography flown in one session on April 18, 2005, at a resolution of 0.5' pixel (similar to 1\"=600'). Bradstreet Consultants, Inc. gathered control points to support full analytical aerotriangulation. The aerotriangulation solution was used to set up each stereopair of photos for orthorectification and DTM compilation. The ortho imagery was rectified from the natural color digial imagery employing a digital terrain model (DTM) and supplemented from updating some town's original DTM and some town's from scratch using the imagery in softcopy (digital) stereoplotter in the Kork KDMS and DAT/EM AutoCAD DWG format.<\/span><\/p><\/div><\/div><\/div>",
"extent": {
"xmin": 851155.5800000086,
"ymin": 29352.30156251043,
"xmax": 875174.0299999936,
"ymax": 48006.1515624988,
"spatialReference": {
"wkid": 26984,
"latestWkid": 26984,
"vcsWkid": 5703,
"latestVcsWkid": 5703
}
},
"initialExtent": {
"xmin": 851155.5800000086,
"ymin": 29352.30156251043,
"xmax": 875174.0299999936,
"ymax": 48006.1515624988,
"spatialReference": {
"wkid": 26984,
"latestWkid": 26984,
"vcsWkid": 5703,
"latestVcsWkid": 5703
}
},
"fullExtent": {
"xmin": 851155.5800000086,
"ymin": 29352.30156251043,
"xmax": 875174.0299999936,
"ymax": 48006.1515624988,
"spatialReference": {
"wkid": 26984,
"latestWkid": 26984,
"vcsWkid": 5703,
"latestVcsWkid": 5703
}
},
"sortableFields": "MinPS,MaxPS,LowPS,HighPS,CenterX,CenterY,ZOrder,Shape_Length,Shape_Area,Date,DateInt",
"heightModelInfo": {
"heightModel": "gravity_related_height",
"vertCRS": "NAVD_1988",
"heightUnit": "meter"
},
"bandCount": 3,
"pixelType": "U8",
"minValues": [
0,
0,
0
],
"maxValues": [
241,
250,
235
],
"meanValues": [
106.06495526177659,
101.44912781826393,
71.60104735049622
],
"stdvValues": [
33.992364070913105,
32.509561082908874,
27.714927357691586
],
"serviceProperties": "NorthWest<\/MosaicMethod>First<\/MosaicOperator>true<\/SortAscending><\/LockImageID>MinPS<\/TileOrderField>0<\/TileOrderBase>600.000000<\/AvgImageSpacingX>300.000000<\/AvgImageSpacingY>0.0<\/ViewPointX>0.0<\/ViewPointY>0.0<\/ViewPointDefShiftX>0.0<\/ViewPointDefShiftY>LZ77<\/CompressionMethod>87<\/CompressionQuality>0.010000<\/CompressionTolerance>Bilinear<\/SamplingMethod><\/ImageServiceProperties><\/ImageServer>",
"allowedFields": "Name,MinPS,MaxPS,LowPS,HighPS,Tag,GroupName,ProductName,CenterX,CenterY,ZOrder,Shape_Length,Shape_Area,Date,DateInt",
"hasMultidimensions": false,
"timeInfo": {
"startTimeField": "Date",
"endTimeField": "Date",
"timeExtent": [
1113782400000,
1113782400000
],
"timeReference": null,
"defaultTimeInterval": 2,
"defaultTimeIntervalUnits": "esriTimeUnitsDays"
},
"pixelSizeX": 0.14999999999990665,
"pixelSizeY": 0.14999999999990649,
"meanPixelSize": 0.14999999999990657,
"datasetFormat": "AMD",
"uncompressedSize": 59738208471,
"blockWidth": 2048,
"blockHeight": 256,
"compressionType": "None",
"bandNames": [
"Red",
"Green",
"Blue"
],
"allowCopy": true,
"allowAnalysis": true,
"itemAccess": false,
"inspectionCapabilities": "",
"minPixelSize": 0,
"maxPixelSize": 0,
"copyrightText": "Maine GeoLibrary",
"serviceDataType": "esriImageServiceDataTypeRGB",
"serviceSourceType": "esriImageServiceSourceTypeMosaicDataset",
"objectIdField": "OBJECTID",
"fields": [
{
"name": "OBJECTID",
"type": "esriFieldTypeOID",
"alias": "OBJECTID",
"domain": null
},
{
"name": "Shape",
"type": "esriFieldTypeGeometry",
"alias": "Shape",
"domain": null
},
{
"name": "Name",
"type": "esriFieldTypeString",
"alias": "Name",
"domain": null,
"length": 200
},
{
"name": "MinPS",
"type": "esriFieldTypeDouble",
"alias": "MinPS",
"domain": null
},
{
"name": "MaxPS",
"type": "esriFieldTypeDouble",
"alias": "MaxPS",
"domain": null
},
{
"name": "LowPS",
"type": "esriFieldTypeDouble",
"alias": "LowPS",
"domain": null
},
{
"name": "HighPS",
"type": "esriFieldTypeDouble",
"alias": "HighPS",
"domain": null
},
{
"name": "Category",
"type": "esriFieldTypeInteger",
"alias": "Category",
"domain": {
"type": "codedValue",
"name": "MosaicCatalogItemCategoryDomain",
"description": "Catalog item categories.",
"codedValues": [
{
"name": "Unknown",
"code": 0
},
{
"name": "Primary",
"code": 1
},
{
"name": "Overview",
"code": 2
},
{
"name": "Unprocessed Overview",
"code": 3
},
{
"name": "Partial Overview",
"code": 4
},
{
"name": "Inactive",
"code": 5
},
{
"name": "Uploaded",
"code": 253
},
{
"name": "Incomplete",
"code": 254
},
{
"name": "Custom",
"code": 255
}
],
"mergePolicy": "esriMPTDefaultValue",
"splitPolicy": "esriSPTDefaultValue"
}
},
{
"name": "Tag",
"type": "esriFieldTypeString",
"alias": "Tag",
"domain": null,
"length": 100
},
{
"name": "GroupName",
"type": "esriFieldTypeString",
"alias": "GroupName",
"domain": null,
"length": 100
},
{
"name": "ProductName",
"type": "esriFieldTypeString",
"alias": "ProductName",
"domain": null,
"length": 100
},
{
"name": "CenterX",
"type": "esriFieldTypeDouble",
"alias": "CenterX",
"domain": null
},
{
"name": "CenterY",
"type": "esriFieldTypeDouble",
"alias": "CenterY",
"domain": null
},
{
"name": "ZOrder",
"type": "esriFieldTypeInteger",
"alias": "ZOrder",
"domain": null
},
{
"name": "Shape_Length",
"type": "esriFieldTypeDouble",
"alias": "Shape_Length",
"domain": null
},
{
"name": "Shape_Area",
"type": "esriFieldTypeDouble",
"alias": "Shape_Area",
"domain": null
},
{
"name": "Date",
"type": "esriFieldTypeDate",
"alias": "Date",
"domain": null,
"length": 8
},
{
"name": "DateInt",
"type": "esriFieldTypeSmallInteger",
"alias": "DateInt",
"domain": null
}
],
"capabilities": "Catalog,Image,Metadata",
"defaultMosaicMethod": "Northwest",
"allowedMosaicMethods": "NorthWest,Center,ByAttribute,Nadir,Viewpoint,None",
"sortField": "",
"sortValue": null,
"sortAscending": true,
"mosaicOperator": "First",
"maxDownloadSizeLimit": 2048,
"defaultCompressionQuality": 87,
"defaultResamplingMethod": "Bilinear",
"maxImageHeight": 4100,
"maxImageWidth": 15000,
"maxRecordCount": 1000,
"maxDownloadImageCount": 20,
"maxMosaicImageCount": 20,
"allowRasterFunction": true,
"rasterFunctionInfos": [
{
"name": "None",
"description": "A No-Op Function.",
"help": ""
}
],
"rasterTypeInfos": [
{
"name": "Raster Dataset",
"description": "Supports all ArcGIS Raster Datasets",
"help": ""
}
],
"mensurationCapabilities": "None",
"hasHistograms": true,
"hasColormap": false,
"hasRasterAttributeTable": false,
"minScale": 0,
"maxScale": 0,
"exportTilesAllowed": false,
"supportsStatistics": true,
"supportsAdvancedQueries": true,
"editFieldsInfo": null,
"ownershipBasedAccessControlForRasters": null,
"allowComputeTiePoints": false,
"useStandardizedQueries": true,
"advancedQueryCapabilities": {
"useStandardizedQueries": true,
"supportsStatistics": true,
"supportsOrderBy": true,
"supportsDistinct": true,
"supportsPagination": true
},
"spatialReference": {
"wkid": 26984,
"latestWkid": 26984,
"vcsWkid": 5703,
"latestVcsWkid": 5703
},
"resampling": false
}