{
 "currentVersion": 11.5,
 "serviceDescription": "The National Agriculture Imagery Program (NAIP) is administered by the U.S. Department of Agriculture's Farm Production and Conservation Business Center (FPAC-BC) Geospatial Enterprise Operations (GEO) Branch. NAIP acquires aerial imagery for the contiguous United States (CONUS) during the agricultural growing season, or leaf-on conditions and may contain as much as 10 percent cloud cover per tile. The images are orthorectified which combines the image characteristics of an aerial photograph with the georeferenced qualities of a map. NAIP acquisition from 2002-2017 was at a ground sample distance (GSD) of 1 or 2-meter. In 2018, the ground sample distance standard changed to 0.6 meter with the option for 0.3 meter. The 2025 acquisition consists of approximately half of the states delivered at 60cm and the other half at 30cm ground sample distance. The repeat flying cycle has also changed to no more than a 3-year cycle (generally every other year for most states) from its 5-year cycle back in 2003-2009. Each individual image tile is based on a 3.75-minute longitude by 3.75-minute latitude quarter quadrangle, originally with a 300-meter buffer on all four sides. In 2024 the buffer was changed to 12-meters on all four sides. Tiles in the NAIP collection are natural color (red, green, and blue bands) or color near infrared (red, green, blue, and near infrared bands). These data are a subset of NAIP 2018 covering the extent of the State of Maine with a Spatial Reference System projection in EPSG 26919",
 "serviceItemId": "f394ef52fde24f96866777363eb9efe1",
 "name": "NAIP/orthoNaip2018",
 "description": "The National Agriculture Imagery Program (NAIP) is administered by the U.S. Department of Agriculture's Farm Production and Conservation Business Center (FPAC-BC) Geospatial Enterprise Operations (GEO) Branch. NAIP acquires aerial imagery for the contiguous United States (CONUS) during the agricultural growing season, or leaf-on conditions and may contain as much as 10 percent cloud cover per tile. The images are orthorectified which combines the image characteristics of an aerial photograph with the georeferenced qualities of a map. NAIP acquisition from 2002-2017 was at a ground sample distance (GSD) of 1 or 2-meter. In 2018, the ground sample distance standard changed to 0.6 meter with the option for 0.3 meter. The 2025 acquisition consists of approximately half of the states delivered at 60cm and the other half at 30cm ground sample distance. The repeat flying cycle has also changed to no more than a 3-year cycle (generally every other year for most states) from its 5-year cycle back in 2003-2009. Each individual image tile is based on a 3.75-minute longitude by 3.75-minute latitude quarter quadrangle, originally with a 300-meter buffer on all four sides. In 2024 the buffer was changed to 12-meters on all four sides. Tiles in the NAIP collection are natural color (red, green, and blue bands) or color near infrared (red, green, blue, and near infrared bands). These data are a subset of NAIP 2018 covering the extent of the State of Maine with a Spatial Reference System projection in EPSG 26919",
 "extent": {
  "xmin": 332217,
  "ymin": 4754758.200000026,
  "xmax": 663602.3999999835,
  "ymax": 5261059.800000001,
  "spatialReference": {
   "wkid": 26919,
   "latestWkid": 26919
  }
 },
 "initialExtent": {
  "xmin": 332217,
  "ymin": 4754758.200000026,
  "xmax": 663602.3999999835,
  "ymax": 5261059.800000001,
  "spatialReference": {
   "wkid": 26919,
   "latestWkid": 26919
  }
 },
 "fullExtent": {
  "xmin": 332217,
  "ymin": 4754758.200000026,
  "xmax": 663602.3999999835,
  "ymax": 5261059.800000001,
  "spatialReference": {
   "wkid": 26919,
   "latestWkid": 26919
  }
 },
 "sortableFields": "MinPS,MaxPS,LowPS,HighPS,CenterX,CenterY,ZOrder,Shape_Length,Shape_Area,DateBegin,DateEnd,DateIntBegin,DateIntEnd",
 "bandCount": 4,
 "pixelType": "U8",
 "minValues": [
  0,
  0,
  0,
  0
 ],
 "maxValues": [
  255,
  255,
  255,
  255
 ],
 "meanValues": [
  80.9037595562821,
  102.23940147864931,
  74.04751485096213,
  120.34914401973141
 ],
 "stdvValues": [
  40.19035943942595,
  44.697676486098814,
  28.026702886571968,
  57.854368726812396
 ],
 "serviceProperties": "NorthWest<\/MosaicMethod>First<\/MosaicOperator>true<\/SortAscending><\/LockImageID>MinPS<\/TileOrderField>0<\/TileOrderBase>600.000000<\/AvgImageSpacingX>300.000000<\/AvgImageSpacingY>0.0<\/ViewPointX>0.0<\/ViewPointY>0.0<\/ViewPointDefShiftX>0.0<\/ViewPointDefShiftY>JPEG<\/CompressionMethod>87<\/CompressionQuality>0.010000<\/CompressionTolerance>Bilinear<\/SamplingMethod><\/ImageServiceProperties><\/ImageServer>",
 "allowedFields": "Name,MinPS,MaxPS,LowPS,HighPS,Tag,GroupName,ProductName,CenterX,CenterY,ZOrder,Shape_Length,Shape_Area,DateBegin,DateEnd,DateIntBegin,DateIntEnd",
 "hasMultidimensions": false,
 "timeInfo": {
  "startTimeField": "DateIntBegin",
  "endTimeField": "DateIntEnd",
  "timeExtent": [
   1514764800000,
   1546300800000
  ],
  "timeReference": null
 },
 "pixelSizeX": 0.5999999999999701,
 "pixelSizeY": 0.5999999999999698,
 "meanPixelSize": 0.5999999999999699,
 "datasetFormat": "AMD",
 "uncompressedSize": 1864232869296,
 "blockWidth": 2048,
 "blockHeight": 256,
 "compressionType": "None",
 "bandNames": [
  "Red",
  "Green",
  "Blue",
  "Infrared"
 ],
 "allowCopy": false,
 "allowAnalysis": true,
 "itemAccess": false,
 "inspectionCapabilities": "",
 "minPixelSize": 0,
 "maxPixelSize": 0,
 "copyrightText": "USDA FPAC-BC-GEO",
 "serviceDataType": "esriImageServiceDataTypeProcessed",
 "serviceSourceType": "esriImageServiceSourceTypeMosaicDataset",
 "objectIdField": "OBJECTID",
 "fields": [
  {
   "name": "OBJECTID",
   "type": "esriFieldTypeOID",
   "alias": "OBJECTID",
   "domain": null
  },
  {
   "name": "Shape",
   "type": "esriFieldTypeGeometry",
   "alias": "Shape",
   "domain": null
  },
  {
   "name": "Name",
   "type": "esriFieldTypeString",
   "alias": "Name",
   "domain": null,
   "length": 200
  },
  {
   "name": "MinPS",
   "type": "esriFieldTypeDouble",
   "alias": "MinPS",
   "domain": null
  },
  {
   "name": "MaxPS",
   "type": "esriFieldTypeDouble",
   "alias": "MaxPS",
   "domain": null
  },
  {
   "name": "LowPS",
   "type": "esriFieldTypeDouble",
   "alias": "LowPS",
   "domain": null
  },
  {
   "name": "HighPS",
   "type": "esriFieldTypeDouble",
   "alias": "HighPS",
   "domain": null
  },
  {
   "name": "Category",
   "type": "esriFieldTypeInteger",
   "alias": "Category",
   "domain": {
    "type": "codedValue",
    "name": "MosaicCatalogItemCategoryDomain",
    "description": "Catalog item categories.",
    "codedValues": [
     {
      "name": "Unknown",
      "code": 0
     },
     {
      "name": "Primary",
      "code": 1
     },
     {
      "name": "Overview",
      "code": 2
     },
     {
      "name": "Unprocessed Overview",
      "code": 3
     },
     {
      "name": "Partial Overview",
      "code": 4
     },
     {
      "name": "Inactive",
      "code": 5
     },
     {
      "name": "Uploaded",
      "code": 253
     },
     {
      "name": "Incomplete",
      "code": 254
     },
     {
      "name": "Custom",
      "code": 255
     }
    ],
    "mergePolicy": "esriMPTDefaultValue",
    "splitPolicy": "esriSPTDefaultValue"
   }
  },
  {
   "name": "Tag",
   "type": "esriFieldTypeString",
   "alias": "Tag",
   "domain": null,
   "length": 100
  },
  {
   "name": "GroupName",
   "type": "esriFieldTypeString",
   "alias": "GroupName",
   "domain": null,
   "length": 100
  },
  {
   "name": "ProductName",
   "type": "esriFieldTypeString",
   "alias": "ProductName",
   "domain": null,
   "length": 100
  },
  {
   "name": "CenterX",
   "type": "esriFieldTypeDouble",
   "alias": "CenterX",
   "domain": null
  },
  {
   "name": "CenterY",
   "type": "esriFieldTypeDouble",
   "alias": "CenterY",
   "domain": null
  },
  {
   "name": "ZOrder",
   "type": "esriFieldTypeInteger",
   "alias": "ZOrder",
   "domain": null
  },
  {
   "name": "Shape_Length",
   "type": "esriFieldTypeDouble",
   "alias": "Shape_Length",
   "domain": null
  },
  {
   "name": "Shape_Area",
   "type": "esriFieldTypeDouble",
   "alias": "Shape_Area",
   "domain": null
  },
  {
   "name": "DateBegin",
   "type": "esriFieldTypeDate",
   "alias": "DateBegin",
   "domain": null,
   "length": 8
  },
  {
   "name": "DateEnd",
   "type": "esriFieldTypeDate",
   "alias": "DateEnd",
   "domain": null,
   "length": 8
  },
  {
   "name": "DateIntBegin",
   "type": "esriFieldTypeSmallInteger",
   "alias": "DateIntBegin",
   "domain": null
  },
  {
   "name": "DateIntEnd",
   "type": "esriFieldTypeSmallInteger",
   "alias": "DateIntEnd",
   "domain": null
  }
 ],
 "capabilities": "Catalog,Pixels,Image,Metadata",
 "defaultMosaicMethod": "Northwest",
 "allowedMosaicMethods": "NorthWest,Center,ByAttribute,Nadir,Viewpoint,None",
 "sortField": "",
 "sortValue": null,
 "sortAscending": true,
 "mosaicOperator": "First",
 "maxDownloadSizeLimit": 0,
 "defaultCompressionQuality": 87,
 "defaultResamplingMethod": "Bilinear",
 "maxImageHeight": 4100,
 "maxImageWidth": 15000,
 "maxRecordCount": 1000,
 "maxDownloadImageCount": 0,
 "maxMosaicImageCount": 24,
 "allowRasterFunction": true,
 "rasterFunctionInfos": [
  {
   "name": "None",
   "description": "",
   "help": ""
  }
 ],
 "rasterTypeInfos": [
  {
   "name": "Raster Dataset",
   "description": "Supports all ArcGIS Raster Datasets",
   "help": ""
  }
 ],
 "mensurationCapabilities": "None",
 "hasHistograms": true,
 "hasColormap": false,
 "hasRasterAttributeTable": false,
 "minScale": 0,
 "maxScale": 0,
 "exportTilesAllowed": false,
 "supportsStatistics": true,
 "supportsAdvancedQueries": true,
 "editFieldsInfo": null,
 "ownershipBasedAccessControlForRasters": null,
 "allowComputeTiePoints": false,
 "useStandardizedQueries": true,
 "advancedQueryCapabilities": {
  "useStandardizedQueries": true,
  "supportsStatistics": true,
  "supportsOrderBy": true,
  "supportsDistinct": true,
  "supportsPagination": true
 },
 "spatialReference": {
  "wkid": 26919,
  "latestWkid": 26919
 },
 "resampling": false
}
