<?xml version="1.0" encoding="UTF-8" standalone="no"?>
<metadata xml:lang="en">
<Esri>
<CreaDate>20201203</CreaDate>
<CreaTime>15590900</CreaTime>
<ArcGISFormat>1.0</ArcGISFormat>
<SyncOnce>FALSE</SyncOnce>
<DataProperties>
<lineage>
<Process Date="20201203" Name="" Time="155909" ToolSource="c:\program files\arcgis\pro\Resources\ArcToolbox\toolboxes\Data Management Tools.tbx\CreateMosaicDataset" export="">CreateMosaicDataset \\stgisdataprd001.file.core.windows.net\gisprd1gisdata\svcFgdb\megis\oiRegional2014.gdb oiRegional2014 PROJCS['NAD_1983_UTM_Zone_19N',GEOGCS['GCS_North_American_1983',DATUM['D_North_American_1983',SPHEROID['GRS_1980',6378137.0,298.257222101]],PRIMEM['Greenwich',0.0],UNIT['Degree',0.0174532925199433]],PROJECTION['Transverse_Mercator'],PARAMETER['False_Easting',500000.0],PARAMETER['False_Northing',0.0],PARAMETER['Central_Meridian',-69.0],PARAMETER['Scale_Factor',0.9996],PARAMETER['Latitude_Of_Origin',0.0],UNIT['Meter',1.0]] 4 "8-bit unsigned" "Natural color and infrared" "Red 630 690;Green 530 570;Blue 440 510;Infrared 770 830"</Process>
<Process Date="20201204" Name="" Time="145332" ToolSource="d:\program files\arcgis\pro\Resources\ArcToolbox\toolboxes\Data Management Tools.tbx\AddRastersToMosaicDataset" export="">AddRastersToMosaicDataset \\stgisdataprd001.file.core.windows.net\gisprd1gisdata\svcFgdb\megis\oiRegional2014.gdb\oiRegional2014 "Raster Dataset" \\stgisimgprd001.file.core.windows.net\gisdata\megis\ras\ortho\ortho2014\Geotiff\60cm UPDATE_CELL_SIZES UPDATE_BOUNDARY NO_OVERVIEWS # 0 1500 "PROJCS['NAD_1983_UTM_Zone_19N',GEOGCS['GCS_North_American_1983',DATUM['D_North_American_1983',SPHEROID['GRS_1980',6378137.0,298.257222101]],PRIMEM['Greenwich',0.0],UNIT['Degree',0.0174532925199433]],PROJECTION['Transverse_Mercator'],PARAMETER['False_Easting',500000.0],PARAMETER['False_Northing',0.0],PARAMETER['Central_Meridian',-69.0],PARAMETER['Scale_Factor',0.9996],PARAMETER['Latitude_Of_Origin',0.0],UNIT['Meter',1.0]];-5120900 -9998100 10000;-100000 10000;-100000 10000;0.001;0.001;0.001;IsHighPrecision" # SUBFOLDERS "Overwrite duplicates" NO_PYRAMIDS CALCULATE_STATISTICS NO_THUMBNAILS # NO_FORCE_SPATIAL_REFERENCE NO_STATISTICS # NO_PIXEL_CACHE C:\Users\t.metzler\AppData\Local\ESRI\rasterproxies\oiRegional2014</Process>
<Process Date="20201206" Name="" Time="045038" ToolSource="d:\program files\arcgis\pro\Resources\ArcToolbox\toolboxes\Data Management Tools.tbx\BuildPyramidsandStatistics" export="">BuildPyramidsandStatistics \\stgisdataprd001.file.core.windows.net\gisprd1gisdata\svcFgdb\megis\oiRegional2014.gdb\oiRegional2014 INCLUDE_SUBDIRECTORIES NONE CALCULATE_STATISTICS BUILD_ON_SOURCE # ESTIMATE_STATISTICS 1 1 # 0 NONE "Nearest neighbor" Default 75 SKIP_EXISTING # NONE</Process>
</lineage>
<itemProps>
<imsContentType export="False">002</imsContentType>
<itemName Sync="TRUE">oiRegional2014</itemName>
<itemLocation>
<linkage Sync="TRUE">file://\\stgisdataprd001.file.core.windows.net\gisprd1gisdata\svcFgdb\megis\oiRegional2014.gdb</linkage>
<protocol Sync="TRUE">Local Area Network</protocol>
</itemLocation>
<nativeExtBox>
<westBL Sync="TRUE">471000.000000</westBL>
<eastBL Sync="TRUE">585000.000000</eastBL>
<southBL Sync="TRUE">4880500.000000</southBL>
<northBL Sync="TRUE">5014000.000000</northBL>
<exTypeCode Sync="TRUE">1</exTypeCode>
</nativeExtBox>
</itemProps>
<coordRef>
<type Sync="TRUE">Projected</type>
<geogcsn Sync="TRUE">GCS_North_American_1983</geogcsn>
<csUnits Sync="TRUE">Linear Unit: Meter (1.000000)</csUnits>
<projcsn Sync="TRUE">NAD_1983_UTM_Zone_19N</projcsn>
<peXml Sync="TRUE">&lt;ProjectedCoordinateSystem xsi:type='typens:ProjectedCoordinateSystem' xmlns:xsi='http://www.w3.org/2001/XMLSchema-instance' xmlns:xs='http://www.w3.org/2001/XMLSchema' xmlns:typens='http://www.esri.com/schemas/ArcGIS/2.6.0'&gt;&lt;WKT&gt;PROJCS[&amp;quot;NAD_1983_UTM_Zone_19N&amp;quot;,GEOGCS[&amp;quot;GCS_North_American_1983&amp;quot;,DATUM[&amp;quot;D_North_American_1983&amp;quot;,SPHEROID[&amp;quot;GRS_1980&amp;quot;,6378137.0,298.257222101]],PRIMEM[&amp;quot;Greenwich&amp;quot;,0.0],UNIT[&amp;quot;Degree&amp;quot;,0.0174532925199433]],PROJECTION[&amp;quot;Transverse_Mercator&amp;quot;],PARAMETER[&amp;quot;False_Easting&amp;quot;,500000.0],PARAMETER[&amp;quot;False_Northing&amp;quot;,0.0],PARAMETER[&amp;quot;Central_Meridian&amp;quot;,-69.0],PARAMETER[&amp;quot;Scale_Factor&amp;quot;,0.9996],PARAMETER[&amp;quot;Latitude_Of_Origin&amp;quot;,0.0],UNIT[&amp;quot;Meter&amp;quot;,1.0],AUTHORITY[&amp;quot;EPSG&amp;quot;,26919]]&lt;/WKT&gt;&lt;XOrigin&gt;-5120900&lt;/XOrigin&gt;&lt;YOrigin&gt;-9998100&lt;/YOrigin&gt;&lt;XYScale&gt;450445547.3910538&lt;/XYScale&gt;&lt;ZOrigin&gt;-100000&lt;/ZOrigin&gt;&lt;ZScale&gt;10000&lt;/ZScale&gt;&lt;MOrigin&gt;-100000&lt;/MOrigin&gt;&lt;MScale&gt;10000&lt;/MScale&gt;&lt;XYTolerance&gt;0.001&lt;/XYTolerance&gt;&lt;ZTolerance&gt;0.001&lt;/ZTolerance&gt;&lt;MTolerance&gt;0.001&lt;/MTolerance&gt;&lt;HighPrecision&gt;true&lt;/HighPrecision&gt;&lt;WKID&gt;26919&lt;/WKID&gt;&lt;LatestWKID&gt;26919&lt;/LatestWKID&gt;&lt;/ProjectedCoordinateSystem&gt;</peXml>
</coordRef>
<RasterProperties>
<General>
<PixelDepth Sync="TRUE">8</PixelDepth>
<HasColormap Sync="TRUE">FALSE</HasColormap>
<CompressionType Sync="TRUE">None</CompressionType>
<NumBands Sync="TRUE">4</NumBands>
<Format Sync="TRUE">AMD</Format>
<HasPyramids Sync="TRUE">TRUE</HasPyramids>
<SourceType Sync="TRUE">continuous</SourceType>
<PixelType Sync="TRUE">unsigned integer</PixelType>
<NoDataValue Sync="TRUE"/>
</General>
<Properties>
<MaxImageHeight Sync="TRUE">4100</MaxImageHeight>
<MaxImageWidth Sync="TRUE">15000</MaxImageWidth>
<MaxRecordCount Sync="TRUE">1000</MaxRecordCount>
<MaxDownloadImageCount Sync="TRUE">20</MaxDownloadImageCount>
<MaxDownloadSizeLimit Sync="TRUE">2048</MaxDownloadSizeLimit>
<MaxMosaicImageCount Sync="TRUE">20</MaxMosaicImageCount>
<DefaultCompressionQuality Sync="TRUE">87</DefaultCompressionQuality>
<DefaultCompressionTolerance Sync="TRUE">0.01</DefaultCompressionTolerance>
<BlendWidth Sync="TRUE">10</BlendWidth>
<ViewpointSpacingX Sync="TRUE">600</ViewpointSpacingX>
<ViewpointSpacingY Sync="TRUE">300</ViewpointSpacingY>
<AllowedItemMetadata Sync="TRUE">Basic</AllowedItemMetadata>
<DefaultResamplingMethod Sync="TRUE">1</DefaultResamplingMethod>
<AllowedMosaicMethods Sync="TRUE">NorthWest,Center,ByAttribute,Nadir,Viewpoint,None</AllowedMosaicMethods>
<AllowedCompressions Sync="TRUE">LZ77,None,JPEG,LERC</AllowedCompressions>
<AllowedMensurationCapabilities Sync="TRUE">None</AllowedMensurationCapabilities>
<AvailableMensurationCapabilities Sync="TRUE">None,Basic,Base-Top Height,Top-Top Shadow Height,Base-Top Shadow Height,3D</AvailableMensurationCapabilities>
<ClipToBoundary Sync="TRUE">-1</ClipToBoundary>
<FootprintMayContainNoData Sync="TRUE">-1</FootprintMayContainNoData>
<CellSizeTolerance Sync="TRUE">0.8</CellSizeTolerance>
<MinimumPixelContribution Sync="TRUE">1</MinimumPixelContribution>
<AvailableMosaicMethods Sync="TRUE">NorthWest,Center,LockRaster,ByAttribute,Nadir,Viewpoint,Seamline,None</AvailableMosaicMethods>
<AvailableCompressionMethods Sync="TRUE">None,JPEG,LZ77,LERC</AvailableCompressionMethods>
<AvailableItemMetadataLevels Sync="TRUE">None,Basic,Full</AvailableItemMetadataLevels>
<BandDefinitionKeyword Sync="TRUE">NaturalColorRGBI</BandDefinitionKeyword>
<_docversion_ Sync="TRUE">10</_docversion_>
<AllowedFields Sync="TRUE">Name,MinPS,MaxPS,LowPS,HighPS,Tag,GroupName,ProductName,CenterX,CenterY,ZOrder,Shape_Length,Shape_Area,DateBegin,DateEnd,DateIntBegin,DateIntEnd</AllowedFields>
<LowCellSize Sync="TRUE">0.075</LowCellSize>
<HighCellSize Sync="TRUE">437.4</HighCellSize>
<MaxCellSize Sync="TRUE">21870</MaxCellSize>
<DataType Sync="TRUE">Processed</DataType>
<AvailableFields Sync="TRUE">Name,MinPS,MaxPS,LowPS,HighPS,Tag,GroupName,ProductName,CenterX,CenterY,ZOrder,Shape_Length,Shape_Area</AvailableFields>
<SortableFields Sync="TRUE">MinPS,MaxPS,LowPS,HighPS,CenterX,CenterY,ZOrder,Shape_Length,Shape_Area</SortableFields>
<SortAscending Sync="TRUE">-1</SortAscending>
<MosaicOperator Sync="TRUE">1</MosaicOperator>
<BlendWidthUnits Sync="TRUE">1</BlendWidthUnits>
<ClipToFootprint Sync="TRUE">0</ClipToFootprint>
<ClipOverviewsToFootprint Sync="TRUE">0</ClipOverviewsToFootprint>
<HasDodgingTable Sync="TRUE">0</HasDodgingTable>
<ApplyColorCorrection Sync="TRUE">0</ApplyColorCorrection>
<UseTime Sync="TRUE">0</UseTime>
<StartTimeFieldName Sync="TRUE"/>
<EndTimeFieldName Sync="TRUE"/>
<TimeValueFormat Sync="TRUE"/>
<UseRange Sync="TRUE">0</UseRange>
<TimeInterval Sync="TRUE"/>
<TimeIntervalUnits Sync="TRUE"/>
<SortField Sync="TRUE">MinPS</SortField>
<SortValue Sync="TRUE">0</SortValue>
<TimeStamp.RemoveItems Sync="TRUE">44173.6518555671</TimeStamp.RemoveItems>
<TimeStamp.UpdateExtent Sync="TRUE">44173.7523481829</TimeStamp.UpdateExtent>
<PixelCacheLocation Sync="TRUE">C:\Users\t.metzler\AppData\Local\ESRI\rasterproxies\oiRegional2014</PixelCacheLocation>
<VerticalDimension Sync="TRUE"/>
<FlowDirection Sync="TRUE"/>
</Properties>
<Functions Sync="TRUE">
<Function Description="Performs on-the-fly mosaic on a raster catalog." Name="Mosaic Function"/>
</Functions>
</RasterProperties>
</DataProperties>
<SyncDate>20201210</SyncDate>
<SyncTime>04444500</SyncTime>
<ModDate>20201210</ModDate>
<ModTime>4513800</ModTime>
<scaleRange>
<minScale>150000000</minScale>
<maxScale>5000</maxScale>
</scaleRange>
</Esri>
<mdChar>
<CharSetCd value="004"/>
</mdChar>
<mdHrLv>
<ScopeCd value="005"/>
</mdHrLv>
<mdContact>
<rpOrgName>State of Maine, Office of Information Technology</rpOrgName>
<rpPosName>State GIS Manager, Maine Office of GIS</rpPosName>
<rpCntInfo>
<cntPhone>
<voiceNum>(207)215-5530</voiceNum>
</cntPhone>
<cntAddress addressType="both">
<delPoint>State House Station 174, 264 Civic Center Drive</delPoint>
<city>Augusta</city>
<adminArea>ME</adminArea>
<postCode>04333-0174</postCode>
<country>US</country>
</cntAddress>
</rpCntInfo>
<role>
<RoleCd value="007"/>
</role>
</mdContact>
<mdDateSt Sync="TRUE">20201210</mdDateSt>
<mdStanName>ArcGIS Metadata</mdStanName>
<mdStanVer>1.0</mdStanVer>
<dataIdInfo>
<idCitation>
<resTitle>orthoRegional2014</resTitle>
<date>
<pubDate time="unknown">2014-10-02</pubDate>
</date>
<citRespParty>
<rpOrgName>STATE OF MAINE, OFFICE OF INFORMATION TECHNOLOGY</rpOrgName>
<role>
<RoleCd value="006"/>
</role>
</citRespParty>
<presForm>
<PresFormCd Sync="TRUE" value="005"/>
</presForm>
</idCitation>
<idAbs>&lt;DIV STYLE="text-align:Left;"&gt;&lt;DIV&gt;&lt;DIV&gt;&lt;P&gt;&lt;SPAN&gt;The Maine GeoLibrary Board has developed a statewide, 5-year, rotating orthoimagery acquisition program for Maine to facilitate state, regional and local government GIS base mapping in an efficient and cost effective program. The State of Maine will use digital orthoimagery for the development of various base map products in a computerized GIS that will support the needs of the state and multiple stakeholders through applications, such as, multi-jurisdictional homeland security mapping applications, state and county emergency management applications, regional and local planning, state and local public safety applications, economic development and other GIS business objectives. Maine Statewide Orthoimagery Project - All imagery was collected during the 2014 Spring flying season during leaf-off conditions for deciduous vegetation in the State of Maine. The sun angle was at 30-degrees or greater, and streams were within their normal banks. During the flight planning and acquisition, a significant effort was made to limit clouds, snow, fog, haze, smoke, or other ground obscuring conditions in the imagery. In no case does the maximum cloud cover exceed 5% per image. Within the immediate areas of power plants, factories, or controlled agricultural burns some steam or smoke and/or shadows may be visible on imagery.&lt;/SPAN&gt;&lt;/P&gt;&lt;/DIV&gt;&lt;/DIV&gt;&lt;/DIV&gt;</idAbs>
<idStatus>
<ProgCd value="001"/>
</idStatus>
<idPoC>
<rpOrgName>State of Maine, Office of Information Technology</rpOrgName>
<rpPosName>State GIS Manager, Maine Office of GIS</rpPosName>
<rpCntInfo>
<cntPhone>
<voiceNum>(207)215-5530</voiceNum>
</cntPhone>
<cntAddress addressType="both">
<delPoint>State House Station 174, 264 Civic Center Drive</delPoint>
<city>Augusta</city>
<adminArea>ME</adminArea>
<postCode>04333-0174</postCode>
<country>US</country>
</cntAddress>
</rpCntInfo>
<role>
<RoleCd value="007"/>
</role>
</idPoC>
<resMaint>
<maintFreq>
<MaintFreqCd value="009"/>
</maintFreq>
</resMaint>
<themeKeys>
<keyword>imageryBaseMapsEarthCover</keyword>
<keyword>orthoimagery</keyword>
<keyword>orthophotography</keyword>
</themeKeys>
<searchKeys>
<keyword>imageryBaseMapsEarthCover</keyword>
<keyword>ortho</keyword>
<keyword>orthoimagery</keyword>
<keyword>orthophotography</keyword>
<keyword>orthoRegional2104</keyword>
<keyword>oiRegional2014</keyword>
<keyword>2014</keyword>
<keyword>Maine</keyword>
<keyword>MaineGeoLibrary</keyword>
</searchKeys>
<resConst>
<Consts>
<useLimit>&lt;DIV STYLE="text-align:Left;"&gt;&lt;DIV&gt;&lt;DIV&gt;&lt;P&gt;&lt;SPAN&gt;Access: Public. Use: User accepts risk.&lt;/SPAN&gt;&lt;/P&gt;&lt;/DIV&gt;&lt;/DIV&gt;&lt;/DIV&gt;</useLimit>
</Consts>
</resConst>
<resConst>
<LegConsts>
<useLimit>Woolpert prepared the original data as set forth in the Scope of Services, in accordance with reasonable care and due diligence as set forth in this Agreement, however, due to the easily alterable nature of electronic media, files, documents, and other deliverables, Woolpert, Inc. makes no warranties, either expressed or implied, with respect to the accuracy, completeness, merchantability, or fitness for any particular purpose, including, but not limited to, use of any/all data as described within this metadata file, by any user of this data. Any use will be at the end-user's sole risk.</useLimit>
<accessConsts>
<RestrictCd value="008"/>
</accessConsts>
<othConsts>No restrictions apply to this data.</othConsts>
</LegConsts>
</resConst>
<resConst>
<SecConsts>
<class>
<ClasscationCd value="001"/>
</class>
<classSys>Unclassified</classSys>
<handDesc>Unclassified</handDesc>
</SecConsts>
</resConst>
<spatRpType>
<SpatRepTypCd value="002"/>
</spatRpType>
<envirDesc>Microsoft Windows 7 Version 6.1 (Build 7600)</envirDesc>
<dataExt>
<geoEle>
<GeoBndBox>
<exTypeCode>true</exTypeCode>
<westBL>-69.436025</westBL>
<eastBL>-67.828822</eastBL>
<northBL>45.280392</northBL>
<southBL>44.010700</southBL>
</GeoBndBox>
</geoEle>
<exDesc>ground condition</exDesc>
<tempEle>
<TempExtent>
<exTemp>
<TM_Period>
<tmBegin>2014-05-07T00:00:00</tmBegin>
<tmEnd>2014-05-13T00:00:00</tmEnd>
</TM_Period>
</exTemp>
</TempExtent>
</tempEle>
</dataExt>
<dataExt>
<exDesc>ground condition</exDesc>
<tempEle>
<TempExtent>
<exTemp>
<TM_Instant>
<tmPosition>2014-05-13</tmPosition>
</TM_Instant>
</exTemp>
</TempExtent>
</tempEle>
</dataExt>
<dataLang>
<languageCode Sync="TRUE" value="eng"/>
<countryCode Sync="TRUE" value="USA"/>
</dataLang>
<dataExt>
<geoEle>
<GeoBndBox esriExtentType="search">
<exTypeCode Sync="TRUE">1</exTypeCode>
<westBL Sync="TRUE">-69.369747</westBL>
<eastBL Sync="TRUE">-67.916345</eastBL>
<northBL Sync="TRUE">45.279499</northBL>
<southBL Sync="TRUE">44.072743</southBL>
</GeoBndBox>
</geoEle>
</dataExt>
<idCredit>Maine GeoLibrary</idCredit>
<idPurp>Maine Orthoimagery Regional 2014</idPurp>
<placeKeys>
<keyword>United States</keyword>
<keyword>Maine</keyword>
</placeKeys>
<tempKeys>
<keyword>ground condition</keyword>
</tempKeys>
<tpCat>
<TopicCatCd value="010"/>
</tpCat>
</dataIdInfo>
<dqInfo>
<dqScope>
<scpLvl>
<ScopeCd value="005"/>
</scpLvl>
</dqScope>
<report type="DQConcConsis">
<measDesc>Digital imagery was flown within prescribed parameters having proper orientation and the highest radiometric quality.</measDesc>
</report>
<report type="DQCompOm">
<measDesc>All digital imagery are visually inspected for completeness to ensure that no gaps or image misplacements exist within and between adjacent images.</measDesc>
</report>
<dataLineage>
<prcStep>
<stepDesc>The imagery was acquired using Leica ADS80 (Airborne Digital Sensor) SH81 and SH82. The Leica ADS80 series records all objects, with equal resolution as a 12-bit image, in panchromatic from three different viewing angles as well as additional viewing angles in RGB color and near infrared (4-band) color aerial imagery.
Leica GeoSystem???s XPro 6.1 software program was used to perform image processing and aerial triangulation. This package provides the capability to perform digital image processing, aerial triangulation and image rectification. Image mosaicking and final tiling was performed using OrthoVista software.
</stepDesc>
<stepDateTm>2014-05-13</stepDateTm>
<stepProc>
<rpOrgName>Woolpert, Inc.</rpOrgName>
<rpPosName>Geospatial Services</rpPosName>
<rpCntInfo>
<cntPhone>
<voiceNum>(937) 461-5660</voiceNum>
<faxNum>(937) 461-0743</faxNum>
</cntPhone>
<cntAddress addressType="both">
<delPoint>4454 Idea Center Blvd.</delPoint>
<city>Dayton</city>
<adminArea>OH</adminArea>
<postCode>45430</postCode>
<country>US</country>
</cntAddress>
<cntHours>8:00 a.m. to 5:00 p.m. Eastern Time</cntHours>
</rpCntInfo>
<role>
<RoleCd value="009"/>
</role>
</stepProc>
</prcStep>
</dataLineage>
</dqInfo>
<spatRepInfo>
<Georect>
<numDims>3</numDims>
<axisDimension type="001">
<dimSize>5000</dimSize>
<dimResol>
<value Sync="TRUE" uom="m">0.075000</value>
</dimResol>
</axisDimension>
<axisDimension type="002">
<dimSize>5000</dimSize>
<dimResol>
<value Sync="TRUE" uom="m">0.075000</value>
</dimResol>
</axisDimension>
<axisDimension type="003">
<dimSize>1</dimSize>
</axisDimension>
<cellGeo>
<CellGeoCd Sync="TRUE" value="002"/>
</cellGeo>
<tranParaAv Sync="TRUE">1</tranParaAv>
<chkPtAv Sync="TRUE">0</chkPtAv>
<cornerPts>
<pos Sync="TRUE">471000.000000 4880500.000000</pos>
</cornerPts>
<cornerPts>
<pos Sync="TRUE">471000.000000 5014000.000000</pos>
</cornerPts>
<cornerPts>
<pos Sync="TRUE">585000.000000 5014000.000000</pos>
</cornerPts>
<cornerPts>
<pos Sync="TRUE">585000.000000 4880500.000000</pos>
</cornerPts>
<centerPt>
<pos Sync="TRUE">528000.000000 4947250.000000</pos>
</centerPt>
<ptInPixel>
<PixOrientCd Sync="TRUE" value="001"/>
</ptInPixel>
</Georect>
</spatRepInfo>
<mdLang>
<languageCode Sync="TRUE" value="eng"/>
<countryCode Sync="TRUE" value="USA"/>
</mdLang>
<refSysInfo>
<RefSystem>
<refSysID>
<identCode Sync="TRUE" code="26919"/>
<idCodeSpace Sync="TRUE">EPSG</idCodeSpace>
<idVersion Sync="TRUE">6.13(3.0.1)</idVersion>
</refSysID>
</RefSystem>
</refSysInfo>
<contInfo>
<ImgDesc>
<contentTyp>
<ContentTypCd Sync="TRUE" value="001"/>
</contentTyp>
<covDim>
<Band>
<dimDescrp Sync="TRUE">Red</dimDescrp>
<maxVal Sync="TRUE">255.000000</maxVal>
<minVal Sync="TRUE">0.000000</minVal>
<bitsPerVal Sync="TRUE">8</bitsPerVal>
<valUnit>
<UOM type="length"/>
</valUnit>
</Band>
<Band>
<dimDescrp Sync="TRUE">Green</dimDescrp>
<maxVal Sync="TRUE">255.000000</maxVal>
<minVal Sync="TRUE">0.000000</minVal>
<bitsPerVal Sync="TRUE">8</bitsPerVal>
<valUnit>
<UOM type="length"/>
</valUnit>
</Band>
<Band>
<dimDescrp Sync="TRUE">Blue</dimDescrp>
<maxVal Sync="TRUE">255.000000</maxVal>
<minVal Sync="TRUE">0.000000</minVal>
<bitsPerVal Sync="TRUE">8</bitsPerVal>
<valUnit>
<UOM type="length"/>
</valUnit>
</Band>
<Band>
<dimDescrp Sync="TRUE">Infrared</dimDescrp>
<maxVal Sync="TRUE">255.000000</maxVal>
<minVal Sync="TRUE">0.000000</minVal>
<bitsPerVal Sync="TRUE">8</bitsPerVal>
<valUnit>
<UOM type="length"/>
</valUnit>
</Band>
</covDim>
</ImgDesc>
</contInfo>
</metadata>
