<?xml version="1.0" encoding="UTF-8" standalone="no"?>
<metadata xml:lang="en">
<Esri>
<CreaDate>20190203</CreaDate>
<CreaTime>08280700</CreaTime>
<ArcGISFormat>1.0</ArcGISFormat>
<ArcGISstyle>FGDC CSDGM Metadata</ArcGISstyle>
<SyncOnce>FALSE</SyncOnce>
<DataProperties>
<lineage>
<Process Date="20171124" Name="" Time="084251" ToolSource="c:\program files (x86)\arcgis\desktop10.4\ArcToolbox\Toolboxes\Data Management Tools.tbx\CreateMosaicDataset" export="">CreateMosaicDataset \\stgisdataprd001.file.core.windows.net\gisprd1gisdata\svcFgdb\ortho.gdb ortho2017Mds "PROJCS['NAD_1983_UTM_Zone_19N',GEOGCS['GCS_North_American_1983',DATUM['D_North_American_1983',SPHEROID['GRS_1980',6378137.0,298.257222101]],PRIMEM['Greenwich',0.0],UNIT['Degree',0.0174532925199433]],PROJECTION['Transverse_Mercator'],PARAMETER['False_Easting',500000.0],PARAMETER['False_Northing',0.0],PARAMETER['Central_Meridian',-69.0],PARAMETER['Scale_Factor',0.9996],PARAMETER['Latitude_Of_Origin',0.0],UNIT['Meter',1.0]],VERTCS['NAVD_1988',VDATUM['North_American_Vertical_Datum_1988'],PARAMETER['Vertical_Shift',0.0],PARAMETER['Direction',1.0],UNIT['Meter',1.0]];-5120900 -9998100 10000;-100000 10000;-100000 10000;0.001;0.001;0.001;IsHighPrecision" 4 8_BIT_UNSIGNED NATURAL_COLOR_RGBI "Red 630 690;Green 530 570;Blue 440 510;Infrared 770 830"</Process>
<Process Date="20171124" Name="" Time="085041" ToolSource="c:\program files (x86)\arcgis\desktop10.4\ArcToolbox\Toolboxes\Data Management Tools.tbx\AddRastersToMosaicDataset" export="">AddRastersToMosaicDataset \\stgisdataprd001.file.core.windows.net\gisprd1gisdata\svcFgdb\ortho.gdb\ortho2017Mds "Raster Dataset" \\oit-teaqfstier2.emc.state.me.us\gisdata\megis\ras\ortho\ortho2017\Tif\UTM_Zone19N_Meters\Portland;\\oit-teaqfstier2.emc.state.me.us\gisdata\megis\ras\ortho\ortho2017\Tif\UTM_Zone19N_Meters\Sanford UPDATE_CELL_SIZES UPDATE_BOUNDARY UPDATE_OVERVIEWS # 0 1500 # # SUBFOLDERS OVERWRITE_DUPLICATES BUILD_PYRAMIDS CALCULATE_STATISTICS NO_THUMBNAILS # NO_FORCE_SPATIAL_REFERENCE NO_STATISTICS #</Process>
<Process Date="20171124" Name="" Time="090215" ToolSource="c:\program files (x86)\arcgis\desktop10.4\ArcToolbox\Toolboxes\Data Management Tools.tbx\AnalyzeMosaicDataset" export="">AnalyzeMosaicDataset \\stgisdataprd001.file.core.windows.net\gisprd1gisdata\svcFgdb\ortho.gdb\ortho2017Mds # #</Process>
<Process Date="20180311" Name="" Time="061814" ToolSource="c:\program files (x86)\arcgis\desktop10.4\ArcToolbox\Toolboxes\Data Management Tools.tbx\SynchronizeMosaicDataset" export="">SynchronizeMosaicDataset \\stgisdataprd001.file.core.windows.net\gisprd1gisdata\svcFgdb\megis\ortho.gdb\ortho2017Mds # UPDATE_WITH_NEW_ITEMS SYNC_STALE UPDATE_CELL_SIZES UPDATE_BOUNDARY UPDATE_OVERVIEWS NO_PYRAMIDS NO_STATISTICS NO_THUMBNAILS NO_ITEM_CACHE REBUILD_RASTER UPDATE_FIELDS # IGNORE_EXISTING_ITEMS IGNORE_BROKEN_ITEMS SKIP_EXISTING_ITEMS REFRESH_INFO NO_STATISTICS</Process>
<Process Date="20180311" Name="" Time="064721" ToolSource="c:\program files (x86)\arcgis\desktop10.4\ArcToolbox\Toolboxes\Data Management Tools.tbx\SynchronizeMosaicDataset" export="">SynchronizeMosaicDataset \\stgisdataprd001.file.core.windows.net\gisprd1gisdata\svcFgdb\megis\ortho.gdb\ortho2017Mds # UPDATE_WITH_NEW_ITEMS SYNC_STALE UPDATE_CELL_SIZES UPDATE_BOUNDARY UPDATE_OVERVIEWS BUILD_PYRAMIDS CALCULATE_STATISTICS NO_THUMBNAILS NO_ITEM_CACHE REBUILD_RASTER NO_FIELDS # UPDATE_EXISTING_ITEMS IGNORE_BROKEN_ITEMS OVERWRITE_EXISTING_ITEMS REFRESH_INFO NO_STATISTICS</Process>
<Process Date="20180311" Name="" Time="073750" ToolSource="c:\program files (x86)\arcgis\desktop10.4\ArcToolbox\Toolboxes\Data Management Tools.tbx\RemoveRastersFromMosaicDataset" export="">RemoveRastersFromMosaicDataset \\stgisdataprd001.file.core.windows.net\gisprd1gisdata\svcFgdb\megis\ortho.gdb\ortho2017Mds "OBJECTID &gt;= 1" UPDATE_BOUNDARY MARK_OVERVIEW_ITEMS DELETE_OVERVIEW_IMAGES DELETE_ITEM_CACHE REMOVE_MOSAICDATASET_ITEMS UPDATE_CELL_SIZES</Process>
<Process Date="20180311" Name="" Time="090819" ToolSource="c:\program files (x86)\arcgis\desktop10.4\ArcToolbox\Toolboxes\Data Management Tools.tbx\AddRastersToMosaicDataset" export="">AddRastersToMosaicDataset \\stgisdataprd001.file.core.windows.net\gisprd1gisdata\svcFgdb\megis\ortho.gdb\ortho2017Mds "Raster Dataset" \\oit-teaqfstier2.emc.state.me.us\gisdata\megis\ras\ortho\ortho2017\Tif\UTM_Zone19N_Meters UPDATE_CELL_SIZES UPDATE_BOUNDARY UPDATE_OVERVIEWS # 0 1500 "PROJCS['NAD_1983_UTM_Zone_19N',GEOGCS['GCS_North_American_1983',DATUM['D_North_American_1983',SPHEROID['GRS_1980',6378137.0,298.257222101]],PRIMEM['Greenwich',0.0],UNIT['Degree',0.0174532925199433]],PROJECTION['Transverse_Mercator'],PARAMETER['False_Easting',500000.0],PARAMETER['False_Northing',0.0],PARAMETER['Central_Meridian',-69.0],PARAMETER['Scale_Factor',0.9996],PARAMETER['Latitude_Of_Origin',0.0],UNIT['Meter',1.0]];-5120900 -9998100 10000;-100000 10000;-100000 10000;0.001;0.001;0.001;IsHighPrecision" # SUBFOLDERS OVERWRITE_DUPLICATES BUILD_PYRAMIDS CALCULATE_STATISTICS NO_THUMBNAILS # NO_FORCE_SPATIAL_REFERENCE NO_STATISTICS #</Process>
<Process Date="20180311" Name="" Time="093803" ToolSource="c:\program files (x86)\arcgis\desktop10.4\ArcToolbox\Toolboxes\Data Management Tools.tbx\BuildFootprints" export="">BuildFootprints \\stgisdataprd001.file.core.windows.net\gisprd1gisdata\svcFgdb\megis\ortho.gdb\ortho2017Mds # RADIOMETRY 1 255 8 # NO_MAINTAIN_EDGES SKIP_DERIVED_IMAGES UPDATE_BOUNDARY # # CONVEX_HULL # # #</Process>
<Process Date="20191220" Time="064103" ToolSource="c:\program files\arcgis\pro\Resources\ArcToolbox\toolboxes\Data Management Tools.tbx\CalculateStatistics">CalculateStatistics \\stgisdataprd001.file.core.windows.net\gisprd1gisdata\svcFgdb\megis\orthoRegional.gdb\orthoRegional2017 1 1 # SKIP_EXISTING "Feature Set"</Process>
</lineage>
<itemProps>
<itemName Sync="TRUE">orthoRegional2017</itemName>
<itemLocation>
<linkage Sync="TRUE">file://\\stgisdataprd001.file.core.windows.net\gisprd1gisdata\svcFgdb\megis\orthoRegional.gdb</linkage>
<protocol Sync="TRUE">Local Area Network</protocol>
</itemLocation>
<nativeExtBox>
<westBL Sync="TRUE">348375.000000</westBL>
<eastBL Sync="TRUE">412875.000000</eastBL>
<southBL Sync="TRUE">4799125.000000</southBL>
<northBL Sync="TRUE">4852000.000000</northBL>
<exTypeCode Sync="TRUE">1</exTypeCode>
</nativeExtBox>
<imsContentType export="False">002</imsContentType>
</itemProps>
<coordRef>
<type Sync="TRUE">Projected</type>
<geogcsn Sync="TRUE">GCS_North_American_1983</geogcsn>
<csUnits Sync="TRUE">Linear Unit: Meter (1.000000)</csUnits>
<projcsn Sync="TRUE">NAD_1983_UTM_Zone_19N</projcsn>
<peXml Sync="TRUE">&lt;ProjectedCoordinateSystem xsi:type='typens:ProjectedCoordinateSystem' xmlns:xsi='http://www.w3.org/2001/XMLSchema-instance' xmlns:xs='http://www.w3.org/2001/XMLSchema' xmlns:typens='http://www.esri.com/schemas/ArcGIS/10.8'&gt;&lt;WKT&gt;PROJCS[&amp;quot;NAD_1983_UTM_Zone_19N&amp;quot;,GEOGCS[&amp;quot;GCS_North_American_1983&amp;quot;,DATUM[&amp;quot;D_North_American_1983&amp;quot;,SPHEROID[&amp;quot;GRS_1980&amp;quot;,6378137.0,298.257222101]],PRIMEM[&amp;quot;Greenwich&amp;quot;,0.0],UNIT[&amp;quot;Degree&amp;quot;,0.0174532925199433]],PROJECTION[&amp;quot;Transverse_Mercator&amp;quot;],PARAMETER[&amp;quot;False_Easting&amp;quot;,500000.0],PARAMETER[&amp;quot;False_Northing&amp;quot;,0.0],PARAMETER[&amp;quot;Central_Meridian&amp;quot;,-69.0],PARAMETER[&amp;quot;Scale_Factor&amp;quot;,0.9996],PARAMETER[&amp;quot;Latitude_Of_Origin&amp;quot;,0.0],UNIT[&amp;quot;Meter&amp;quot;,1.0],AUTHORITY[&amp;quot;EPSG&amp;quot;,26919]]&lt;/WKT&gt;&lt;XOrigin&gt;-5120900&lt;/XOrigin&gt;&lt;YOrigin&gt;-9998100&lt;/YOrigin&gt;&lt;XYScale&gt;450445547.3910538&lt;/XYScale&gt;&lt;ZOrigin&gt;-100000&lt;/ZOrigin&gt;&lt;ZScale&gt;10000&lt;/ZScale&gt;&lt;MOrigin&gt;-100000&lt;/MOrigin&gt;&lt;MScale&gt;10000&lt;/MScale&gt;&lt;XYTolerance&gt;0.001&lt;/XYTolerance&gt;&lt;ZTolerance&gt;0.001&lt;/ZTolerance&gt;&lt;MTolerance&gt;0.001&lt;/MTolerance&gt;&lt;HighPrecision&gt;true&lt;/HighPrecision&gt;&lt;WKID&gt;26919&lt;/WKID&gt;&lt;LatestWKID&gt;26919&lt;/LatestWKID&gt;&lt;/ProjectedCoordinateSystem&gt;</peXml>
</coordRef>
<RasterProperties>
<General>
<PixelDepth Sync="TRUE">8</PixelDepth>
<HasColormap Sync="TRUE">FALSE</HasColormap>
<CompressionType Sync="TRUE">None</CompressionType>
<NumBands Sync="TRUE">4</NumBands>
<Format Sync="TRUE">AMD</Format>
<HasPyramids Sync="TRUE">TRUE</HasPyramids>
<SourceType Sync="TRUE">continuous</SourceType>
<PixelType Sync="TRUE">unsigned integer</PixelType>
<NoDataValue Sync="TRUE"/>
</General>
<Properties>
<MaxImageHeight Sync="TRUE">4100</MaxImageHeight>
<MaxImageWidth Sync="TRUE">15000</MaxImageWidth>
<MaxRecordCount Sync="TRUE">1000</MaxRecordCount>
<MaxDownloadImageCount Sync="TRUE">20</MaxDownloadImageCount>
<MaxDownloadSizeLimit Sync="TRUE">2048</MaxDownloadSizeLimit>
<MaxMosaicImageCount Sync="TRUE">20</MaxMosaicImageCount>
<DefaultCompressionQuality Sync="TRUE">87</DefaultCompressionQuality>
<DefaultCompressionTolerance Sync="TRUE">0.01</DefaultCompressionTolerance>
<BlendWidth Sync="TRUE">10</BlendWidth>
<ViewpointSpacingX Sync="TRUE">600</ViewpointSpacingX>
<ViewpointSpacingY Sync="TRUE">300</ViewpointSpacingY>
<AllowedItemMetadata Sync="TRUE">Basic</AllowedItemMetadata>
<DefaultResamplingMethod Sync="TRUE">1</DefaultResamplingMethod>
<AllowedMosaicMethods Sync="TRUE">NorthWest,Center,ByAttribute,Nadir,Viewpoint,None</AllowedMosaicMethods>
<AllowedCompressions Sync="TRUE">LZ77,None,JPEG,LERC</AllowedCompressions>
<AllowedMensurationCapabilities Sync="TRUE">None</AllowedMensurationCapabilities>
<AvailableMensurationCapabilities Sync="TRUE">None,Basic,Base-Top Height,Top-Top Shadow Height,Base-Top Shadow Height,3D</AvailableMensurationCapabilities>
<ClipToBoundary Sync="TRUE">-1</ClipToBoundary>
<FootprintMayContainNoData Sync="TRUE">-1</FootprintMayContainNoData>
<CellSizeTolerance Sync="TRUE">0.8</CellSizeTolerance>
<MinimumPixelContribution Sync="TRUE">1</MinimumPixelContribution>
<AvailableMosaicMethods Sync="TRUE">NorthWest,Center,LockRaster,ByAttribute,Nadir,Viewpoint,Seamline,None</AvailableMosaicMethods>
<AvailableCompressionMethods Sync="TRUE">None,JPEG,LZ77,LERC</AvailableCompressionMethods>
<AvailableItemMetadataLevels Sync="TRUE">None,Basic,Full</AvailableItemMetadataLevels>
<ConfigKeyword Sync="TRUE"/>
<BandDefinitionKeyword Sync="TRUE">NaturalColorRGBI</BandDefinitionKeyword>
<ClipOverviewsToFootprint Sync="TRUE">0</ClipOverviewsToFootprint>
<AllowedFields Sync="TRUE">Name,MinPS,MaxPS,LowPS,HighPS,Tag,GroupName,ProductName,CenterX,CenterY,ZOrder,Shape_Length,Shape_Area,DateBegin,DateEnd,DateIntBegin,DateIntEnd</AllowedFields>
<MaxCellSize Sync="TRUE">16402.4999999999</MaxCellSize>
<LowCellSize Sync="TRUE">0.075</LowCellSize>
<HighCellSize Sync="TRUE">328.049999999998</HighCellSize>
<TimeStamp.RemoveItems Sync="TRUE">43170.4846012037</TimeStamp.RemoveItems>
<TimeStamp.UpdateExtent Sync="TRUE">43170.5317494444</TimeStamp.UpdateExtent>
<ClipToFootprint Sync="TRUE">0</ClipToFootprint>
<ApplyColorCorrection Sync="TRUE">0</ApplyColorCorrection>
<TimeValueFormat Sync="TRUE">YYYY-MM-DD</TimeValueFormat>
<EndTimeFieldName Sync="TRUE">DateEnd</EndTimeFieldName>
<StartTimeFieldName Sync="TRUE">DateBegin</StartTimeFieldName>
<TimeIntervalUnits Sync="TRUE">Days</TimeIntervalUnits>
<TimeInterval Sync="TRUE"/>
<MosaicOperator Sync="TRUE">1</MosaicOperator>
<BlendWidthUnits Sync="TRUE">1</BlendWidthUnits>
<UseTime Sync="TRUE">-1</UseTime>
<SortAscending Sync="TRUE">-1</SortAscending>
<SortField Sync="TRUE">MinPS</SortField>
<SortValue Sync="TRUE">0</SortValue>
<VerticalDimension Sync="TRUE"/>
<FlowDirection Sync="TRUE"/>
<DataType Sync="TRUE">Processed</DataType>
<_docversion_ Sync="TRUE">9</_docversion_>
<AvailableFields Sync="TRUE">Name,MinPS,MaxPS,LowPS,HighPS,Tag,GroupName,ProductName,CenterX,CenterY,ZOrder,Shape_Length,Shape_Area,DateBegin,DateEnd,DateIntBegin,DateIntEnd</AvailableFields>
<SortableFields Sync="TRUE">MinPS,MaxPS,LowPS,HighPS,CenterX,CenterY,ZOrder,Shape_Length,Shape_Area,DateBegin,DateEnd,DateIntBegin,DateIntEnd</SortableFields>
<HasDodgingTable Sync="TRUE">0</HasDodgingTable>
<UseRange Sync="TRUE">0</UseRange>
</Properties>
<Functions Sync="TRUE">
<Function Description="Performs on-the-fly mosaic on a raster catalog." Name="Mosaic Function"/>
</Functions>
</RasterProperties>
</DataProperties>
<SyncDate>20211214</SyncDate>
<SyncTime>08211800</SyncTime>
<ModDate>20211214</ModDate>
<ModTime>08211800</ModTime>
<scaleRange>
<minScale>150000000</minScale>
<maxScale>5000</maxScale>
</scaleRange>
<ArcGISProfile>FGDC</ArcGISProfile>
</Esri>
<mdLang>
<languageCode value="eng"/>
<countryCode Sync="TRUE" value="USA"/>
</mdLang>
<mdChar>
<CharSetCd value="004"/>
</mdChar>
<mdHrLv>
<ScopeCd value="005"/>
</mdHrLv>
<mdContact>
<rpOrgName>State of Maine, Office of Information Technology</rpOrgName>
<rpCntInfo>
<cntPhone>
<voiceNum>207.624.2664</voiceNum>
</cntPhone>
<cntAddress addressType="both">
<delPoint>SHS145, 51 Commerce Street</delPoint>
<city>Augusta</city>
<adminArea>ME</adminArea>
<postCode>04333-145</postCode>
<country>US</country>
</cntAddress>
</rpCntInfo>
<role>
<RoleCd value="007"/>
</role>
</mdContact>
<mdDateSt Sync="TRUE">20211214</mdDateSt>
<mdStanName>ArcGIS Metadata</mdStanName>
<mdStanVer>1.0</mdStanVer>
<distInfo>
<distributor>
<distorCont>
<rpOrgName>State of Maine, Office of Information Technology</rpOrgName>
<rpCntInfo>
<cntPhone>
<voiceNum>207.624.2664</voiceNum>
</cntPhone>
<cntAddress addressType="both">
<delPoint>SHS145, 51 Commerce Street</delPoint>
<city>Augusta</city>
<adminArea>ME</adminArea>
<postCode>04333-145</postCode>
<country>US</country>
</cntAddress>
</rpCntInfo>
<role>
<RoleCd value="005"/>
</role>
</distorCont>
<distorOrdPrc>
<planAvDtTm date="unknown" time="unknown"/>
</distorOrdPrc>
</distributor>
</distInfo>
<dataIdInfo>
<idCitation>
<resTitle Sync="FALSE">orthoRegional2017</resTitle>
<date>
<pubDate time="unknown">2017-11-06</pubDate>
</date>
<citRespParty>
<rpOrgName>STATE OF MAINE, OFFICE OF INFORMATION TECHNOLOGY</rpOrgName>
<role>
<RoleCd value="006"/>
</role>
</citRespParty>
<presForm>
<PresFormCd Sync="TRUE" value="005"/>
</presForm>
</idCitation>
<idAbs>&lt;DIV STYLE="text-align:Left;"&gt;&lt;DIV&gt;&lt;DIV&gt;&lt;P&gt;&lt;SPAN&gt;Maine Statewide Orthoimagery Project - All imagery was collected during the 2017 Spring flying season during leaf-off conditions for deciduous vegetation in the State of Maine. The sun angle was at 30-degrees or greater, and streams were within their normal banks. During the flight planning and acquisition, a significant effort was made to limit clouds, snow, fog, haze, smoke, or other ground obscuring conditions in the imagery. In no case does the maximum cloud cover exceed 5% per image. Within the immediate areas of power plants, factories, or controlled agricultural burns some steam or smoke and/or shadows may be visible on imagery. Deliverables are: One set of 4-band stacked digital orthoimagery at 0.075 meter (3-inch) pixel resolution for each tile in GeoTIFF format with TIFF world files, Shapefile of flightlines with acquisition dates in ESRI format, Shapefile of control points in ESRI format, Shapefile of tile index in ESRI format, Shapefile of seamlines in ESRI format, FGDC Compliant Metadata for Orthoimagery Product Additional deliverables include two MrSID (Multi resolution Seamless Image Database) files covering Portland and Scarborough area at an 18:1 compression ratio.&lt;/SPAN&gt;&lt;/P&gt;&lt;/DIV&gt;&lt;/DIV&gt;&lt;/DIV&gt;</idAbs>
<idPurp>The Maine GeoLibrary Board has developed a statewide, 5-year, rotating orthoimagery acquisition program for Maine to facilitate state, regional and local government GIS base mapping in an efficient and cost effective program. The State of Maine will use digital orthoimagery for the development of various base map products in a computerized GIS that will support the needs of the state and multiple stakeholders through applications, such as, multi-jurisdictional homeland security mapping applications, state and county emergency management applications, regional and local planning, state and local public safety applications, economic development and other GIS business objectives.</idPurp>
<idStatus>
<ProgCd value="001"/>
</idStatus>
<idPoC>
<rpOrgName>State of Maine, Office of Information Technology</rpOrgName>
<rpCntInfo>
<cntPhone>
<voiceNum>207.624.2664</voiceNum>
</cntPhone>
<cntAddress addressType="both">
<delPoint>SHS145, 51 Commerce Street</delPoint>
<city>Augusta</city>
<adminArea>ME</adminArea>
<postCode>04333-145</postCode>
<country>US</country>
</cntAddress>
</rpCntInfo>
<role>
<RoleCd value="007"/>
</role>
</idPoC>
<resMaint>
<maintFreq>
<MaintFreqCd value="009"/>
</maintFreq>
</resMaint>
<themeKeys>
<keyword>Raster</keyword>
<keyword>Orthophoto</keyword>
</themeKeys>
<searchKeys>
<keyword>imageryBaseMapsEarthCover</keyword>
<keyword>ortho</keyword>
<keyword>orthoimagery</keyword>
<keyword>orthophotography</keyword>
<keyword>Maine</keyword>
<keyword>GeoLibrary</keyword>
<keyword>MaineGeoLibrary</keyword>
<keyword>orthoRegional</keyword>
<keyword>regional</keyword>
<keyword>2017</keyword>
</searchKeys>
<resConst>
<LegConsts>
<useLimit>The information contained in these data is dynamic and may change over time. The data are not better than the original sources from which they were derived. It is the responsibility of the data user to use the data appropriately and within the limitations of the data for which it was requested and prepared, in general, and these data in particular. The related graphics are intended to aid the data user in acquiring relevant data. It is not appropriate to use the related graphics as data. Woolpert gives no warranty, expressed or implied, as to the accuracy, reliability, or completeness of these data. It is strongly recommended that these data are directly acquired from a Woolpert server, and not indirectly through other sources which may have changed the data in some way. Although these data have been processed successfully upon Woolpert???s computer system, no warranty, expressed or implied, is made regarding the utility of the data on another system, or for general or scientific purposes; nor shall the act of distribution constitute any such warranty. This disclaimer applies both to individual use of the data and aggregate use with other data.</useLimit>
<othConsts>No restrictions apply to this data.</othConsts>
</LegConsts>
</resConst>
<resConst>
<Consts>
<useLimit>&lt;DIV STYLE="text-align:Left;"&gt;&lt;DIV&gt;&lt;DIV&gt;&lt;P&gt;&lt;SPAN&gt;Access: Public Use: User assumes risk&lt;/SPAN&gt;&lt;/P&gt;&lt;/DIV&gt;&lt;/DIV&gt;&lt;/DIV&gt;</useLimit>
</Consts>
</resConst>
<dataLang>
<languageCode value="eng"/>
<countryCode Sync="TRUE" value="USA"/>
</dataLang>
<envirDesc Sync="TRUE"> Version 6.2 (Build 9200) ; Esri ArcGIS 10.8.1.14362</envirDesc>
<dataExt>
<geoEle>
<GeoBndBox>
<westBL>-70.885035</westBL>
<eastBL>-70.074849</eastBL>
<southBL>43.329683</southBL>
<northBL>43.815937</northBL>
</GeoBndBox>
</geoEle>
</dataExt>
<dataExt>
<exDesc>ground condition</exDesc>
<tempEle>
<TempExtent>
<exTemp>
<TM_Instant>
<tmPosition>2017-05-04</tmPosition>
</TM_Instant>
</exTemp>
</TempExtent>
</tempEle>
</dataExt>
<spatRpType>
<SpatRepTypCd Sync="TRUE" value="002"/>
</spatRpType>
<dataExt>
<geoEle>
<GeoBndBox esriExtentType="search">
<exTypeCode Sync="TRUE">1</exTypeCode>
<westBL Sync="TRUE">-70.885035</westBL>
<eastBL Sync="TRUE">-70.074849</eastBL>
<northBL Sync="TRUE">43.815937</northBL>
<southBL Sync="TRUE">43.329683</southBL>
</GeoBndBox>
</geoEle>
</dataExt>
<idCredit>Maine GeoLibrary</idCredit>
<tpCat>
<TopicCatCd value="010"/>
</tpCat>
</dataIdInfo>
<dqInfo>
<dqScope>
<scpLvl>
<ScopeCd value="005"/>
</scpLvl>
</dqScope>
<report type="DQConcConsis">
<measDesc>Digital imagery was flown within prescribed parameters having proper orientation and the highest radiometric quality.</measDesc>
</report>
<report type="DQCompOm">
<measDesc>All digital imagery are visually inspected for completeness to ensure that no gaps or image misplacements exist within and between adjacent images.</measDesc>
</report>
<report dimension="horizontal" type="DQAbsExtPosAcc">
<measDesc>This orthoimagery data set was produced to meet the 15-cm Horizontal Accuracy Class as defined by the ASPRS Positional Accuracy Standards for Digital Geospatial Data (2014); The 7.5cm (3-inch) orthoimagery met a horizontal accuracy of 36.7 cm (1.2-feet) @ 95% confidence level and a mosaic seamline mismatch of no greater than 30cm (11.8-inch) equivalent to 4 pixels.</measDesc>
</report>
<dataLineage>
<prcStep>
<stepDesc>The imagery was acquired using Leica ADS80 (Airborne Digital Sensor). The Leica ADS80 series records all objects, with equal resolution as a 12-bit image, in panchromatic from three different viewing angles as well as additional viewing angles in RGB color and near infrared (4-band) color aerial imagery. Leica GeoSystem???s XPro software program was used to perform image processing and aerial triangulation. This package provides the capability to perform digital image processing, aerial triangulation and image rectification. Image mosaicking and final tiling was performed using OrthoVista software.</stepDesc>
<stepDateTm>2017-05-04</stepDateTm>
<stepProc>
<rpOrgName>Woolpert, Inc.</rpOrgName>
<rpPosName>Geospatial Services</rpPosName>
<rpCntInfo>
<cntPhone>
<voiceNum>(937) 461-5660</voiceNum>
<faxNum>(937) 461-0743</faxNum>
</cntPhone>
<cntAddress addressType="both">
<delPoint>4454 Idea Center Blvd.</delPoint>
<city>Dayton</city>
<adminArea>OH</adminArea>
<postCode>45430</postCode>
<country>US</country>
</cntAddress>
<cntHours>8:00 a.m. to 5:00 p.m. Eastern Time</cntHours>
</rpCntInfo>
<role>
<RoleCd value="009"/>
</role>
</stepProc>
</prcStep>
</dataLineage>
</dqInfo>
<spatRepInfo>
<Georect>
<numDims Sync="TRUE">2</numDims>
<axisDimension type="001">
<dimSize Sync="TRUE">705000</dimSize>
<dimResol>
<value Sync="TRUE" uom="m">0.075000</value>
</dimResol>
</axisDimension>
<axisDimension type="002">
<dimSize Sync="TRUE">860000</dimSize>
<dimResol>
<value Sync="TRUE" uom="m">0.075000</value>
</dimResol>
</axisDimension>
<cellGeo>
<CellGeoCd Sync="TRUE" value="002"/>
</cellGeo>
<tranParaAv Sync="TRUE">1</tranParaAv>
<chkPtAv Sync="TRUE">0</chkPtAv>
<cornerPts>
<pos Sync="TRUE">348375.000000 4799125.000000</pos>
</cornerPts>
<cornerPts>
<pos Sync="TRUE">348375.000000 4852000.000000</pos>
</cornerPts>
<cornerPts>
<pos Sync="TRUE">412875.000000 4852000.000000</pos>
</cornerPts>
<cornerPts>
<pos Sync="TRUE">412875.000000 4799125.000000</pos>
</cornerPts>
<centerPt>
<pos Sync="TRUE">380625.000000 4825562.500000</pos>
</centerPt>
<ptInPixel>
<PixOrientCd Sync="TRUE" value="001"/>
</ptInPixel>
</Georect>
</spatRepInfo>
<refSysInfo>
<RefSystem>
<refSysID>
<identCode Sync="TRUE" code="26919"/>
<idCodeSpace Sync="TRUE">EPSG</idCodeSpace>
<idVersion Sync="TRUE">6.13(3.0.1)</idVersion>
</refSysID>
</RefSystem>
</refSysInfo>
<contInfo>
<ImgDesc>
<contentTyp>
<ContentTypCd Sync="TRUE" value="001"/>
</contentTyp>
<covDim>
<Band>
<dimDescrp Sync="TRUE">Red</dimDescrp>
<bitsPerVal Sync="TRUE">8</bitsPerVal>
<valUnit>
<UOM type="length"/>
</valUnit>
<maxVal Sync="TRUE">219.000000</maxVal>
<minVal Sync="TRUE">3.000000</minVal>
</Band>
<Band>
<dimDescrp Sync="TRUE">Green</dimDescrp>
<bitsPerVal Sync="TRUE">8</bitsPerVal>
<valUnit>
<UOM type="length"/>
</valUnit>
<maxVal Sync="TRUE">219.000000</maxVal>
<minVal Sync="TRUE">4.000000</minVal>
</Band>
<Band>
<dimDescrp Sync="TRUE">Blue</dimDescrp>
