<?xml version="1.0" encoding="UTF-8" standalone="no"?>
<metadata xml:lang="en">
<Esri>
<CreaDate>20201001</CreaDate>
<CreaTime>06232100</CreaTime>
<ArcGISFormat>1.0</ArcGISFormat>
<SyncOnce>FALSE</SyncOnce>
<DataProperties>
<lineage>
<Process Date="20201001" Name="" Time="062321" ToolSource="c:\program files\arcgis\pro\Resources\ArcToolbox\toolboxes\Data Management Tools.tbx\CreateMosaicDataset" export="">CreateMosaicDataset \\stgisdataprd001.file.core.windows.net\gisprd1gisdata\svcFgdb\megis\oiRegional2018.gdb oiRegional2018 PROJCS['NAD_1983_2011_UTM_Zone_19N',GEOGCS['GCS_NAD_1983_2011',DATUM['D_NAD_1983_2011',SPHEROID['GRS_1980',6378137.0,298.257222101]],PRIMEM['Greenwich',0.0],UNIT['Degree',0.0174532925199433]],PROJECTION['Transverse_Mercator'],PARAMETER['False_Easting',500000.0],PARAMETER['False_Northing',0.0],PARAMETER['Central_Meridian',-69.0],PARAMETER['Scale_Factor',0.9996],PARAMETER['Latitude_Of_Origin',0.0],UNIT['Meter',1.0]] 4 "8-bit unsigned" "Natural color and infrared" "Red 630 690;Green 530 570;Blue 440 510;Infrared 770 830"</Process>
</lineage>
<itemProps>
<itemName Sync="TRUE">oiRegional2018</itemName>
<itemLocation>
<linkage Sync="TRUE">file://\\stgisdataprd001.file.core.windows.net\gisprd1gisdata\svcFgdb\megis\oiRegional2018.gdb</linkage>
<protocol Sync="TRUE">Local Area Network</protocol>
</itemLocation>
<nativeExtBox>
<westBL Sync="TRUE">337500.000000</westBL>
<eastBL Sync="TRUE">537000.000000</eastBL>
<southBL Sync="TRUE">4759000.000000</southBL>
<northBL Sync="TRUE">4937500.000000</northBL>
<exTypeCode Sync="TRUE">1</exTypeCode>
</nativeExtBox>
<imsContentType export="False"/>
</itemProps>
<coordRef>
<type Sync="TRUE">Projected</type>
<geogcsn Sync="TRUE">GCS_NAD_1983_2011</geogcsn>
<csUnits Sync="TRUE">Linear Unit: Meter (1.000000)</csUnits>
<projcsn Sync="TRUE">NAD_1983_2011_UTM_Zone_19N</projcsn>
<peXml Sync="TRUE">&lt;ProjectedCoordinateSystem xsi:type='typens:ProjectedCoordinateSystem' xmlns:xsi='http://www.w3.org/2001/XMLSchema-instance' xmlns:xs='http://www.w3.org/2001/XMLSchema' xmlns:typens='http://www.esri.com/schemas/ArcGIS/2.6.0'&gt;&lt;WKT&gt;PROJCS[&amp;quot;NAD_1983_2011_UTM_Zone_19N&amp;quot;,GEOGCS[&amp;quot;GCS_NAD_1983_2011&amp;quot;,DATUM[&amp;quot;D_NAD_1983_2011&amp;quot;,SPHEROID[&amp;quot;GRS_1980&amp;quot;,6378137.0,298.257222101]],PRIMEM[&amp;quot;Greenwich&amp;quot;,0.0],UNIT[&amp;quot;Degree&amp;quot;,0.0174532925199433]],PROJECTION[&amp;quot;Transverse_Mercator&amp;quot;],PARAMETER[&amp;quot;False_Easting&amp;quot;,500000.0],PARAMETER[&amp;quot;False_Northing&amp;quot;,0.0],PARAMETER[&amp;quot;Central_Meridian&amp;quot;,-69.0],PARAMETER[&amp;quot;Scale_Factor&amp;quot;,0.9996],PARAMETER[&amp;quot;Latitude_Of_Origin&amp;quot;,0.0],UNIT[&amp;quot;Meter&amp;quot;,1.0],AUTHORITY[&amp;quot;EPSG&amp;quot;,6348]]&lt;/WKT&gt;&lt;XOrigin&gt;-5120900&lt;/XOrigin&gt;&lt;YOrigin&gt;-9998100&lt;/YOrigin&gt;&lt;XYScale&gt;450445547.3910538&lt;/XYScale&gt;&lt;ZOrigin&gt;-100000&lt;/ZOrigin&gt;&lt;ZScale&gt;10000&lt;/ZScale&gt;&lt;MOrigin&gt;-100000&lt;/MOrigin&gt;&lt;MScale&gt;10000&lt;/MScale&gt;&lt;XYTolerance&gt;0.001&lt;/XYTolerance&gt;&lt;ZTolerance&gt;0.001&lt;/ZTolerance&gt;&lt;MTolerance&gt;0.001&lt;/MTolerance&gt;&lt;HighPrecision&gt;true&lt;/HighPrecision&gt;&lt;WKID&gt;102388&lt;/WKID&gt;&lt;LatestWKID&gt;6348&lt;/LatestWKID&gt;&lt;/ProjectedCoordinateSystem&gt;</peXml>
</coordRef>
<RasterProperties>
<General>
<PixelDepth Sync="TRUE">8</PixelDepth>
<HasColormap Sync="TRUE">FALSE</HasColormap>
<CompressionType Sync="TRUE">None</CompressionType>
<NumBands Sync="TRUE">4</NumBands>
<Format Sync="TRUE">AMD</Format>
<HasPyramids Sync="TRUE">TRUE</HasPyramids>
<SourceType Sync="TRUE">continuous</SourceType>
<PixelType Sync="TRUE">unsigned integer</PixelType>
<NoDataValue Sync="TRUE"/>
</General>
<Properties>
<MaxImageHeight Sync="TRUE">4100</MaxImageHeight>
<MaxImageWidth Sync="TRUE">15000</MaxImageWidth>
<MaxRecordCount Sync="TRUE">1000</MaxRecordCount>
<MaxDownloadImageCount Sync="TRUE">20</MaxDownloadImageCount>
<MaxDownloadSizeLimit Sync="TRUE">2048</MaxDownloadSizeLimit>
<MaxMosaicImageCount Sync="TRUE">20</MaxMosaicImageCount>
<DefaultCompressionQuality Sync="TRUE">87</DefaultCompressionQuality>
<DefaultCompressionTolerance Sync="TRUE">0.01</DefaultCompressionTolerance>
<BlendWidth Sync="TRUE">10</BlendWidth>
<ViewpointSpacingX Sync="TRUE">600</ViewpointSpacingX>
<ViewpointSpacingY Sync="TRUE">300</ViewpointSpacingY>
<AllowedItemMetadata Sync="TRUE">Basic</AllowedItemMetadata>
<DefaultResamplingMethod Sync="TRUE">1</DefaultResamplingMethod>
<AllowedMosaicMethods Sync="TRUE">NorthWest,Center,LockRaster,ByAttribute,Nadir,Viewpoint,Seamline,None</AllowedMosaicMethods>
<AllowedCompressions Sync="TRUE">LZ77,None,JPEG,LERC</AllowedCompressions>
<AllowedMensurationCapabilities Sync="TRUE">None</AllowedMensurationCapabilities>
<AvailableMensurationCapabilities Sync="TRUE">None,Basic,Base-Top Height,Top-Top Shadow Height,Base-Top Shadow Height,3D</AvailableMensurationCapabilities>
<ClipToBoundary Sync="TRUE">0</ClipToBoundary>
<FootprintMayContainNoData Sync="TRUE">-1</FootprintMayContainNoData>
<CellSizeTolerance Sync="TRUE">0.8</CellSizeTolerance>
<MinimumPixelContribution Sync="TRUE">1</MinimumPixelContribution>
<AvailableMosaicMethods Sync="TRUE">NorthWest,Center,LockRaster,ByAttribute,Nadir,Viewpoint,Seamline,None</AvailableMosaicMethods>
<AvailableCompressionMethods Sync="TRUE">None,JPEG,LZ77,LERC</AvailableCompressionMethods>
<AvailableItemMetadataLevels Sync="TRUE">None,Basic,Full</AvailableItemMetadataLevels>
<BandDefinitionKeyword Sync="TRUE">NaturalColorRGBI</BandDefinitionKeyword>
<_docversion_ Sync="TRUE">10</_docversion_>
<AllowedFields Sync="TRUE">Name,MinPS,MaxPS,LowPS,HighPS,Tag,GroupName,ProductName,CenterX,CenterY,ZOrder,Shape_Length,Shape_Area,DateBegin,DateEnd,DateIntBegin,DateIntEnd</AllowedFields>
<DataType Sync="TRUE">Processed</DataType>
<AvailableFields Sync="TRUE">Name,MinPS,MaxPS,LowPS,HighPS,Tag,GroupName,ProductName,CenterX,CenterY,ZOrder,Shape_Length,Shape_Area</AvailableFields>
<SortableFields Sync="TRUE">MinPS,MaxPS,LowPS,HighPS,CenterX,CenterY,ZOrder,Shape_Length,Shape_Area</SortableFields>
<SortAscending Sync="TRUE">-1</SortAscending>
<MosaicOperator Sync="TRUE">1</MosaicOperator>
<BlendWidthUnits Sync="TRUE">1</BlendWidthUnits>
<ClipToFootprint Sync="TRUE">0</ClipToFootprint>
<ClipOverviewsToFootprint Sync="TRUE">0</ClipOverviewsToFootprint>
<HasDodgingTable Sync="TRUE">0</HasDodgingTable>
<ApplyColorCorrection Sync="TRUE">0</ApplyColorCorrection>
<UseTime Sync="TRUE">0</UseTime>
<StartTimeFieldName Sync="TRUE"/>
<EndTimeFieldName Sync="TRUE"/>
<TimeValueFormat Sync="TRUE"/>
<UseRange Sync="TRUE">0</UseRange>
<TimeInterval Sync="TRUE"/>
<TimeIntervalUnits Sync="TRUE"/>
<SortField Sync="TRUE">MinPS</SortField>
<SortValue Sync="TRUE">0</SortValue>
<LowCellSize Sync="TRUE">0.075</LowCellSize>
<HighCellSize Sync="TRUE">656.1</HighCellSize>
<MaxCellSize Sync="TRUE">32805</MaxCellSize>
<TimeStamp.RemoveItems Sync="TRUE">44109.5467582292</TimeStamp.RemoveItems>
<TimeStamp.UpdateExtent Sync="TRUE">44109.5472120023</TimeStamp.UpdateExtent>
<VerticalDimension Sync="TRUE"/>
<FlowDirection Sync="TRUE"/>
</Properties>
<Functions Sync="TRUE">
<Function Description="Performs on-the-fly mosaic on a raster catalog." Name="Mosaic Function"/>
</Functions>
</RasterProperties>
</DataProperties>
<scaleRange>
<minScale>625000</minScale>
<maxScale>5000</maxScale>
</scaleRange>
<SyncDate>20201006</SyncDate>
<SyncTime>13154800</SyncTime>
<ModDate>20201006</ModDate>
<ModTime>13202900</ModTime>
</Esri>
<mdChar>
<CharSetCd value="004"/>
</mdChar>
<mdHrLv>
<ScopeCd value="005"/>
</mdHrLv>
<mdContact>
<rpOrgName>Maine GeoLibrary</rpOrgName>
<rpCntInfo>
<cntPhone>
<voiceNum tddtty="">(207) 266-7087</voiceNum>
</cntPhone>
<cntAddress addressType="postal">
<delPoint>State House Station 145</delPoint>
<city>Augusta</city>
<adminArea>ME</adminArea>
<postCode>04330-0145</postCode>
<country>US</country>
<eMailAdd>GeolibraryBoard.OIT@maine.gov</eMailAdd>
</cntAddress>
</rpCntInfo>
<role>
<RoleCd value="007"/>
</role>
<rpPosName>Executive Director</rpPosName>
<displayName>Maine GeoLibrary</displayName>
</mdContact>
<mdDateSt Sync="TRUE">20201006</mdDateSt>
<mdStanName>ArcGIS Metadata</mdStanName>
<mdStanVer>1.0</mdStanVer>
<dataIdInfo>
<idCitation>
<resTitle>orthoRegional2018</resTitle>
<date>
<pubDate time="unknown">2019-01-21</pubDate>
</date>
<citRespParty>
<rpOrgName>Maine GeoLibrary</rpOrgName>
<rpCntInfo>
<cntPhone>
<voiceNum tddtty="">(207) 266-7087</voiceNum>
</cntPhone>
<cntAddress addressType="postal">
<delPoint>State House Station 145</delPoint>
<city>Augusta</city>
<adminArea>ME</adminArea>
<postCode>04330-0145</postCode>
<country>US</country>
<eMailAdd>GeolibraryBoard.OIT@maine.gov</eMailAdd>
</cntAddress>
</rpCntInfo>
<role>
<RoleCd value="006"/>
</role>
<rpPosName>Executive Director</rpPosName>
<displayName>Maine GeoLibrary</displayName>
</citRespParty>
<presForm>
<PresFormCd Sync="TRUE" value="005"/>
</presForm>
</idCitation>
<idAbs>&lt;DIV STYLE="text-align:Left;"&gt;&lt;DIV&gt;&lt;DIV&gt;&lt;P&gt;&lt;SPAN&gt;Maine Statewide Orthoimagery Project - The Maine GeoLibrary Board has developed a statewide, 5-year, rotating orthoimagery acquisition program for Maine to facilitate state, regional and local government GIS base mapping in an efficient and cost effective program. The State of Maine will use digital orthoimagery for the development of various base map products in a computerized GIS that will support the needs of the state and multiple stakeholders through applications, such as, multi-jurisdictional homeland security mapping applications, state and county emergency management applications, regional and local planning, state and local public safety applications, economic development and other GIS business objectives.&lt;/SPAN&gt;&lt;/P&gt;&lt;P&gt;&lt;SPAN&gt;All imagery was collected during the 2018 Spring flying season during leaf-off conditions for deciduous vegetation in the State of Maine. The sun angle was at 30-degrees or greater, and streams were within their normal banks. During the flight planning and acquisition, a significant effort was made to limit clouds, snow, fog, haze, smoke, or other ground obscuring conditions in the imagery. In no case does the maximum cloud cover exceed 5% per image. Within the immediate areas of power plants, factories, or controlled agricultural burns some steam or smoke and/or shadows may be visible on imagery. GeoTIFF format.&lt;/SPAN&gt;&lt;/P&gt;&lt;/DIV&gt;&lt;/DIV&gt;&lt;/DIV&gt;</idAbs>
<idStatus>
<ProgCd value="001"/>
</idStatus>
<idPoC>
<rpOrgName>Maine GeoLibrary</rpOrgName>
<rpCntInfo>
<cntPhone>
<voiceNum tddtty="">(207) 266-7087</voiceNum>
</cntPhone>
<cntAddress addressType="postal">
<delPoint>State House Station 145</delPoint>
<city>Augusta</city>
<adminArea>ME</adminArea>
<postCode>04330-0145</postCode>
<country>US</country>
<eMailAdd>GeolibraryBoard.OIT@maine.gov</eMailAdd>
</cntAddress>
</rpCntInfo>
<role>
<RoleCd value="007"/>
</role>
<rpPosName>Executive Director</rpPosName>
</idPoC>
<resMaint>
<maintFreq>
<MaintFreqCd value="009"/>
</maintFreq>
</resMaint>
<themeKeys>
<keyword>imageryBaseMapsEarthCover</keyword>
<keyword>orthoimagery</keyword>
</themeKeys>
<searchKeys>
<keyword>imageryBaseMapsEarthCover</keyword>
<keyword>ortho</keyword>
<keyword>orthoimagery</keyword>
<keyword>orthophotography</keyword>
<keyword>orthoRegional</keyword>
<keyword>Maine</keyword>
<keyword>MaineGeoLibrary</keyword>
<keyword>2018</keyword>
</searchKeys>
<resConst>
<Consts>
<useLimit>&lt;DIV STYLE="text-align:Left;"&gt;&lt;DIV&gt;&lt;DIV&gt;&lt;P&gt;&lt;SPAN&gt;None. However, users should be aware that temporal changes may have occurred since this dataset was collected and that some parts of these data may no longer represent actual surface conditions. Users should not use these data for critical applications without a full awareness of its limitations. Acknowledgement of the U.S. Geological Survey would be appreciated for products derived from these data. The information contained in these data is dynamic and may change over time. The data are not better than the original sources from which they were derived. It is the responsibility of the data user to use the data appropriately and within the limitations of the data for which it was requested and prepared, in general, and these data in particular. The related graphics are intended to aid the data user in acquiring relevant data. It is not appropriate to use the related graphics as data. Woolpert gives no warranty, expressed or implied, as to the accuracy, reliability, or completeness of these data. It is strongly recommended that these data are directly acquired from a Woolpert server, and not indirectly through other sources which may have changed the data in some way. Although these data have been processed successfully upon Woolpert???s computer system, no warranty, expressed or implied, is made regarding the utility of the data on another system, or for general or scientific purposes; nor shall the act of distribution constitute any such warranty. This disclaimer applies both to individual use of the data and aggregate use with other data.&lt;/SPAN&gt;&lt;/P&gt;&lt;/DIV&gt;&lt;/DIV&gt;&lt;/DIV&gt;</useLimit>
</Consts>
</resConst>
<resConst>
<LegConsts>
<accessConsts>
<RestrictCd value="008"/>
</accessConsts>
<othConsts>No restrictions apply to this data.</othConsts>
</LegConsts>
</resConst>
<spatRpType>
<SpatRepTypCd value="002"/>
</spatRpType>
<envirDesc>Microsoft Windows 10; ArcMap 10.4; ArcCatalog 10.4; Global Mapper v19.0; ORIMA; OrthoVista v8.0; LizardTech GeoExpress.</envirDesc>
<dataExt>
<geoEle>
<GeoBndBox>
<exTypeCode>true</exTypeCode>
<westBL>-70.820033</westBL>
<eastBL>-69.585659</eastBL>
<northBL>44.589260</northBL>
<southBL>42.969940</southBL>
</GeoBndBox>
</geoEle>
</dataExt>
<dataExt>
<exDesc>ground condition</exDesc>
<tempEle>
<TempExtent>
<exTemp>
<TM_Instant>
<tmPosition>2018-04-22</tmPosition>
</TM_Instant>
</exTemp>
</TempExtent>
</tempEle>
<tempEle>
<TempExtent>
<exTemp>
<TM_Instant>
<tmPosition>2018-04-24</tmPosition>
</TM_Instant>
</exTemp>
</TempExtent>
</tempEle>
<tempEle>
<TempExtent>
<exTemp>
<TM_Instant>
<tmPosition>2018-04-27</tmPosition>
</TM_Instant>
</exTemp>
</TempExtent>
</tempEle>
<tempEle>
<TempExtent>
<exTemp>
<TM_Instant>
<tmPosition>2018-05-02</tmPosition>
</TM_Instant>
</exTemp>
</TempExtent>
</tempEle>
<tempEle>
<TempExtent>
<exTemp>
<TM_Instant>
<tmPosition>2018-05-03</tmPosition>
</TM_Instant>
</exTemp>
</TempExtent>
</tempEle>
<tempEle>
<TempExtent>
<exTemp>
<TM_Instant>
<tmPosition>2018-05-05</tmPosition>
</TM_Instant>
</exTemp>
</TempExtent>
</tempEle>
<tempEle>
<TempExtent>
<exTemp>
<TM_Instant>
<tmPosition>2018-05-08</tmPosition>
</TM_Instant>
</exTemp>
</TempExtent>
</tempEle>
<tempEle>
<TempExtent>
<exTemp>
<TM_Instant>
<tmPosition>2018-05-11</tmPosition>
</TM_Instant>
</exTemp>
</TempExtent>
</tempEle>
</dataExt>
<idCredit>Maine GeoLibrary</idCredit>
<idPurp>Maine Orthoimagery Regional 2018</idPurp>
<placeKeys>
<keyword>United States</keyword>
<keyword>State</keyword>
<keyword>Maine</keyword>
</placeKeys>
<dataLang>
<languageCode Sync="TRUE" value="eng"/>
<countryCode Sync="TRUE" value="USA"/>
</dataLang>
<dataExt>
<geoEle>
<GeoBndBox esriExtentType="search">
<exTypeCode Sync="TRUE">1</exTypeCode>
<westBL Sync="TRUE">-71.046614</westBL>
<eastBL Sync="TRUE">-68.533861</eastBL>
<northBL Sync="TRUE">44.590844</northBL>
<southBL Sync="TRUE">42.966312</southBL>
</GeoBndBox>
</geoEle>
</dataExt>
<tpCat>
<TopicCatCd value="010"/>
</tpCat>
</dataIdInfo>
<dqInfo>
<dqScope>
<scpLvl>
<ScopeCd value="005"/>
</scpLvl>
</dqScope>
<report type="DQConcConsis">
<measDesc>Digital imagery was flown within prescribed parameters having proper orientation and the highest radiometric quality.</measDesc>
</report>
<report type="DQCompOm">
<measDesc>All digital imagery are visually inspected for completeness to ensure that no gaps or image misplacements exist within and between adjacent images.</measDesc>
</report>
<dataLineage>
<prcStep>
<stepDesc>The imagery was acquired using Leica ADS80 (Airborne Digital Sensor). The Leica ADS80 series records all objects, with equal resolution as a 12-bit image, in panchromatic from three different viewing angles as well as additional viewing angles in RGB color and near infrared (4-band) color aerial imagery.
Leica GeoSystem???s XPro software program was used to perform image processing and aerial triangulation. This package provides the capability to perform digital image processing, aerial triangulation and image rectification. Image mosaicking and final tiling was performed using OrthoVista software.
</stepDesc>
<stepDateTm>2018-05-11</stepDateTm>
<stepProc>
<rpOrgName>Woolpert, Inc.</rpOrgName>
<rpPosName>Geospatial Services</rpPosName>
<rpCntInfo>
<cntPhone>
<voiceNum>(937) 461-5660</voiceNum>
<faxNum>(937) 461-0743</faxNum>
</cntPhone>
<cntAddress addressType="both">
<delPoint>4454 Idea Center Blvd.</delPoint>
<city>Dayton</city>
<adminArea>OH</adminArea>
<postCode>45430</postCode>
<country>US</country>
</cntAddress>
<cntHours>8:00 a.m. to 5:00 p.m. Eastern Time</cntHours>
</rpCntInfo>
<role>
<RoleCd value="009"/>
</role>
</stepProc>
</prcStep>
</dataLineage>
</dqInfo>
<spatRepInfo>
<Georect>
<numDims>2</numDims>
<axisDimension type="001">
<dimSize>5000</dimSize>
<dimResol>
<value Sync="TRUE" uom="m">0.075000</value>
</dimResol>
</axisDimension>
<axisDimension type="002">
<dimSize>5000</dimSize>
<dimResol>
<value Sync="TRUE" uom="m">0.075000</value>
</dimResol>
</axisDimension>
<cellGeo>
<CellGeoCd Sync="TRUE" value="002"/>
</cellGeo>
<tranParaAv Sync="TRUE">1</tranParaAv>
<chkPtAv Sync="TRUE">0</chkPtAv>
<cornerPts>
<pos Sync="TRUE">337500.000000 4759000.000000</pos>
</cornerPts>
<cornerPts>
<pos Sync="TRUE">337500.000000 4937500.000000</pos>
</cornerPts>
<cornerPts>
<pos Sync="TRUE">537000.000000 4937500.000000</pos>
</cornerPts>
<cornerPts>
<pos Sync="TRUE">537000.000000 4759000.000000</pos>
</cornerPts>
<centerPt>
<pos Sync="TRUE">437250.000000 4848250.000000</pos>
</centerPt>
<ptInPixel>
<PixOrientCd Sync="TRUE" value="001"/>
</ptInPixel>
</Georect>
</spatRepInfo>
<mdLang>
<languageCode Sync="TRUE" value="eng"/>
<countryCode Sync="TRUE" value="USA"/>
</mdLang>
<refSysInfo>
<RefSystem>
<refSysID>
<identCode Sync="TRUE" code="6348"/>
<idCodeSpace Sync="TRUE">EPSG</idCodeSpace>
<idVersion Sync="TRUE">8.2.2(10.2.1)</idVersion>
</refSysID>
</RefSystem>
</refSysInfo>
<contInfo>
<ImgDesc>
<contentTyp>
<ContentTypCd Sync="TRUE" value="001"/>
</contentTyp>
<covDim>
<Band>
<dimDescrp Sync="TRUE">Red</dimDescrp>
<maxVal Sync="TRUE">250.000000</maxVal>
<minVal Sync="TRUE">0.000000</minVal>
<bitsPerVal Sync="TRUE">8</bitsPerVal>
<valUnit>
<UOM type="length"/>
</valUnit>
</Band>
<Band>
<dimDescrp Sync="TRUE">Green</dimDescrp>
<maxVal Sync="TRUE">253.000000</maxVal>
<minVal Sync="TRUE">1.000000</minVal>
<bitsPerVal Sync="TRUE">8</bitsPerVal>
<valUnit>
<UOM type="length"/>
</valUnit>
</Band>
<Band>
<dimDescrp Sync="TRUE">Blue</dimDescrp>
<maxVal Sync="TRUE">251.000000</maxVal>
<minVal Sync="TRUE">16.000000</minVal>
<bitsPerVal Sync="TRUE">8</bitsPerVal>
<valUnit>
<UOM type="length"/>
</valUnit>
</Band>
<Band>
<dimDescrp Sync="TRUE">Infrared</dimDescrp>
<maxVal Sync="TRUE">219.000000</maxVal>
<minVal Sync="TRUE">0.000000</minVal>
<bitsPerVal Sync="TRUE">8</bitsPerVal>
<valUnit>
<UOM type="length"/>
</valUnit>
</Band>
</covDim>
</ImgDesc>
</contInfo>
</metadata>
