<?xml version="1.0" encoding="UTF-8" standalone="no"?>
<metadata xml:lang="en">
<Esri>
<CreaDate>20201230</CreaDate>
<CreaTime>14194200</CreaTime>
<ArcGISFormat>1.0</ArcGISFormat>
<SyncOnce>FALSE</SyncOnce>
<DataProperties>
<itemProps>
<itemName Sync="TRUE">oiRegional2020</itemName>
<nativeExtBox>
<westBL Sync="TRUE">350250.000000</westBL>
<eastBL Sync="TRUE">585000.000000</eastBL>
<southBL Sync="TRUE">4831375.000000</southBL>
<northBL Sync="TRUE">5012500.000000</northBL>
<exTypeCode Sync="TRUE">1</exTypeCode>
</nativeExtBox>
<imsContentType export="False">001</imsContentType>
</itemProps>
<coordRef>
<type Sync="TRUE">Projected</type>
<geogcsn Sync="TRUE">GCS_NAD_1983_2011</geogcsn>
<csUnits Sync="TRUE">Linear Unit: Meter (1.000000)</csUnits>
<projcsn Sync="TRUE">NAD_1983_2011_UTM_Zone_19N</projcsn>
<peXml Sync="TRUE">&lt;ProjectedCoordinateSystem xsi:type='typens:ProjectedCoordinateSystem' xmlns:xsi='http://www.w3.org/2001/XMLSchema-instance' xmlns:xs='http://www.w3.org/2001/XMLSchema' xmlns:typens='http://www.esri.com/schemas/ArcGIS/2.6.0'&gt;&lt;WKT&gt;PROJCS[&amp;quot;NAD_1983_2011_UTM_Zone_19N&amp;quot;,GEOGCS[&amp;quot;GCS_NAD_1983_2011&amp;quot;,DATUM[&amp;quot;D_NAD_1983_2011&amp;quot;,SPHEROID[&amp;quot;GRS_1980&amp;quot;,6378137.0,298.257222101]],PRIMEM[&amp;quot;Greenwich&amp;quot;,0.0],UNIT[&amp;quot;Degree&amp;quot;,0.0174532925199433]],PROJECTION[&amp;quot;Transverse_Mercator&amp;quot;],PARAMETER[&amp;quot;False_Easting&amp;quot;,500000.0],PARAMETER[&amp;quot;False_Northing&amp;quot;,0.0],PARAMETER[&amp;quot;Central_Meridian&amp;quot;,-69.0],PARAMETER[&amp;quot;Scale_Factor&amp;quot;,0.9996],PARAMETER[&amp;quot;Latitude_Of_Origin&amp;quot;,0.0],UNIT[&amp;quot;Meter&amp;quot;,1.0],AUTHORITY[&amp;quot;EPSG&amp;quot;,6348]]&lt;/WKT&gt;&lt;XOrigin&gt;-5120900&lt;/XOrigin&gt;&lt;YOrigin&gt;-9998100&lt;/YOrigin&gt;&lt;XYScale&gt;450445547.3910538&lt;/XYScale&gt;&lt;ZOrigin&gt;-100000&lt;/ZOrigin&gt;&lt;ZScale&gt;10000&lt;/ZScale&gt;&lt;MOrigin&gt;-100000&lt;/MOrigin&gt;&lt;MScale&gt;10000&lt;/MScale&gt;&lt;XYTolerance&gt;0.001&lt;/XYTolerance&gt;&lt;ZTolerance&gt;0.001&lt;/ZTolerance&gt;&lt;MTolerance&gt;0.001&lt;/MTolerance&gt;&lt;HighPrecision&gt;true&lt;/HighPrecision&gt;&lt;WKID&gt;102388&lt;/WKID&gt;&lt;LatestWKID&gt;6348&lt;/LatestWKID&gt;&lt;/ProjectedCoordinateSystem&gt;</peXml>
</coordRef>
<RasterProperties>
<General>
<PixelDepth Sync="TRUE">8</PixelDepth>
<HasColormap Sync="TRUE">FALSE</HasColormap>
<CompressionType Sync="TRUE">None</CompressionType>
<NumBands Sync="TRUE">4</NumBands>
<Format Sync="TRUE">AMD</Format>
<HasPyramids Sync="TRUE">TRUE</HasPyramids>
<SourceType Sync="TRUE">continuous</SourceType>
<PixelType Sync="TRUE">unsigned integer</PixelType>
<NoDataValue Sync="TRUE">
</NoDataValue>
</General>
<Properties>
<MaxImageHeight Sync="TRUE">4100</MaxImageHeight>
<MaxImageWidth Sync="TRUE">15000</MaxImageWidth>
<MaxRecordCount Sync="TRUE">1000</MaxRecordCount>
<MaxDownloadImageCount Sync="TRUE">20</MaxDownloadImageCount>
<MaxDownloadSizeLimit Sync="TRUE">2048</MaxDownloadSizeLimit>
<MaxMosaicImageCount Sync="TRUE">20</MaxMosaicImageCount>
<DefaultCompressionQuality Sync="TRUE">87</DefaultCompressionQuality>
<DefaultCompressionTolerance Sync="TRUE">0.01</DefaultCompressionTolerance>
<BlendWidth Sync="TRUE">10</BlendWidth>
<ViewpointSpacingX Sync="TRUE">600</ViewpointSpacingX>
<ViewpointSpacingY Sync="TRUE">300</ViewpointSpacingY>
<AllowedItemMetadata Sync="TRUE">Basic</AllowedItemMetadata>
<DefaultResamplingMethod Sync="TRUE">1</DefaultResamplingMethod>
<AllowedMosaicMethods Sync="TRUE">NorthWest,Center,LockRaster,ByAttribute,Nadir,Viewpoint,Seamline,None</AllowedMosaicMethods>
<AllowedCompressions Sync="TRUE">LZ77,None,JPEG,LERC</AllowedCompressions>
<AllowedMensurationCapabilities Sync="TRUE">None</AllowedMensurationCapabilities>
<AvailableMensurationCapabilities Sync="TRUE">None,Basic,Base-Top Height,Top-Top Shadow Height,Base-Top Shadow Height,3D</AvailableMensurationCapabilities>
<ClipToBoundary Sync="TRUE">-1</ClipToBoundary>
<FootprintMayContainNoData Sync="TRUE">-1</FootprintMayContainNoData>
<CellSizeTolerance Sync="TRUE">0.8</CellSizeTolerance>
<MinimumPixelContribution Sync="TRUE">1</MinimumPixelContribution>
<AvailableMosaicMethods Sync="TRUE">NorthWest,Center,LockRaster,ByAttribute,Nadir,Viewpoint,Seamline,None</AvailableMosaicMethods>
<AvailableCompressionMethods Sync="TRUE">None,JPEG,LZ77,LERC</AvailableCompressionMethods>
<AvailableItemMetadataLevels Sync="TRUE">None,Basic,Full</AvailableItemMetadataLevels>
<BandDefinitionKeyword Sync="TRUE">NaturalColorRGBI</BandDefinitionKeyword>
<_docversion_ Sync="TRUE">10</_docversion_>
<AllowedFields Sync="TRUE">Name,MinPS,MaxPS,LowPS,HighPS,Tag,GroupName,ProductName,CenterX,CenterY,ZOrder,Shape_Length,Shape_Area,DateBegin,DateEnd,DateIntEnd,DateIntBegin</AllowedFields>
<LowCellSize Sync="TRUE">0.075</LowCellSize>
<HighCellSize Sync="TRUE">984.15</HighCellSize>
<MaxCellSize Sync="TRUE">49207.5</MaxCellSize>
<DataType Sync="TRUE">Processed</DataType>
<AvailableFields Sync="TRUE">Name,MinPS,MaxPS,LowPS,HighPS,Tag,GroupName,ProductName,CenterX,CenterY,ZOrder,Shape_Length,Shape_Area</AvailableFields>
<SortableFields Sync="TRUE">MinPS,MaxPS,LowPS,HighPS,CenterX,CenterY,ZOrder,Shape_Length,Shape_Area</SortableFields>
<SortAscending Sync="TRUE">-1</SortAscending>
<MosaicOperator Sync="TRUE">1</MosaicOperator>
<BlendWidthUnits Sync="TRUE">1</BlendWidthUnits>
<ClipToFootprint Sync="TRUE">0</ClipToFootprint>
<ClipOverviewsToFootprint Sync="TRUE">0</ClipOverviewsToFootprint>
<HasDodgingTable Sync="TRUE">0</HasDodgingTable>
<ApplyColorCorrection Sync="TRUE">0</ApplyColorCorrection>
<UseTime Sync="TRUE">0</UseTime>
<StartTimeFieldName Sync="TRUE">
</StartTimeFieldName>
<EndTimeFieldName Sync="TRUE">
</EndTimeFieldName>
<TimeValueFormat Sync="TRUE">
</TimeValueFormat>
<UseRange Sync="TRUE">0</UseRange>
<TimeInterval Sync="TRUE">
</TimeInterval>
<TimeIntervalUnits Sync="TRUE">
</TimeIntervalUnits>
<PixelCacheLocation Sync="FALSE">withheld</PixelCacheLocation>
<TimeStamp.RemoveItems Sync="TRUE">44199.5400376273</TimeStamp.RemoveItems>
<TimeStamp.UpdateExtent Sync="TRUE">44199.5402363426</TimeStamp.UpdateExtent>
</Properties>
<Functions Sync="TRUE">
<Function Description="Performs on-the-fly mosaic on a raster catalog." Name="Mosaic Function">
</Function>
</Functions>
</RasterProperties>
</DataProperties>
<SyncDate>20210104</SyncDate>
<SyncTime>05335700</SyncTime>
<ModDate>20210104</ModDate>
<ModTime>5540800</ModTime>
<scaleRange>
<minScale>625000</minScale>
<maxScale>5000</maxScale>
</scaleRange>
</Esri>
<mdChar>
<CharSetCd value="004">
</CharSetCd>
</mdChar>
<mdHrLv>
<ScopeCd value="005">
</ScopeCd>
</mdHrLv>
<mdContact>
<rpOrgName>State of Maine, Office of Information Technology</rpOrgName>
<rpCntInfo>
<cntPhone>
<voiceNum>207.266.7087</voiceNum>
</cntPhone>
<cntAddress addressType="both">
<delPoint>SHS145, 51 Commerce Street</delPoint>
<city>Augusta</city>
<adminArea>ME</adminArea>
<postCode>04333-145</postCode>
<country>US</country>
</cntAddress>
</rpCntInfo>
<role>
<RoleCd value="007">
</RoleCd>
</role>
</mdContact>
<mdDateSt Sync="TRUE">20210104</mdDateSt>
<mdStanName>ArcGIS Metadata</mdStanName>
<mdStanVer>1.0</mdStanVer>
<dataIdInfo>
<idCitation>
<resTitle>orthoRegional2020</resTitle>
<date>
<pubDate>2020-12-21</pubDate>
</date>
<citRespParty>
<rpOrgName>STATE OF MAINE, OFFICE OF INFORMATION TECHNOLOGY</rpOrgName>
<role>
<RoleCd value="006">
</RoleCd>
</role>
</citRespParty>
<presForm>
<PresFormCd Sync="TRUE" value="005">
</PresFormCd>
<fgdcGeoform>raster digital data</fgdcGeoform>
</presForm>
<resAltTitle>oiRegional2020</resAltTitle>
<collTitle>Maine Orthoimagery Regional 2020</collTitle>
</idCitation>
<idAbs/>
<idPurp/>
<idStatus>
<ProgCd value="001">
</ProgCd>
</idStatus>
<idPoC>
<rpOrgName>State of Maine, Office of Information Technology</rpOrgName>
<rpCntInfo>
<cntPhone>
<voiceNum>207.266.7087</voiceNum>
</cntPhone>
<cntAddress addressType="both">
<delPoint>SHS145, 51 Commerce Street</delPoint>
<city>Augusta</city>
<adminArea>ME</adminArea>
<postCode>04333-145</postCode>
<country>US</country>
</cntAddress>
</rpCntInfo>
<role>
<RoleCd value="007">
</RoleCd>
</role>
</idPoC>
<resMaint>
<maintFreq>
<MaintFreqCd value="009">
</MaintFreqCd>
</maintFreq>
</resMaint>
<themeKeys>
<keyword>imageryBaseMpasEarthCover</keyword>
</themeKeys>
<searchKeys>
<keyword>orthoRegional2020</keyword>
<keyword>ImageServer</keyword>
</searchKeys>
<resConst>
<Consts>
<useLimit/>
</Consts>
</resConst>
<resConst>
<LegConsts>
<accessConsts>
<RestrictCd value="008">
</RestrictCd>
</accessConsts>
<othConsts>No restrictions apply to this data.</othConsts>
</LegConsts>
</resConst>
<spatRpType>
<SpatRepTypCd value="002">
</SpatRepTypCd>
</spatRpType>
<envirDesc>ArcMap 10.7; ArcCatalog 10.7; Global Mapper v20.0; OrthoVista v8.0; LizardTech GeoExpress.</envirDesc>
<dataExt>
<geoEle>
<GeoBndBox>
<exTypeCode>true</exTypeCode>
<westBL>-70.8794318</westBL>
<eastBL>-67.9268848</eastBL>
<northBL>45.2710610</northBL>
<southBL>43.6230941</southBL>
</GeoBndBox>
</geoEle>
</dataExt>
<dataExt>
<exDesc>ground condition</exDesc>
<tempEle>
<TempExtent>
<exTemp>
<TM_Instant>
<tmPosition>2020-04-23T00:00:00</tmPosition>
</TM_Instant>
</exTemp>
</TempExtent>
</tempEle>
<tempEle>
<TempExtent>
<exTemp>
<TM_Instant>
<tmPosition>2020-04-29T00:00:00</tmPosition>
</TM_Instant>
</exTemp>
</TempExtent>
</tempEle>
</dataExt>
<dataLang>
<languageCode Sync="TRUE" value="eng">
</languageCode>
<countryCode Sync="TRUE" value="USA">
</countryCode>
</dataLang>
<dataExt>
<geoEle>
<GeoBndBox esriExtentType="search">
<exTypeCode Sync="TRUE">1</exTypeCode>
<westBL Sync="FALSE">-70.8794318</westBL>
<eastBL Sync="FALSE">-67.9268848</eastBL>
<northBL Sync="FALSE">45.2710610</northBL>
<southBL Sync="FALSE">43.6230941</southBL>
</GeoBndBox>
</geoEle>
</dataExt>
<idCredit/>
<placeKeys>
<keyword>United States</keyword>
<keyword>State</keyword>
<keyword>Maine</keyword>
</placeKeys>
<dataChar>
<CharSetCd value="004">
</CharSetCd>
</dataChar>
<tpCat>
<TopicCatCd value="010">
</TopicCatCd>
</tpCat>
</dataIdInfo>
<dqInfo>
<dqScope>
<scpLvl>
<ScopeCd value="005">
</ScopeCd>
</scpLvl>
</dqScope>
<report type="DQConcConsis">
<measDesc>Digital imagery was flown within prescribed parameters having proper orientation and the highest radiometric quality.</measDesc>
</report>
<report type="DQCompOm">
<measDesc>All digital imagery are visually inspected for completeness to ensure that no gaps or image misplacements exist within and between adjacent images.</measDesc>
</report>
<dataLineage>
<prcStep>
<stepDesc>The Leica ADS100 Airborne Digital Sensor is a push-broom geometry sensor, collecting 12-bit data with 20,000 pixel swath coverage with up to a 5-centimeter spatial resolution. The sensor is capable of collecting multiple spectral bands and angles simultaneously. Leica ADS100 collects seven bands of imagery simultaneously: three panchromatic CCD lines capture information in the forward, nadir and backward views from the aircraft, while four multispectral lines capture data in the red, green, blue, and near color infrared band. The imagery for this task order was acquired using the Leica ADS100 multispectral scanner. The ADS100 utilizes the Leica IPAS20 direct positioning and orientation system that is based on airborne GPS and inertial measurement unit (IMU) technology. The IPAS20 data were reduced using Leica Inertial Explorer software package. All of the source imagery was processed using the Leica XPRO software package. This package provides the capability to perform digital image processing, aerial triangulation, and image rectification.</stepDesc>
<stepDateTm>2020-12-21T00:00:00</stepDateTm>
<stepProc>
<rpOrgName>Woolpert</rpOrgName>
<rpPosName>Geospatial Services</rpPosName>
<rpCntInfo>
<cntPhone>
<voiceNum>(937) 461-5660</voiceNum>
<faxNum>(937) 461-0743</faxNum>
</cntPhone>
<cntAddress addressType="both">
<delPoint>4454 Idea Center Blvd.</delPoint>
<city>Dayton</city>
<adminArea>OH</adminArea>
<postCode>45430</postCode>
<country>US</country>
</cntAddress>
<cntHours>8:00 a.m. to 5:00 p.m. Eastern Time</cntHours>
</rpCntInfo>
<role>
<RoleCd value="009">
</RoleCd>
</role>
</stepProc>
</prcStep>
<prcStep>
<stepDesc>. The individual rectified strips of ortho rectified imagery were then mosaicked together to form a seamless imagery database over the entire task order area using the OrthoVista software. The final digital orthophoto imagery (DOI) were extracted using OrthoVista. Final orthophoto non-overlapping tiles were produced in GeoTIFF format (with World files) using a cell size of 45cm (18-inch) and a tile size of 1,500 m x 1,500 m.</stepDesc>
<stepDateTm>2020-12-21T00:00:00</stepDateTm>
<stepProc>
<rpOrgName>Woolpert</rpOrgName>
<rpPosName>Geospatial Services</rpPosName>
<rpCntInfo>
<cntPhone>
<voiceNum>(937) 461-5660</voiceNum>
</cntPhone>
<cntAddress addressType="both">
<delPoint>4454 Idea Center Blvd.</delPoint>
<city>Dayton</city>
<adminArea>OH</adminArea>
<postCode>45430</postCode>
<country>US</country>
</cntAddress>
<cntHours>8:00 a.m. to 5:00 p.m. Eastern Time</cntHours>
</rpCntInfo>
<role>
<RoleCd value="009">
</RoleCd>
</role>
</stepProc>
</prcStep>
<prcStep>
<stepDesc>Enterprise GIS Hosting</stepDesc>
<stepRat>Source data where copied and stored unaltered from vendor provided delivery files. Esri ArcGIS Enterprise File Geo DataBase (FGDB) and Mosaic Data Set (MDS) where created. Source rasters were added to MDS. Overview tiles constructed for rendering at small scale. GIS Image and OGC services created.</stepRat>
<stepDateTm>2021-01-04T00:00:00</stepDateTm>
</prcStep>
</dataLineage>
</dqInfo>
<spatRepInfo>
<Georect>
<numDims>2</numDims>
<axisDimension type="001">
<dimSize>5000</dimSize>
<dimResol>
<value Sync="TRUE" uom="m">0.075000</value>
</dimResol>
</axisDimension>
<axisDimension type="002">
<dimSize>5000</dimSize>
<dimResol>
<value Sync="TRUE" uom="m">0.075000</value>
</dimResol>
</axisDimension>
<cellGeo>
<CellGeoCd Sync="TRUE" value="002">
</CellGeoCd>
</cellGeo>
<tranParaAv Sync="TRUE">1</tranParaAv>
<chkPtAv Sync="TRUE">0</chkPtAv>
<cornerPts>
<pos Sync="TRUE">350250.000000 4831375.000000</pos>
</cornerPts>
<cornerPts>
<pos Sync="TRUE">350250.000000 5012500.000000</pos>
</cornerPts>
<cornerPts>
<pos Sync="TRUE">585000.000000 5012500.000000</pos>
</cornerPts>
<cornerPts>
<pos Sync="TRUE">585000.000000 4831375.000000</pos>
</cornerPts>
<centerPt>
<pos Sync="TRUE">467625.000000 4921937.500000</pos>
</centerPt>
<ptInPixel>
<PixOrientCd Sync="TRUE" value="001">
</PixOrientCd>
</ptInPixel>
</Georect>
</spatRepInfo>
<mdLang>
<languageCode Sync="TRUE" value="eng">
</languageCode>
<countryCode Sync="TRUE" value="USA">
</countryCode>
</mdLang>
<refSysInfo>
<RefSystem>
<refSysID>
<identCode Sync="TRUE" code="6348">
</identCode>
<idCodeSpace Sync="TRUE">EPSG</idCodeSpace>
<idVersion Sync="TRUE">8.2.2(10.2.1)</idVersion>
</refSysID>
</RefSystem>
</refSysInfo>
<contInfo>
<ImgDesc>
<contentTyp>
<ContentTypCd Sync="TRUE" value="001">
</ContentTypCd>
</contentTyp>
<covDim>
<Band>
<dimDescrp Sync="TRUE">Red</dimDescrp>
<maxVal Sync="TRUE">247.000000</maxVal>
<minVal Sync="TRUE">2.000000</minVal>
<bitsPerVal Sync="TRUE">8</bitsPerVal>
<valUnit>
<UOM gmlID="" type="length">
</UOM>
</valUnit>
</Band>
<Band>
<dimDescrp Sync="TRUE">Green</dimDescrp>
<maxVal Sync="TRUE">247.000000</maxVal>
<minVal Sync="TRUE">1.000000</minVal>
<bitsPerVal Sync="TRUE">8</bitsPerVal>
<valUnit>
<UOM gmlID="" type="length">
</UOM>
</valUnit>
</Band>
<Band>
<dimDescrp Sync="TRUE">Blue</dimDescrp>
<maxVal Sync="TRUE">246.000000</maxVal>
<minVal Sync="TRUE">3.000000</minVal>
<bitsPerVal Sync="TRUE">8</bitsPerVal>
<valUnit>
<UOM gmlID="" type="length">
</UOM>
</valUnit>
</Band>
<Band>
<dimDescrp Sync="TRUE">Infrared</dimDescrp>
<maxVal Sync="TRUE">250.000000</maxVal>
<minVal Sync="TRUE">0.000000</minVal>
<bitsPerVal Sync="TRUE">8</bitsPerVal>
<valUnit>
<UOM gmlID="" type="length">
</UOM>
</valUnit>
</Band>
</covDim>
<attDesc>image</attDesc>
<trianInd>False</trianInd>
<radCalDatAv>False</radCalDatAv>
<camCalInAv>False</camCalInAv>
<filmDistInAv>False</filmDistInAv>
<lensDistInAv>False</lensDistInAv>
</ImgDesc>
</contInfo>
<mdFileID>9309EC87-A8F0-4F03-942E-96F4EC6BA984</mdFileID>
<mdMaint>
<maintFreq>
<MaintFreqCd value="011">
</MaintFreqCd>
</maintFreq>
</mdMaint>
</metadata>
