<?xml version="1.0" encoding="UTF-8" standalone="no"?>
<metadata xml:lang="en">
<Esri>
<CreaDate>20211123</CreaDate>
<CreaTime>06182400</CreaTime>
<ArcGISFormat>1.0</ArcGISFormat>
<SyncOnce>FALSE</SyncOnce>
<DataProperties>
<lineage>
<Process Date="20211123" Name="" Time="061824" ToolSource="c:\program files\arcgis\pro\Resources\ArcToolbox\toolboxes\Data Management Tools.tbx\CreateMosaicDataset" export="">CreateMosaicDataset \\stgisdataprd001.file.core.windows.net\gisprd1gisdata\svcFgdb\megis\orthoRegional.gdb orthoRegional2021 PROJCS["NAD_1983_2011_UTM_Zone_19N",GEOGCS["GCS_NAD_1983_2011",DATUM["D_NAD_1983_2011",SPHEROID["GRS_1980",6378137.0,298.257222101]],PRIMEM["Greenwich",0.0],UNIT["Degree",0.0174532925199433]],PROJECTION["Transverse_Mercator"],PARAMETER["False_Easting",500000.0],PARAMETER["False_Northing",0.0],PARAMETER["Central_Meridian",-69.0],PARAMETER["Scale_Factor",0.9996],PARAMETER["Latitude_Of_Origin",0.0],UNIT["Meter",1.0]] 4 "8-bit unsigned" "Natural color and infrared" "Red 630 690;Green 530 570;Blue 440 510;Infrared 770 830"</Process>
<Process Date="20211123" Name="" Time="090554" ToolSource="c:\program files\arcgis\pro\Resources\ArcToolbox\toolboxes\Data Management Tools.tbx\AddRastersToMosaicDataset" export="">AddRastersToMosaicDataset \\stgisdataprd001.file.core.windows.net\gisprd1gisdata\svcFgdb\megis\orthoRegional.gdb\orthoRegional2021 "Raster Dataset" \\stgisimgprd001.file.core.windows.net\gisdata\megis\ras\ortho\ortho2021\075cm\tif UPDATE_CELL_SIZES UPDATE_BOUNDARY NO_OVERVIEWS # 0 1500 "PROJCS["NAD_1983_2011_UTM_Zone_19N",GEOGCS["GCS_NAD_1983_2011",DATUM["D_NAD_1983_2011",SPHEROID["GRS_1980",6378137.0,298.257222101]],PRIMEM["Greenwich",0.0],UNIT["Degree",0.0174532925199433]],PROJECTION["Transverse_Mercator"],PARAMETER["False_Easting",500000.0],PARAMETER["False_Northing",0.0],PARAMETER["Central_Meridian",-69.0],PARAMETER["Scale_Factor",0.9996],PARAMETER["Latitude_Of_Origin",0.0],UNIT["Meter",1.0]];-5120900 -9998100 10000;-100000 10000;-100000 10000;0.001;0.001;0.001;IsHighPrecision" # SUBFOLDERS "Allow duplicates" NO_PYRAMIDS CALCULATE_STATISTICS NO_THUMBNAILS # NO_FORCE_SPATIAL_REFERENCE NO_STATISTICS # NO_PIXEL_CACHE C:\Users\T93A7~1.MET\AppData\Local\Temp\2\ArcGISProTemp9448\orthoRegional2021</Process>
<Process Date="20211123" Name="" Time="092425" ToolSource="c:\program files\arcgis\pro\Resources\ArcToolbox\toolboxes\Data Management Tools.tbx\AddRastersToMosaicDataset" export="">AddRastersToMosaicDataset \\stgisdataprd001.file.core.windows.net\gisprd1gisdata\svcFgdb\megis\orthoRegional.gdb\orthoRegional2021 "Raster Dataset" \\stgisimgprd001.file.core.windows.net\gisdata\megis\ras\ortho\ortho2021\15cm\tif UPDATE_CELL_SIZES UPDATE_BOUNDARY NO_OVERVIEWS # 0 1500 "PROJCS["NAD_1983_2011_UTM_Zone_19N",GEOGCS["GCS_NAD_1983_2011",DATUM["D_NAD_1983_2011",SPHEROID["GRS_1980",6378137.0,298.257222101]],PRIMEM["Greenwich",0.0],UNIT["Degree",0.0174532925199433]],PROJECTION["Transverse_Mercator"],PARAMETER["False_Easting",500000.0],PARAMETER["False_Northing",0.0],PARAMETER["Central_Meridian",-69.0],PARAMETER["Scale_Factor",0.9996],PARAMETER["Latitude_Of_Origin",0.0],UNIT["Meter",1.0]];-5120900 -9998100 10000;-100000 10000;-100000 10000;0.001;0.001;0.001;IsHighPrecision" # SUBFOLDERS "Allow duplicates" NO_PYRAMIDS CALCULATE_STATISTICS NO_THUMBNAILS # NO_FORCE_SPATIAL_REFERENCE NO_STATISTICS # NO_PIXEL_CACHE C:\Users\T93A7~1.MET\AppData\Local\Temp\2\ArcGISProTemp9448\orthoRegional2021</Process>
</lineage>
<itemProps>
<imsContentType export="False">001</imsContentType>
<itemName Sync="TRUE">orthoRegional2021</itemName>
<itemLocation>
<linkage Sync="TRUE">file://\\stgisdataprd001.file.core.windows.net\gisprd1gisdata\svcFgdb\megis\orthoRegional.gdb</linkage>
<protocol Sync="TRUE">Local Area Network</protocol>
</itemLocation>
<nativeExtBox>
<westBL Sync="TRUE">373500.000000</westBL>
<eastBL Sync="TRUE">406875.000000</eastBL>
<southBL Sync="TRUE">4820750.000000</southBL>
<northBL Sync="TRUE">4859000.000000</northBL>
<exTypeCode Sync="TRUE">1</exTypeCode>
</nativeExtBox>
</itemProps>
<coordRef>
<type Sync="TRUE">Projected</type>
<geogcsn Sync="TRUE">GCS_NAD_1983_2011</geogcsn>
<csUnits Sync="TRUE">Linear Unit: Meter (1.000000)</csUnits>
<projcsn Sync="TRUE">NAD_1983_2011_UTM_Zone_19N</projcsn>
<peXml Sync="TRUE">&lt;ProjectedCoordinateSystem xsi:type='typens:ProjectedCoordinateSystem' xmlns:xsi='http://www.w3.org/2001/XMLSchema-instance' xmlns:xs='http://www.w3.org/2001/XMLSchema' xmlns:typens='http://www.esri.com/schemas/ArcGIS/2.9.0'&gt;&lt;WKT&gt;PROJCS[&amp;quot;NAD_1983_2011_UTM_Zone_19N&amp;quot;,GEOGCS[&amp;quot;GCS_NAD_1983_2011&amp;quot;,DATUM[&amp;quot;D_NAD_1983_2011&amp;quot;,SPHEROID[&amp;quot;GRS_1980&amp;quot;,6378137.0,298.257222101]],PRIMEM[&amp;quot;Greenwich&amp;quot;,0.0],UNIT[&amp;quot;Degree&amp;quot;,0.0174532925199433]],PROJECTION[&amp;quot;Transverse_Mercator&amp;quot;],PARAMETER[&amp;quot;False_Easting&amp;quot;,500000.0],PARAMETER[&amp;quot;False_Northing&amp;quot;,0.0],PARAMETER[&amp;quot;Central_Meridian&amp;quot;,-69.0],PARAMETER[&amp;quot;Scale_Factor&amp;quot;,0.9996],PARAMETER[&amp;quot;Latitude_Of_Origin&amp;quot;,0.0],UNIT[&amp;quot;Meter&amp;quot;,1.0],AUTHORITY[&amp;quot;EPSG&amp;quot;,6348]]&lt;/WKT&gt;&lt;XOrigin&gt;-5120900&lt;/XOrigin&gt;&lt;YOrigin&gt;-9998100&lt;/YOrigin&gt;&lt;XYScale&gt;450445547.3910538&lt;/XYScale&gt;&lt;ZOrigin&gt;-100000&lt;/ZOrigin&gt;&lt;ZScale&gt;10000&lt;/ZScale&gt;&lt;MOrigin&gt;-100000&lt;/MOrigin&gt;&lt;MScale&gt;10000&lt;/MScale&gt;&lt;XYTolerance&gt;0.001&lt;/XYTolerance&gt;&lt;ZTolerance&gt;0.001&lt;/ZTolerance&gt;&lt;MTolerance&gt;0.001&lt;/MTolerance&gt;&lt;HighPrecision&gt;true&lt;/HighPrecision&gt;&lt;WKID&gt;102388&lt;/WKID&gt;&lt;LatestWKID&gt;6348&lt;/LatestWKID&gt;&lt;/ProjectedCoordinateSystem&gt;</peXml>
</coordRef>
<RasterProperties>
<General>
<PixelDepth Sync="TRUE">8</PixelDepth>
<HasColormap Sync="TRUE">FALSE</HasColormap>
<CompressionType Sync="TRUE">None</CompressionType>
<NumBands Sync="TRUE">4</NumBands>
<Format Sync="TRUE">AMD</Format>
<HasPyramids Sync="TRUE">TRUE</HasPyramids>
<SourceType Sync="TRUE">continuous</SourceType>
<PixelType Sync="TRUE">unsigned integer</PixelType>
<NoDataValue Sync="TRUE"/>
</General>
<Properties>
<MaxImageHeight Sync="TRUE">4100</MaxImageHeight>
<MaxImageWidth Sync="TRUE">15000</MaxImageWidth>
<MaxRecordCount Sync="TRUE">1000</MaxRecordCount>
<MaxDownloadImageCount Sync="TRUE">20</MaxDownloadImageCount>
<MaxDownloadSizeLimit Sync="TRUE">2048</MaxDownloadSizeLimit>
<MaxMosaicImageCount Sync="TRUE">20</MaxMosaicImageCount>
<DefaultCompressionQuality Sync="TRUE">87</DefaultCompressionQuality>
<DefaultCompressionTolerance Sync="TRUE">0.01</DefaultCompressionTolerance>
<BlendWidth Sync="TRUE">10</BlendWidth>
<ViewpointSpacingX Sync="TRUE">600</ViewpointSpacingX>
<ViewpointSpacingY Sync="TRUE">300</ViewpointSpacingY>
<AllowedItemMetadata Sync="TRUE">Basic</AllowedItemMetadata>
<DefaultResamplingMethod Sync="TRUE">1</DefaultResamplingMethod>
<AllowedMosaicMethods Sync="TRUE">NorthWest,Center,ByAttribute,Nadir,Viewpoint,None</AllowedMosaicMethods>
<AllowedCompressions Sync="TRUE">LZ77,None,JPEG,LERC</AllowedCompressions>
<AllowedMensurationCapabilities Sync="TRUE">None</AllowedMensurationCapabilities>
<AvailableMensurationCapabilities Sync="TRUE">None,Basic,Base-Top Height,Top-Top Shadow Height,Base-Top Shadow Height,3D</AvailableMensurationCapabilities>
<ClipToBoundary Sync="TRUE">-1</ClipToBoundary>
<FootprintMayContainNoData Sync="TRUE">-1</FootprintMayContainNoData>
<CellSizeTolerance Sync="TRUE">0.8</CellSizeTolerance>
<MinimumPixelContribution Sync="TRUE">1</MinimumPixelContribution>
<AvailableMosaicMethods Sync="TRUE">NorthWest,Center,LockRaster,ByAttribute,Nadir,Viewpoint,Seamline,None</AvailableMosaicMethods>
<AvailableCompressionMethods Sync="TRUE">None,JPEG,LZ77,LERC</AvailableCompressionMethods>
<AvailableItemMetadataLevels Sync="TRUE">None,Basic,Full</AvailableItemMetadataLevels>
<BandDefinitionKeyword Sync="TRUE">NaturalColorRGBI</BandDefinitionKeyword>
<_docversion_ Sync="TRUE">10</_docversion_>
<AllowedFields Sync="TRUE">Name,MinPS,MaxPS,LowPS,HighPS,Tag,GroupName,ProductName,CenterX,CenterY,ZOrder,Shape_Length,Shape_Area,DateBegin,DateEnd,DateIntBegin,DateIntEnd</AllowedFields>
<LowCellSize Sync="TRUE">0.075</LowCellSize>
<HighCellSize Sync="TRUE">328.049999999997</HighCellSize>
<MaxCellSize Sync="TRUE">16402.4999999998</MaxCellSize>
<DataType Sync="TRUE">Processed</DataType>
<AvailableFields Sync="TRUE">Name,MinPS,MaxPS,LowPS,HighPS,Tag,GroupName,ProductName,CenterX,CenterY,ZOrder,Shape_Length,Shape_Area</AvailableFields>
<SortableFields Sync="TRUE">MinPS,MaxPS,LowPS,HighPS,CenterX,CenterY,ZOrder,Shape_Length,Shape_Area</SortableFields>
<SortAscending Sync="TRUE">-1</SortAscending>
<MosaicOperator Sync="TRUE">1</MosaicOperator>
<BlendWidthUnits Sync="TRUE">1</BlendWidthUnits>
<ClipToFootprint Sync="TRUE">0</ClipToFootprint>
<ClipOverviewsToFootprint Sync="TRUE">0</ClipOverviewsToFootprint>
<HasDodgingTable Sync="TRUE">0</HasDodgingTable>
<ApplyColorCorrection Sync="TRUE">0</ApplyColorCorrection>
<UseTime Sync="TRUE">0</UseTime>
<StartTimeFieldName Sync="TRUE"/>
<EndTimeFieldName Sync="TRUE"/>
<TimeValueFormat Sync="TRUE"/>
<UseRange Sync="TRUE">0</UseRange>
<TimeInterval Sync="TRUE"/>
<TimeIntervalUnits Sync="TRUE"/>
<SortField Sync="TRUE">MinPS</SortField>
<SortValue Sync="TRUE"/>
<PixelCacheLocation Sync="TRUE">C:\Users\T93A7~1.MET\AppData\Local\Temp\2\ArcGISProTemp9448\orthoRegional2021</PixelCacheLocation>
</Properties>
<Functions Sync="TRUE">
<Function Description="Performs on-the-fly mosaic on a raster catalog." Name="Mosaic Function"/>
</Functions>
</RasterProperties>
</DataProperties>
<scaleRange>
<maxScale>5000</maxScale>
<minScale>625000</minScale>
</scaleRange>
<SyncDate>20211124</SyncDate>
<SyncTime>05165000</SyncTime>
<ModDate>20211124</ModDate>
<ModTime>5390600</ModTime>
<ArcGISProfile>FGDC</ArcGISProfile>
</Esri>
<mdLang>
<languageCode value="eng"/>
<countryCode Sync="TRUE" value="USA"/>
</mdLang>
<mdChar>
<CharSetCd value="004"/>
</mdChar>
<mdHrLv>
<ScopeCd value="005"/>
</mdHrLv>
<mdContact>
<rpOrgName>State of Maine, Office of Information Technology</rpOrgName>
<role>
<RoleCd value="007"/>
</role>
<rpCntInfo>
<cntAddress addressType="both">
<delPoint>SHS145</delPoint>
<city>Augusta</city>
<adminArea>ME</adminArea>
<postCode>04330-0145</postCode>
<country>US</country>
<eMailAdd>megissupport@maine.gov</eMailAdd>
</cntAddress>
<cntPhone>
<voiceNum tddtty="">(207) 624-7700</voiceNum>
</cntPhone>
<cntInstr>Request help desk agent assign to MEGIS Data_Metadata</cntInstr>
</rpCntInfo>
</mdContact>
<mdDateSt Sync="TRUE">20211124</mdDateSt>
<dataIdInfo>
<idCitation>
<resTitle>orthoRegional2021</resTitle>
<resAltTitle>orthoRegional2021</resAltTitle>
<date>
<createDate>2021-11-23T00:00:00</createDate>
<pubDate>2021-11-24T00:00:00</pubDate>
<reviseDate>2021-11-23T00:00:00</reviseDate>
</date>
<citOnlineRes>
<linkage>https://gis.maine.gov/arcgis/rest/services/imageryBaseMapsEarthCover/orthoRegional2019/ImageServer</linkage>
<orName>Maine Orthoimagery Regional 2019</orName>
<orDesc>Maine Orthoimagery Regional 2019 Image Service</orDesc>
</citOnlineRes>
<presForm>
<PresFormCd value="005"/>
<fgdcGeoform>raster digital data</fgdcGeoform>
</presForm>
<citRespParty>
<rpIndName>Office Of Information Technology GIS</rpIndName>
<rpOrgName>State of Maine</rpOrgName>
<rpPosName>Enterprise GIS Administrator</rpPosName>
<role>
<RoleCd value="005"/>
</role>
<rpCntInfo>
<cntAddress addressType="postal">
<eMailAdd>GeolibraryBoard.OIT@maine.gov</eMailAdd>
<delPoint>SHS 145</delPoint>
<city>Augusta</city>
<adminArea>ME</adminArea>
<postCode>04330-0145</postCode>
<country>US</country>
</cntAddress>
<cntPhone>
<voiceNum tddtty="">(207) 624-7700</voiceNum>
</cntPhone>
<cntInstr>Ask help desk agent to assign request to MEGIS Data_Metadata</cntInstr>
</rpCntInfo>
</citRespParty>
</idCitation>
<idAbs>&lt;DIV STYLE="text-align:Left;"&gt;&lt;DIV&gt;&lt;DIV&gt;&lt;P&gt;&lt;SPAN&gt;Maine GeoLibrary Orthoimagery Project. The Maine GeoLibrary Board has developed a statewide rotating orthoimagery acquisition program for Maine to facilitate state, regional and local government GIS base mapping in an efficient and cost-effective program. The State of Maine will use digital orthoimagery for the development of various base map products in a computerized GIS that will support the needs of the state and multiple stakeholders through applications, such as, multi-jurisdictional homeland security mapping applications, state and county emergency management applications, regional and local planning, state and local public safety applications, economic development and other GIS business objectives.&lt;/SPAN&gt;&lt;/P&gt;&lt;/DIV&gt;&lt;/DIV&gt;&lt;/DIV&gt;</idAbs>
<idPurp>Maine Orthoimagery Regional 2021</idPurp>
<suppInfo>orthoRegional2021</suppInfo>
<idCredit>Maine GeoLibrary</idCredit>
<envirDesc>Esri ArcGIS 12.4.2.19948</envirDesc>
<dataLang>
<languageCode value="eng"/>
<countryCode Sync="TRUE" value="USA"/>
</dataLang>
<dataChar>
<CharSetCd value="004"/>
</dataChar>
<idStatus>
<ProgCd value="001"/>
</idStatus>
<spatRpType>
<SpatRepTypCd value="002"/>
</spatRpType>
<searchKeys>
<keyword>imageryBaseMapsEarthCover</keyword>
<keyword>ortho</keyword>
<keyword>orthoimagery</keyword>
<keyword>orthophotography</keyword>
<keyword>orthoRegional</keyword>
<keyword>Maine</keyword>
<keyword>MaineGeoLibrary</keyword>
<keyword>2021</keyword>
<keyword>orthoRegional2021</keyword>
</searchKeys>
<themeKeys>
<keyword>Orthoimagery</keyword>
<keyword>imageryBaseMapsEarthCover</keyword>
<keyword>MaineGeoLibrary</keyword>
<keyword>Maine GeoLibrary</keyword>
<keyword>Maine</keyword>
<keyword>USA</keyword>
<keyword>State</keyword>
</themeKeys>
<idPoC>
<rpIndName>Office of Information Technology GIS</rpIndName>
<rpOrgName>State of Maine</rpOrgName>
<rpPosName>Enterprise GIS Administrator</rpPosName>
<role>
<RoleCd value="007"/>
</role>
<rpCntInfo>
<cntAddress addressType="both">
<delPoint>SHS145</delPoint>
<city>Augusta</city>
<adminArea>ME</adminArea>
<postCode>04330-0145</postCode>
<country>US</country>
</cntAddress>
<cntPhone>
<voiceNum tddtty="">(207) 624-7700</voiceNum>
</cntPhone>
<cntInstr>Request help desk agent assign to MEGIS Data_Metadata</cntInstr>
</rpCntInfo>
</idPoC>
<resMaint>
<maintFreq>
<MaintFreqCd value="011"/>
</maintFreq>
</resMaint>
<resConst>
<LegConsts>
<othConsts>No restrictions apply to this data.</othConsts>
</LegConsts>
</resConst>
<resConst>
<Consts>
<useLimit>&lt;DIV STYLE="text-align:Left;"&gt;&lt;DIV&gt;&lt;DIV&gt;&lt;P&gt;&lt;SPAN&gt;None. However, users should be aware that temporal changes may have occurred since this dataset was collected and that some parts of these data may no longer represent actual surface conditions. Users should not use these data for critical applications without a full awareness of its limitations. The information contained in these data is dynamic and may change over time. The data are not better than the original sources from which they were derived. It is the responsibility of the data user to use the data appropriately and within the limitations of the data for which it was requested and prepared, in general, and these data in particular. The related graphics are intended to aid the data user in acquiring relevant data. It is not appropriate to use the related graphics as data. No warranty, expressed or implied, is made regarding the utility of the data, or for general or scientific purposes; nor shall the act of distribution constitute any such warranty. This disclaimer applies both to individual use of the data and aggregate use with other data.&lt;/SPAN&gt;&lt;/P&gt;&lt;/DIV&gt;&lt;/DIV&gt;&lt;/DIV&gt;</useLimit>
</Consts>
</resConst>
<dataExt>
<exDesc>USA State Maine</exDesc>
<geoEle>
<GeoDesc>
<exTypeCode>1</exTypeCode>
<geoId>
<identCode>USA State Maine</identCode>
</geoId>
</GeoDesc>
</geoEle>
<tempEle>
<TempExtent>
<exTemp>
<TM_Period>
<tmBegin>2021-01-01T00:00:00</tmBegin>
<tmEnd>2022-01-01T00:00:00</tmEnd>
</TM_Period>
</exTemp>
</TempExtent>
</tempEle>
</dataExt>
<dataExt>
<geoEle>
<GeoBndBox esriExtentType="search">
<westBL>-70.576315</westBL>
<eastBL>-70.1547715</eastBL>
<northBL>43.87708</northBL>
<southBL>43.5314951</southBL>
<exTypeCode>1</exTypeCode>
</GeoBndBox>
</geoEle>
</dataExt>
<tpCat>
<TopicCatCd value="010"/>
</tpCat>
</dataIdInfo>
<mdMaint>
<maintFreq>
<MaintFreqCd value="011"/>
</maintFreq>
<maintCont>
<rpOrgName>State of Maine, Office of Information Technology</rpOrgName>
<role>
<RoleCd value="007"/>
</role>
<rpCntInfo>
<cntAddress addressType="both">
<delPoint>SHS145</delPoint>
<city>Augusta</city>
<adminArea>ME</adminArea>
<postCode>04330-0145</postCode>
<country>US</country>
</cntAddress>
<cntPhone>
<voiceNum>(207) 624-7700</voiceNum>
</cntPhone>
<cntInstr>Request help desk agent assign to MEGIS Data_Metadata</cntInstr>
</rpCntInfo>
</maintCont>
</mdMaint>
<mdConst>
<Consts>
<useLimit>&lt;DIV STYLE="text-align:Left;"&gt;&lt;DIV&gt;&lt;DIV&gt;&lt;P&gt;&lt;SPAN&gt;Access: Public. Use: User assumes risk.&lt;/SPAN&gt;&lt;/P&gt;&lt;/DIV&gt;&lt;/DIV&gt;&lt;/DIV&gt;</useLimit>
</Consts>
</mdConst>
<dqInfo>
<dqScope>
<scpLvl>
<ScopeCd value="005"/>
</scpLvl>
</dqScope>
</dqInfo>
<spatRepInfo>
<Georect>
<numDims>2</numDims>
<axisDimension type="001">
<dimSize>2215000</dimSize>
<dimResol>
<value uom="m">0.075000</value>
</dimResol>
</axisDimension>
<cellGeo>
<CellGeoCd Sync="TRUE" value="002"/>
</cellGeo>
<tranParaAv>True</tranParaAv>
<ptInPixel>
<PixOrientCd Sync="TRUE" value="001"/>
</ptInPixel>
<centerPt>
<pos>448875.000000 4887062.500000</pos>
</centerPt>
<cornerPts>
<pos>372750.000000 4804000.000000</pos>
</cornerPts>
<cornerPts>
<pos>372750.000000 4970125.000000</pos>
</cornerPts>
<cornerPts>
<pos>525000.000000 4970125.000000</pos>
</cornerPts>
<cornerPts>
<pos>525000.000000 4804000.000000</pos>
</cornerPts>
<chkPtAv Sync="TRUE">0</chkPtAv>
</Georect>
</spatRepInfo>
<refSysInfo>
<RefSystem>
<refSysID>
<identCode code="6348"/>
<idCodeSpace>EPSG</idCodeSpace>
<idVersion>8.2.2(10.2.1)</idVersion>
</refSysID>
</RefSystem>
</refSysInfo>
<mdFileID>DB3407CB-EE35-4FE4-B620-3025B97BC825</mdFileID>
</metadata>
