ORTHO_2F was collected at a 2 foot ground sample distance (GSD) , high resolution digital orthophotographs produced from aerial photos collected over southwestern, central and northeastern Maine in the Spring of 2003, 2004 and 2005. Each pixel represents a planimetric square 2 feet on a side on the ground. Aerial photography for ORTHO_2F was flown at 12,000 feet above mean ground level. Source elevation data were 10 meter Digital Elevation Models produced for this project by USGS from 1:24,000 scale elevation and hydrography data supplied by MEGIS. The digital orthorectified images (image chips) are referenced to North American Datum 1983, UTM Zone 19, expressed in units of meters. Cartographic Services for orthorectification and the creation of digital elevation models were provided by USGS Mid-Continent Mapping Center (USGSMCMC). ORTHO_2F provides a digital photographic map suitable for applications requiring a 1:4800 map scale, a National Map Accuracy Standard (NMAS) of +/- 13.33 feet. The multi-agreement program was developed and funded in coordination with the Maine GeoLibrary Board. The U.S. Department of Agriculture, Natural Resource Conservation Service (NRCS) contributed toward this project via a separate funding agreement with USGS. The completed orthorectified GeoTIFF files represent quarter-quadrangle (QQ) sized tiles with a 300m over-edge. All overedges for ORTHO_2f overlap adjacent ORTHO_1F orthophotography by this distance. ORTHO_2F tiles provide complete coverage of the TIER B boundaries as defined by the project. Tiles split by tier and project boundaries were completed to their full tile extent. Towns designated TIER B will have complete coverage by 2 foot GSD imagery.<\/span><\/p><\/div><\/div><\/div>",
"serviceItemId": "ceb48d4bd19c4414bba06fccfb21318e",
"name": "Regional/orthoRegional2Foot2003to2005",
"description": "ORTHO_2F was collected at a 2 foot ground sample distance (GSD) , high resolution digital orthophotographs produced from aerial photos collected over southwestern, central and northeastern Maine in the Spring of 2003, 2004 and 2005. Each pixel represents a planimetric square 2 feet on a side on the ground. Aerial photography for ORTHO_2F was flown at 12,000 feet above mean ground level. Source elevation data were 10 meter Digital Elevation Models produced for this project by USGS from 1:24,000 scale elevation and hydrography data supplied by MEGIS. The digital orthorectified images (image chips) are referenced to North American Datum 1983, UTM Zone 19, expressed in units of meters. Cartographic Services for orthorectification and the creation of digital elevation models were provided by USGS Mid-Continent Mapping Center (USGSMCMC). ORTHO_2F provides a digital photographic map suitable for applications requiring a 1:4800 map scale, a National Map Accuracy Standard (NMAS) of +/- 13.33 feet. The multi-agreement program was developed and funded in coordination with the Maine GeoLibrary Board. The U.S. Department of Agriculture, Natural Resource Conservation Service (NRCS) contributed toward this project via a separate funding agreement with USGS. The completed orthorectified GeoTIFF files represent quarter-quadrangle (QQ) sized tiles with a 300m over-edge. All overedges for ORTHO_2f overlap adjacent ORTHO_1F orthophotography by this distance. ORTHO_2F tiles provide complete coverage of the TIER B boundaries as defined by the project. Tiles split by tier and project boundaries were completed to their full tile extent. Towns designated TIER B will have complete coverage by 2 foot GSD imagery.<\/span><\/p><\/div><\/div><\/div>",
"extent": {
"xmin": 334339.5101420814,
"ymin": 4831411.330128993,
"xmax": 663562.5099376729,
"ymax": 5247358.929870739,
"spatialReference": {
"wkid": 26919,
"latestWkid": 26919
}
},
"initialExtent": {
"xmin": 334339.5101420814,
"ymin": 4831411.330128993,
"xmax": 663562.5099376729,
"ymax": 5247358.929870739,
"spatialReference": {
"wkid": 26919,
"latestWkid": 26919
}
},
"fullExtent": {
"xmin": 334339.5101420814,
"ymin": 4831411.330128993,
"xmax": 663562.5099376729,
"ymax": 5247358.929870739,
"spatialReference": {
"wkid": 26919,
"latestWkid": 26919
}
},
"sortableFields": "MinPS,MaxPS,LowPS,HighPS,CenterX,CenterY,ZOrder,Shape_Length,Shape_Area,DateBegin,DateEnd,DateIntBegin,DateIntEnd",
"bandCount": 4,
"pixelType": "U8",
"minValues": [
0,
0,
0,
0
],
"maxValues": [
255,
255,
255,
255
],
"meanValues": [
114.87919249982963,
118.68589885718409,
104.65070553616725,
104.65070553616725
],
"stdvValues": [
38.87872455450447,
35.51804233993815,
37.6514999263129,
37.6514999263129
],
"serviceProperties": "NorthWest<\/MosaicMethod>First<\/MosaicOperator>true<\/SortAscending><\/LockImageID>MinPS<\/TileOrderField>0<\/TileOrderBase>600.000000<\/AvgImageSpacingX>300.000000<\/AvgImageSpacingY>0.0<\/ViewPointX>0.0<\/ViewPointY>0.0<\/ViewPointDefShiftX>0.0<\/ViewPointDefShiftY>LZ77<\/CompressionMethod>87<\/CompressionQuality>0.010000<\/CompressionTolerance>Bilinear<\/SamplingMethod><\/ImageServiceProperties><\/ImageServer>",
"allowedFields": "Name,MinPS,MaxPS,LowPS,HighPS,Tag,GroupName,ProductName,CenterX,CenterY,ZOrder,Shape_Length,Shape_Area,DateBegin,DateEnd,DateIntBegin,DateIntEnd",
"hasMultidimensions": false,
"timeInfo": {
"startTimeField": "DateBegin",
"endTimeField": "DateEnd",
"timeExtent": [
1046476800000,
1119225600000
],
"timeReference": null,
"defaultTimeInterval": 1,
"defaultTimeIntervalUnits": "esriTimeUnitsDays"
},
"pixelSizeX": 0.599999999627471,
"pixelSizeY": 0.599999999627471,
"meanPixelSize": 0.599999999627471,
"datasetFormat": "AMD",
"uncompressedSize": 1521550185720,
"blockWidth": 2048,
"blockHeight": 256,
"compressionType": "None",
"bandNames": [
"Red",
"Green",
"Blue",
"Infrared"
],
"allowCopy": true,
"allowAnalysis": true,
"itemAccess": false,
"inspectionCapabilities": "",
"noDataValue": 255,
"noDataValues": [
255,
255,
255,
255
],
"minPixelSize": 0,
"maxPixelSize": 0,
"copyrightText": "Credit should always be given to the data source and/or originator when the data is transferred or printed.",
"serviceDataType": "esriImageServiceDataTypeProcessed",
"serviceSourceType": "esriImageServiceSourceTypeMosaicDataset",
"objectIdField": "OBJECTID",
"fields": [
{
"name": "OBJECTID",
"type": "esriFieldTypeOID",
"alias": "OBJECTID",
"domain": null
},
{
"name": "Shape",
"type": "esriFieldTypeGeometry",
"alias": "Shape",
"domain": null
},
{
"name": "Name",
"type": "esriFieldTypeString",
"alias": "Name",
"domain": null,
"length": 200
},
{
"name": "MinPS",
"type": "esriFieldTypeDouble",
"alias": "MinPS",
"domain": null
},
{
"name": "MaxPS",
"type": "esriFieldTypeDouble",
"alias": "MaxPS",
"domain": null
},
{
"name": "LowPS",
"type": "esriFieldTypeDouble",
"alias": "LowPS",
"domain": null
},
{
"name": "HighPS",
"type": "esriFieldTypeDouble",
"alias": "HighPS",
"domain": null
},
{
"name": "Category",
"type": "esriFieldTypeInteger",
"alias": "Category",
"domain": {
"type": "codedValue",
"name": "MosaicCatalogItemCategoryDomain",
"description": "Catalog item categories.",
"codedValues": [
{
"name": "Unknown",
"code": 0
},
{
"name": "Primary",
"code": 1
},
{
"name": "Overview",
"code": 2
},
{
"name": "Unprocessed Overview",
"code": 3
},
{
"name": "Partial Overview",
"code": 4
},
{
"name": "Inactive",
"code": 5
},
{
"name": "Uploaded",
"code": 253
},
{
"name": "Incomplete",
"code": 254
},
{
"name": "Custom",
"code": 255
}
],
"mergePolicy": "esriMPTDefaultValue",
"splitPolicy": "esriSPTDefaultValue"
}
},
{
"name": "Tag",
"type": "esriFieldTypeString",
"alias": "Tag",
"domain": null,
"length": 100
},
{
"name": "GroupName",
"type": "esriFieldTypeString",
"alias": "GroupName",
"domain": null,
"length": 100
},
{
"name": "ProductName",
"type": "esriFieldTypeString",
"alias": "ProductName",
"domain": null,
"length": 100
},
{
"name": "CenterX",
"type": "esriFieldTypeDouble",
"alias": "CenterX",
"domain": null
},
{
"name": "CenterY",
"type": "esriFieldTypeDouble",
"alias": "CenterY",
"domain": null
},
{
"name": "ZOrder",
"type": "esriFieldTypeInteger",
"alias": "ZOrder",
"domain": null
},
{
"name": "DateBegin",
"type": "esriFieldTypeDate",
"alias": "DateBegin",
"domain": null,
"length": 8
},
{
"name": "DateEnd",
"type": "esriFieldTypeDate",
"alias": "DateEnd",
"domain": null,
"length": 8
},
{
"name": "DateIntBegin",
"type": "esriFieldTypeSmallInteger",
"alias": "DateIntBegin",
"domain": null
},
{
"name": "DateIntEnd",
"type": "esriFieldTypeSmallInteger",
"alias": "DateIntEnd",
"domain": null
},
{
"name": "Shape_Length",
"type": "esriFieldTypeDouble",
"alias": "Shape_Length",
"domain": null
},
{
"name": "Shape_Area",
"type": "esriFieldTypeDouble",
"alias": "Shape_Area",
"domain": null
}
],
"capabilities": "Catalog,Image,Metadata",
"defaultMosaicMethod": "Northwest",
"allowedMosaicMethods": "NorthWest,Center,ByAttribute,Nadir,Viewpoint,None",
"sortField": "",
"sortValue": null,
"sortAscending": true,
"mosaicOperator": "First",
"maxDownloadSizeLimit": 2048,
"defaultCompressionQuality": 87,
"defaultResamplingMethod": "Bilinear",
"maxImageHeight": 4100,
"maxImageWidth": 15000,
"maxRecordCount": 1000,
"maxDownloadImageCount": 20,
"maxMosaicImageCount": 44,
"allowRasterFunction": true,
"rasterFunctionInfos": [
{
"name": "None",
"description": "Make a Raster or Raster Dataset into a Function Raster Dataset.",
"help": ""
}
],
"rasterTypeInfos": [
{
"name": "Raster Dataset",
"description": "Supports all ArcGIS Raster Datasets",
"help": ""
}
],
"mensurationCapabilities": "None",
"hasHistograms": true,
"hasColormap": false,
"hasRasterAttributeTable": false,
"minScale": 0,
"maxScale": 0,
"exportTilesAllowed": false,
"supportsStatistics": true,
"supportsAdvancedQueries": true,
"editFieldsInfo": null,
"ownershipBasedAccessControlForRasters": null,
"allowComputeTiePoints": false,
"useStandardizedQueries": true,
"advancedQueryCapabilities": {
"useStandardizedQueries": true,
"supportsStatistics": true,
"supportsOrderBy": true,
"supportsDistinct": true,
"supportsPagination": true
},
"spatialReference": {
"wkid": 26919,
"latestWkid": 26919
},
"resampling": false
}