<?xml version="1.0" encoding="UTF-8" standalone="no"?>
<metadata xml:lang="en">
<Esri>
<CreaDate>20181025</CreaDate>
<CreaTime>13552800</CreaTime>
<ArcGISFormat>1.0</ArcGISFormat>
<SyncOnce>FALSE</SyncOnce>
<DataProperties>
<lineage>
<Process Date="20181025" Name="" Time="135528" ToolSource="c:\program files\arcgis\pro\Resources\ArcToolbox\toolboxes\Data Management Tools.tbx\CreateMosaicDataset" export="">CreateMosaicDataset \\stgisdataprd001.file.core.windows.net\gisprd1gisdata\svcFgdb\megis\orthoRegional.gdb orthoRegionalSpot2004 PROJCS['NAD_1983_UTM_Zone_19N',GEOGCS['GCS_North_American_1983',DATUM['D_North_American_1983',SPHEROID['GRS_1980',6378137.0,298.257222101]],PRIMEM['Greenwich',0.0],UNIT['Degree',0.0174532925199433]],PROJECTION['Transverse_Mercator'],PARAMETER['False_Easting',500000.0],PARAMETER['False_Northing',0.0],PARAMETER['Central_Meridian',-69.0],PARAMETER['Scale_Factor',0.9996],PARAMETER['Latitude_Of_Origin',0.0],UNIT['Meter',1.0]] 1 "8-bit unsigned" None #</Process>
<Process Date="20181025" Name="" Time="140025" ToolSource="c:\program files\arcgis\pro\Resources\ArcToolbox\toolboxes\Data Management Tools.tbx\AddRastersToMosaicDataset" export="">AddRastersToMosaicDataset \\stgisdataprd001.file.core.windows.net\gisprd1gisdata\svcFgdb\megis\orthoRegional.gdb\orthoRegionalSpot2004 "Raster Dataset" \\oit-teaqfstier2.emc.state.me.us\gisdata\megis\ras\spot5\tifs25m;\\oit-teaqfstier2.emc.state.me.us\gisdata\megis\ras\spot5\tiles UPDATE_CELL_SIZES UPDATE_BOUNDARY UPDATE_OVERVIEWS # 0 1500 # # SUBFOLDERS "Allow duplicates" BUILD_PYRAMIDS CALCULATE_STATISTICS NO_THUMBNAILS # NO_FORCE_SPATIAL_REFERENCE ESTIMATE_STATISTICS #</Process>
<Process Date="20181026" Name="" Time="110431" ToolSource="c:\program files (x86)\arcgis\desktop10.6\ArcToolbox\Toolboxes\Data Management Tools.tbx\AnalyzeMosaicDataset" export="">AnalyzeMosaicDataset \\stgisdataprd001.file.core.windows.net\gisprd1gisdata\svcFgdb\megis\orthoRegional.gdb\orthoRegionalSpot2004 # FOOTPRINT;FUNCTION;RASTER;PATHS;SOURCE_VALIDITY;STALE;PYRAMIDS;STATISTICS;PERFORMANCE;INFORMATION</Process>
<Process Date="20181026" Name="" Time="110509" ToolSource="c:\program files (x86)\arcgis\desktop10.6\ArcToolbox\Toolboxes\Data Management Tools.tbx\AnalyzeMosaicDataset" export="">AnalyzeMosaicDataset \\stgisdataprd001.file.core.windows.net\gisprd1gisdata\svcFgdb\megis\orthoRegional.gdb\orthoRegionalSpot2004 # FOOTPRINT;FUNCTION;RASTER;PATHS;SOURCE_VALIDITY;STALE;PYRAMIDS;STATISTICS;PERFORMANCE;INFORMATION</Process>
</lineage>
<itemProps>
<itemName Sync="TRUE">orthoRegionalSpot2004</itemName>
<itemLocation>
<linkage Sync="TRUE">file://\\stgisdataprd001.file.core.windows.net\gisprd1gisdata\svcFgdb\megis\orthoRegional.gdb</linkage>
<protocol Sync="TRUE">Local Area Network</protocol>
</itemLocation>
<nativeExtBox>
<westBL Sync="TRUE">331051.500000</westBL>
<eastBL Sync="TRUE">670991.500000</eastBL>
<southBL Sync="TRUE">4761082.500000</southBL>
<northBL Sync="TRUE">5261862.500000</northBL>
<exTypeCode Sync="TRUE">1</exTypeCode>
</nativeExtBox>
<imsContentType export="False"/>
</itemProps>
<coordRef>
<type Sync="TRUE">Projected</type>
<geogcsn Sync="TRUE">GCS_North_American_1983</geogcsn>
<csUnits Sync="TRUE">Linear Unit: Meter (1.000000)</csUnits>
<projcsn Sync="TRUE">NAD_1983_UTM_Zone_19N</projcsn>
<peXml Sync="TRUE">&lt;ProjectedCoordinateSystem xsi:type='typens:ProjectedCoordinateSystem' xmlns:xsi='http://www.w3.org/2001/XMLSchema-instance' xmlns:xs='http://www.w3.org/2001/XMLSchema' xmlns:typens='http://www.esri.com/schemas/ArcGIS/2.3.0'&gt;&lt;WKT&gt;PROJCS[&amp;quot;NAD_1983_UTM_Zone_19N&amp;quot;,GEOGCS[&amp;quot;GCS_North_American_1983&amp;quot;,DATUM[&amp;quot;D_North_American_1983&amp;quot;,SPHEROID[&amp;quot;GRS_1980&amp;quot;,6378137.0,298.257222101]],PRIMEM[&amp;quot;Greenwich&amp;quot;,0.0],UNIT[&amp;quot;Degree&amp;quot;,0.0174532925199433]],PROJECTION[&amp;quot;Transverse_Mercator&amp;quot;],PARAMETER[&amp;quot;False_Easting&amp;quot;,500000.0],PARAMETER[&amp;quot;False_Northing&amp;quot;,0.0],PARAMETER[&amp;quot;Central_Meridian&amp;quot;,-69.0],PARAMETER[&amp;quot;Scale_Factor&amp;quot;,0.9996],PARAMETER[&amp;quot;Latitude_Of_Origin&amp;quot;,0.0],UNIT[&amp;quot;Meter&amp;quot;,1.0],AUTHORITY[&amp;quot;EPSG&amp;quot;,26919]]&lt;/WKT&gt;&lt;XOrigin&gt;-5120900&lt;/XOrigin&gt;&lt;YOrigin&gt;-9998100&lt;/YOrigin&gt;&lt;XYScale&gt;450445547.3910538&lt;/XYScale&gt;&lt;ZOrigin&gt;-100000&lt;/ZOrigin&gt;&lt;ZScale&gt;10000&lt;/ZScale&gt;&lt;MOrigin&gt;-100000&lt;/MOrigin&gt;&lt;MScale&gt;10000&lt;/MScale&gt;&lt;XYTolerance&gt;0.001&lt;/XYTolerance&gt;&lt;ZTolerance&gt;0.001&lt;/ZTolerance&gt;&lt;MTolerance&gt;0.001&lt;/MTolerance&gt;&lt;HighPrecision&gt;true&lt;/HighPrecision&gt;&lt;WKID&gt;26919&lt;/WKID&gt;&lt;LatestWKID&gt;26919&lt;/LatestWKID&gt;&lt;/ProjectedCoordinateSystem&gt;</peXml>
</coordRef>
<RasterProperties>
<General>
<PixelDepth Sync="TRUE">8</PixelDepth>
<HasColormap Sync="TRUE">FALSE</HasColormap>
<CompressionType Sync="TRUE">None</CompressionType>
<NumBands Sync="TRUE">1</NumBands>
<Format Sync="TRUE">AMD</Format>
<HasPyramids Sync="TRUE">TRUE</HasPyramids>
<SourceType Sync="TRUE">continuous</SourceType>
<PixelType Sync="TRUE">unsigned integer</PixelType>
<NoDataValue Sync="TRUE">0</NoDataValue>
</General>
<Properties>
<MaxImageHeight Sync="TRUE">4100</MaxImageHeight>
<MaxImageWidth Sync="TRUE">15000</MaxImageWidth>
<MaxRecordCount Sync="TRUE">1000</MaxRecordCount>
<MaxDownloadImageCount Sync="TRUE">20</MaxDownloadImageCount>
<MaxDownloadSizeLimit Sync="TRUE">2048</MaxDownloadSizeLimit>
<MaxMosaicImageCount Sync="TRUE">20</MaxMosaicImageCount>
<DefaultCompressionQuality Sync="TRUE">87</DefaultCompressionQuality>
<DefaultCompressionTolerance Sync="TRUE">0.01</DefaultCompressionTolerance>
<BlendWidth Sync="TRUE">10</BlendWidth>
<ViewpointSpacingX Sync="TRUE">600</ViewpointSpacingX>
<ViewpointSpacingY Sync="TRUE">300</ViewpointSpacingY>
<AllowedItemMetadata Sync="TRUE">Basic</AllowedItemMetadata>
<DefaultResamplingMethod Sync="TRUE">1</DefaultResamplingMethod>
<AllowedMosaicMethods Sync="TRUE">NorthWest,Center,ByAttribute,Nadir,Viewpoint,None</AllowedMosaicMethods>
<AllowedCompressions Sync="TRUE">LZ77,None,JPEG,LERC</AllowedCompressions>
<AllowedMensurationCapabilities Sync="TRUE">None</AllowedMensurationCapabilities>
<AvailableMensurationCapabilities Sync="TRUE">None,Basic,Base-Top Height,Top-Top Shadow Height,Base-Top Shadow Height,3D</AvailableMensurationCapabilities>
<ClipToBoundary Sync="TRUE">-1</ClipToBoundary>
<FootprintMayContainNoData Sync="TRUE">-1</FootprintMayContainNoData>
<CellSizeTolerance Sync="TRUE">0.8</CellSizeTolerance>
<MinimumPixelContribution Sync="TRUE">1</MinimumPixelContribution>
<AvailableMosaicMethods Sync="TRUE">NorthWest,Center,LockRaster,ByAttribute,Nadir,Viewpoint,Seamline,None</AvailableMosaicMethods>
<AvailableCompressionMethods Sync="TRUE">None,JPEG,LZ77,LERC</AvailableCompressionMethods>
<AvailableItemMetadataLevels Sync="TRUE">None,Basic,Full</AvailableItemMetadataLevels>
<BandDefinitionKeyword Sync="TRUE">NONE</BandDefinitionKeyword>
<AllowedFields Sync="TRUE">Name,MinPS,MaxPS,LowPS,HighPS,Tag,GroupName,ProductName,CenterX,CenterY,ZOrder,Shape_Length,Shape_Area,DateBegin,DateEnd,DateIntBegin,DateIntEnd</AllowedFields>
<MaxCellSize Sync="TRUE">81000</MaxCellSize>
<LowCellSize Sync="TRUE">5</LowCellSize>
<HighCellSize Sync="TRUE">1620</HighCellSize>
<ApplyColorCorrection Sync="TRUE">0</ApplyColorCorrection>
<TimeValueFormat Sync="TRUE">YYYY-MM-DD</TimeValueFormat>
<EndTimeFieldName Sync="TRUE">DateIntEnd</EndTimeFieldName>
<StartTimeFieldName Sync="TRUE">DateBegin</StartTimeFieldName>
<TimeIntervalUnits Sync="TRUE">Years</TimeIntervalUnits>
<TimeInterval Sync="TRUE">2</TimeInterval>
<VerticalDimension Sync="TRUE"/>
<FlowDirection Sync="TRUE"/>
<MosaicOperator Sync="TRUE">1</MosaicOperator>
<BlendWidthUnits Sync="TRUE">1</BlendWidthUnits>
<UseTime Sync="TRUE">-1</UseTime>
<SortAscending Sync="TRUE">-1</SortAscending>
<ClipToFootprint Sync="TRUE">0</ClipToFootprint>
<ClipOverviewsToFootprint Sync="TRUE">0</ClipOverviewsToFootprint>
<SortField Sync="TRUE">MinPS</SortField>
<SortValue Sync="TRUE">0</SortValue>
<TimeStamp.RemoveItems Sync="TRUE">43483.4123241551</TimeStamp.RemoveItems>
<TimeStamp.UpdateExtent Sync="TRUE">43483.4270316898</TimeStamp.UpdateExtent>
</Properties>
<Functions Sync="TRUE">
<Function Description="Performs on-the-fly mosaic on a raster catalog." Name="Mosaic Function"/>
</Functions>
</RasterProperties>
</DataProperties>
<SyncDate>20190206</SyncDate>
<SyncTime>13195600</SyncTime>
<ModDate>20190206</ModDate>
<ModTime>13195600</ModTime>
<scaleRange>
<minScale>150000000</minScale>
<maxScale>5000</maxScale>
</scaleRange>
<ArcGISProfile>FGDC</ArcGISProfile>
</Esri>
<mdLang>
<languageCode value="eng"/>
<countryCode Sync="TRUE" value="USA"/>
</mdLang>
<mdChar>
<CharSetCd value="004"/>
</mdChar>
<mdHrLv>
<ScopeCd value="005"/>
</mdHrLv>
<mdContact>
<rpOrgName>(MEDEP) Maine Department of Environmental Protection</rpOrgName>
<rpPosName>Senior Database Analyst</rpPosName>
<rpCntInfo>
<cntPhone>
<voiceNum>(207)287-4292</voiceNum>
<faxNum>(207)287-7896</faxNum>
</cntPhone>
<cntAddress addressType="postal">
<delPoint>SHS 17</delPoint>
<city>Augusta</city>
<adminArea>ME</adminArea>
<postCode>04333</postCode>
<country>US</country>
</cntAddress>
</rpCntInfo>
<role>
<RoleCd value="007"/>
</role>
</mdContact>
<mdDateSt Sync="TRUE">20190206</mdDateSt>
<mdStanName>ArcGIS Metadata</mdStanName>
<mdStanVer>1.0</mdStanVer>
<distInfo>
<distributor>
<distorCont>
<rpOrgName>Maine GeoLibrary</rpOrgName>
<rpPosName>Senior Database Analyst</rpPosName>
<rpCntInfo>
<cntAddress addressType="postal">
<delPoint>SHS 145</delPoint>
<city>Augusta</city>
<adminArea>ME</adminArea>
<postCode>04333</postCode>
<country>US</country>
<eMailAdd>geolibrary.oit@maine.gov</eMailAdd>
</cntAddress>
</rpCntInfo>
<role>
<RoleCd value="005"/>
</role>
<displayName>(MEDEP) Maine Department of Environmental Protection</displayName>
<rpIndName>Spatial Data Manager</rpIndName>
</distorCont>
</distributor>
</distInfo>
<dataIdInfo>
<idCitation>
<resTitle Sync="TRUE">orthoRegionalSpot2004</resTitle>
<date>
<pubDate>2004-01-01</pubDate>
</date>
<presForm>
<PresFormCd value="005"/>
<fgdcGeoform>remote-sensing image</fgdcGeoform>
</presForm>
<datasetSeries>
<seriesName>Maine GIS</seriesName>
<issId>SDE server</issId>
</datasetSeries>
<citRespParty>
<editorSource>external</editorSource>
<editorDigest>2dbc48099e6badf49aad8cc329336fc3</editorDigest>
<rpIndName>State of Maine</rpIndName>
<rpOrgName>Office of Information Technology</rpOrgName>
<rpPosName>GIS Platform Administrator</rpPosName>
<rpCntInfo>
<cntAddress addressType="postal">
<delPoint>State House Station 145</delPoint>
<city>Augusta</city>
<adminArea>ME</adminArea>
<postCode>04333-0145</postCode>
<eMailAdd>GeolibraryBoard.OIT@maine.gov</eMailAdd>
<country>US</country>
</cntAddress>
</rpCntInfo>
<editorSave>True</editorSave>
<displayName>State of Maine</displayName>
</citRespParty>
</idCitation>
<idAbs>&lt;DIV STYLE="text-align:Left;"&gt;&lt;DIV&gt;&lt;DIV&gt;&lt;P&gt;&lt;SPAN&gt;These data are panchromatic satellite data from the French SPOT-5 satellite. They represent a black-and-white "picture" of Earth from the satellite using 5-meter pixels (5m x 5m squares) as the minimum unit for imaging. The collection dates are mostly during the leaf-on season in 2004. Two scenes are from winter collects and snow/ice can be seen. This dataset was created through orthorectification of SPOT imagery using USGS Digital Orthophoto Quadrangles and Maine DEMs in ERDAS OrthoBASE 8.7. The orthorectified imagery was then warped using Space Imaging's proprietary Autowarp software. Autowarp computes tie points between two images based on correlation between similar points in the images and then applies a locally varying warp based on the tiepoints. The program was given an initial set of ground control points to create a coarse quadratic warp which was then refined through the addition of more points selected by the program. This work was done by Space Imaging and Sanborn staff. Certain high-elevation areas were further orthorectified by i-cubed to reduce horizontal error. Color balancing for the mosaic was done using GIMP image processing software by Maine DEP GIS staff. Note that balancing was done to enhance vegetated areas. In most cases, this means loss of contrast in urban areas. The raw data are much darker, but would provide more detail in urban areas than these processed data (at the expense of loss of contrast in vegetated areas). These data are part of the MELCD 2004 landcover and impervious mapping project for Maine. The data are LICENSED to the following entities: -Federal Government organizations when working with Maine on joint projects -All State Government departments and agencies within Maine -Regional county and local governments within Maine -K-12 schools, State Colleges and Universities within Maine. These data were the base imagery for the MELCD 2004 project. They were merged with LandSat TM data to create sharpened multispectral data for landcover mapping.&lt;/SPAN&gt;&lt;/P&gt;&lt;/DIV&gt;&lt;/DIV&gt;&lt;/DIV&gt;</idAbs>
<idPurp>Maine Orthoimagery Regional SPOT 2004</idPurp>
<idCredit>SPOT Image, Corporation, Space Imaging, Sanborn, State of Maine.</idCredit>
<idStatus>
<ProgCd value="001"/>
</idStatus>
<idPoC>
<rpOrgName>(MEDEP) Maine Department of Environmental Protection</rpOrgName>
<rpPosName>Senior Database Analyst</rpPosName>
<rpCntInfo>
<cntPhone>
<voiceNum>(207)287-4292</voiceNum>
<faxNum>(207)287-7896</faxNum>
</cntPhone>
<cntAddress addressType="postal">
<delPoint>SHS 17</delPoint>
<city>Augusta</city>
<adminArea>ME</adminArea>
<postCode>04333</postCode>
<country>US</country>
</cntAddress>
</rpCntInfo>
<role>
<RoleCd value="007"/>
</role>
</idPoC>
<resMaint>
<maintFreq>
<MaintFreqCd value="011"/>
</maintFreq>
</resMaint>
<searchKeys>
<keyword>imageryBaseMapsEarthCover</keyword>
<keyword>ortho</keyword>
<keyword>orthoimagery</keyword>
<keyword>orthophotography</keyword>
<keyword>Maine</keyword>
<keyword>GeoLibrary</keyword>
<keyword>MaineGeoLibrary</keyword>
<keyword>orthoRegional</keyword>
<keyword>regional</keyword>
<keyword>SPOT</keyword>
<keyword>5 meter</keyword>
<keyword>2004</keyword>
</searchKeys>
<resConst>
<LegConsts>
<useLimit>Users must assume responsibility to determine the usability of this data for their purposes.</useLimit>
<othConsts>Access is limited to the licensees as stated above.</othConsts>
</LegConsts>
</resConst>
<resConst>
<Consts>
<useLimit>&lt;DIV STYLE="text-align:Left;"&gt;&lt;DIV&gt;&lt;DIV&gt;&lt;P&gt;&lt;SPAN&gt;Access is limited to the licensees as stated above.&lt;/SPAN&gt;&lt;/P&gt;&lt;/DIV&gt;&lt;/DIV&gt;&lt;/DIV&gt;</useLimit>
</Consts>
</resConst>
<dataLang>
<languageCode value="eng"/>
<countryCode Sync="TRUE" value="USA"/>
</dataLang>
<envirDesc Sync="TRUE">Microsoft Windows Server 2012 Version 6.2 (Build 9200) ; Esri ArcGIS 12.3.0.15769</envirDesc>
<dataExt>
<geoEle>
<GeoBndBox>
<westBL>-67.2</westBL>
<eastBL>-66.8</eastBL>
<southBL>44.8</southBL>
<northBL>45.2</northBL>
</GeoBndBox>
</geoEle>
</dataExt>
<dataExt>
<exDesc>ground condition</exDesc>
<tempEle>
<TempExtent>
<exTemp>
<TM_Instant>
<tmPosition time="unknown">2004-01-01</tmPosition>
</TM_Instant>
</exTemp>
</TempExtent>
</tempEle>
</dataExt>
<spatRpType>
<SpatRepTypCd Sync="TRUE" value="002"/>
</spatRpType>
<dataExt>
<geoEle>
<GeoBndBox esriExtentType="search">
<exTypeCode Sync="TRUE">1</exTypeCode>
<westBL Sync="TRUE">-71.242821</westBL>
<eastBL Sync="TRUE">-66.730080</eastBL>
<northBL Sync="TRUE">47.510193</northBL>
<southBL Sync="TRUE">42.983193</southBL>
</GeoBndBox>
</geoEle>
</dataExt>
<tpCat>
<TopicCatCd value="010"/>
</tpCat>
</dataIdInfo>
<mdMaint>
<maintFreq>
<MaintFreqCd value="012"/>
</maintFreq>
<maintNote>Last metadata review date: 2019-01-18</maintNote>
</mdMaint>
<dqInfo>
<dqScope>
<scpLvl>
<ScopeCd value="005"/>
</scpLvl>
</dqScope>
<report type="DQQuanAttAcc">
<measDesc>No attributes involved.</measDesc>
</report>
<report dimension="horizontal" type="DQAbsExtPosAcc">
<measDesc>The Root Mean Square (RMS) error reflects the error in georectification of the SPOT scene to USGS Digital Orthophoto Quadrangles (DOQ) using a second order polynomial model. The USGS DOQs have a horizontal positional accuracy of 6 meters.</measDesc>
<evalMethDesc>The RMS error was computed in ERDAS Imagine software using about 300 tiepoints spread across the geographic extent of the scene. These points were a subset of the total number of tiepoints selected by Autowarp.</evalMethDesc>
<measResult>
<QuanResult>
<quanVal>6</quanVal>
</QuanResult>
</measResult>
</report>
<dataLineage>
<prcStep>
<stepDesc>SPOT-5 data collected by satellite and compiled by SPOT Satellite Corp. Data then shipped to Space Imaging and State of Maine staff for inspection and approval.</stepDesc>
</prcStep>
<prcStep>
<stepDesc>Space Imaging/Sanborn staff used ERDAS OrthoBASE 8.7 and Space Imaging's Autowarp software to orthorectify the imagery to existing USGS DOQs using an initial set of ground control points to create a coarse quadratic warp, which was then refined through the addition of more points.</stepDesc>
<stepProc>
<rpOrgName>Sanborn</rpOrgName>
<rpPosName>GIS / RS Analyst</rpPosName>
<rpCntInfo>
<cntPhone>
<voiceNum>734 213-1060</voiceNum>
<faxNum>734 213-1085</faxNum>
</cntPhone>
<cntAddress addressType="both">
<delPoint>455 E Eisenhower Parkway</delPoint>
<city>Ann Arbor</city>
<adminArea>MI</adminArea>
<postCode>48108</postCode>
<country>US</country>
</cntAddress>
<cntHours>0800 - 1600 (Monday - Friday) EST</cntHours>
<cntInstr>Sanborn Solutions - www.sanborn.com</cntInstr>
</rpCntInfo>
<role>
<RoleCd value="009"/>
</role>
</stepProc>
</prcStep>
<prcStep>
<stepDesc>Certain high-elevation areas were still not acceptable, and were sent out to i-cubed for further orthorectification.</stepDesc>
</prcStep>
<prcStep>
<stepDesc>Images were manipulated for tonal balance across scenes, and clipped to the mosaic pattern provided by Sanborn, using GIMP 2.2 and ESRI's ArcInfo (GRID) software.</stepDesc>
<stepDateTm>2005-08-01T00:00:00</stepDateTm>
<stepProc>
<rpOrgName>(MEDEP) Maine Department of Environmental Protection</rpOrgName>
<rpPosName>Senior Database Analyst</rpPosName>
<rpCntInfo>
<cntPhone>
<voiceNum>(207)287-4292</voiceNum>
<faxNum>(207)287-7896</faxNum>
</cntPhone>
<cntAddress addressType="postal">
<delPoint>SHS 17</delPoint>
<city>Augusta</city>
<adminArea>ME</adminArea>
<postCode>04333</postCode>
<country>US</country>
</cntAddress>
</rpCntInfo>
<role>
<RoleCd value="009"/>
</role>
</stepProc>
</prcStep>
</dataLineage>
</dqInfo>
<spatRepInfo>
<Georect>
<numDims Sync="TRUE">2</numDims>
<axisDimension type="001">
<dimSize Sync="TRUE">100156</dimSize>
<dimResol>
<value Sync="TRUE" uom="m">5.000000</value>
</dimResol>
</axisDimension>
<axisDimension type="002">
<dimSize Sync="TRUE">67988</dimSize>
<dimResol>
<value Sync="TRUE" uom="m">5.000000</value>
</dimResol>
</axisDimension>
<axisDimension type="003">
<dimSize>1</dimSize>
</axisDimension>
<cellGeo>
<CellGeoCd Sync="TRUE" value="002"/>
</cellGeo>
<tranParaAv Sync="TRUE">1</tranParaAv>
<chkPtAv Sync="TRUE">0</chkPtAv>
<cornerPts>
<pos Sync="TRUE">331051.500000 4761082.500000</pos>
</cornerPts>
<cornerPts>
<pos Sync="TRUE">331051.500000 5261862.500000</pos>
</cornerPts>
<cornerPts>
<pos Sync="TRUE">670991.500000 5261862.500000</pos>
</cornerPts>
<cornerPts>
<pos Sync="TRUE">670991.500000 4761082.500000</pos>
</cornerPts>
<centerPt>
<pos Sync="TRUE">501021.500000 5011472.500000</pos>
</centerPt>
<ptInPixel>
<PixOrientCd Sync="TRUE" value="001"/>
</ptInPixel>
</Georect>
</spatRepInfo>
<refSysInfo>
<RefSystem>
<refSysID>
<identCode Sync="TRUE" code="26919"/>
<idCodeSpace Sync="TRUE">EPSG</idCodeSpace>
<idVersion Sync="TRUE">6.13(3.0.1)</idVersion>
</refSysID>
</RefSystem>
</refSysInfo>
<contInfo>
<ImgDesc>
<contentTyp>
<ContentTypCd Sync="TRUE" value="001"/>
</contentTyp>
<covDim>
<Band>
<dimDescrp Sync="TRUE">Band_1</dimDescrp>
<maxVal Sync="TRUE">255.000000</maxVal>
<minVal Sync="TRUE">0.000000</minVal>
<bitsPerVal Sync="TRUE">8</bitsPerVal>
<valUnit>
<UOM type="length"/>
</valUnit>
</Band>
</covDim>
</ImgDesc>
</contInfo>
</metadata>
