View In:
ArcGIS JavaScript
ArcGIS Online Map Viewer
ArcGIS Earth
ArcMap
View Footprint In:
ArcGIS Online Map Viewer
Service Description: Maine GeoLibrary LiDAR Project. Product: These are Digital Elevation Model (DEM) data for the Maine 2017 LiDAR QL2 - Delivery #2 area in Aroostook, Hancock, Penobscot, Piscataquis, Sagadahoc, Somerset, and Washington Counties, Maine as part of the required deliverables for the 2017 Maine LiDAR project. Class 2 (ground) lidar points in conjunction with the hydro breaklines were used to create 0.25-meter, 0.5-meter, and 1-meter hydro-flattened raster DEMs. Geographic Extent: Seven partial counties in Maine, covering approximately 9,314 total square miles. Dataset Description: Maine 2017 LiDAR project called for the planning, acquisition, processing, and derivative products of LiDAR data to be collected at a nominal pulse spacing (NPS) of 0.7 meters. Project specifications are based on the U.S. Geological Survey National Geospatial Program Base LiDAR Specification, Version 1.2. The data for counties in the eastern AOI was developed based on a horizontal projection/datum of NAD83 (2011) UTM Zone 19, meters and vertical datum of NAVD88 (GEOID12B), meters. LiDAR data was delivered as flightline-extent unclassified LAS swaths, as processed Classified LAS 1.4 files formatted to 11,133 individual 1,500-meter x 1,500-meter tiles, 63 individual 750-meter x 750-meter tiles, and 36 individual 500-meter x 500-meter tiles, as tiled intensity imagery, and as tiled bare earth DEMs; all tiled to the same 1,500-meter x 1,500-meter schema. Continuous hydro-flattened breaklines were produced in Esri file geodatabase format. Ground Conditions: LiDAR was collected in the spring and fall of 2017, while no snow was on the ground and rivers were at or below normal levels. In order to post process the LiDAR data to meet task order specifications and meet ASPRS vertical accuracy guidelines, Quantum Spatial, Inc. established a total of 181 ground control points that were used to calibrate the LiDAR to known ground locations established throughout the project area. An additional 301 independent accuracy checkpoints, 178 in Bare Earth and Urban landcovers (178 NVA points), 123 in Forested, Shrubs, and Tall Weeds categories (123 VVA points), were used to assess the vertical accuracy of the data. These checkpoints were not used to calibrate or post process the data.
Name: Elevation/Maine_Elevation_DEM_2017
Description: Maine GeoLibrary LiDAR Project. Product: These are Digital Elevation Model (DEM) data for the Maine 2017 LiDAR QL2 - Delivery #2 area in Aroostook, Hancock, Penobscot, Piscataquis, Sagadahoc, Somerset, and Washington Counties, Maine as part of the required deliverables for the 2017 Maine LiDAR project. Class 2 (ground) lidar points in conjunction with the hydro breaklines were used to create 0.25-meter, 0.5-meter, and 1-meter hydro-flattened raster DEMs. Geographic Extent: Seven partial counties in Maine, covering approximately 9,314 total square miles. Dataset Description: Maine 2017 LiDAR project called for the planning, acquisition, processing, and derivative products of LiDAR data to be collected at a nominal pulse spacing (NPS) of 0.7 meters. Project specifications are based on the U.S. Geological Survey National Geospatial Program Base LiDAR Specification, Version 1.2. The data for counties in the eastern AOI was developed based on a horizontal projection/datum of NAD83 (2011) UTM Zone 19, meters and vertical datum of NAVD88 (GEOID12B), meters. LiDAR data was delivered as flightline-extent unclassified LAS swaths, as processed Classified LAS 1.4 files formatted to 11,133 individual 1,500-meter x 1,500-meter tiles, 63 individual 750-meter x 750-meter tiles, and 36 individual 500-meter x 500-meter tiles, as tiled intensity imagery, and as tiled bare earth DEMs; all tiled to the same 1,500-meter x 1,500-meter schema. Continuous hydro-flattened breaklines were produced in Esri file geodatabase format. Ground Conditions: LiDAR was collected in the spring and fall of 2017, while no snow was on the ground and rivers were at or below normal levels. In order to post process the LiDAR data to meet task order specifications and meet ASPRS vertical accuracy guidelines, Quantum Spatial, Inc. established a total of 181 ground control points that were used to calibrate the LiDAR to known ground locations established throughout the project area. An additional 301 independent accuracy checkpoints, 178 in Bare Earth and Urban landcovers (178 NVA points), 123 in Forested, Shrubs, and Tall Weeds categories (123 VVA points), were used to assess the vertical accuracy of the data. These checkpoints were not used to calibrate or post process the data.
Single Fused Map Cache: false
Extent:
XMin: 442500.0
YMin: 4930500.0
XMax: 654000.0
YMax: 5224500.0
Spatial Reference: 102388
(6348)
LatestVCSWkid(0)
Initial Extent:
XMin: 442500.0
YMin: 4930500.0
XMax: 654000.0
YMax: 5224500.0
Spatial Reference: 102388
(6348)
LatestVCSWkid(0)
Full Extent:
XMin: 442500.0
YMin: 4930500.0
XMax: 654000.0
YMax: 5224500.0
Spatial Reference: 102388
(6348)
LatestVCSWkid(0)
Pixel Size X: 1.0
Pixel Size Y: 1.0
Band Count: 1
Pixel Type: F32
RasterFunction Infos: {"rasterFunctionInfos": [{
"name": "None",
"description": "Make a Raster or Raster Dataset into a Function Raster Dataset.",
"help": ""
}]}
Mensuration Capabilities:
Has Histograms: true
Has Colormap: false
Has Multi Dimensions : false
Rendering Rule:
Min Scale: 0
Max Scale: 0
Copyright Text: Maine GeoLibrary
Service Data Type: esriImageServiceDataTypeElevation
Min Values: -2.9042508602142334
Max Values: 1605.4154052734375
Mean Values: 193.70710547284577
Standard Deviation Values: 127.5601417839642
Object ID Field:
Fields:
None
Default Mosaic Method: Northwest
Allowed Mosaic Methods: NorthWest,Center,ByAttribute,Nadir,Viewpoint,None
SortField:
SortValue: null
Mosaic Operator: First
Default Compression Quality: 87
Default Resampling Method: Bilinear
Max Record Count: 1000
Max Image Height: 4100
Max Image Width: 15000
Max Download Image Count: 20
Max Mosaic Image Count: 44
Allow Raster Function: true
Allow Copy: true
Allow Analysis: true
Allow Compute TiePoints: false
Supports Statistics: false
Supports Advanced Queries: false
Use StandardizedQueries: true
Raster Type Infos:
Name: Raster Dataset
Description: Supports all ArcGIS Raster Datasets
Help:
Has Raster Attribute Table: false
Edit Fields Info: null
Ownership Based AccessControl For Rasters: null
Child Resources:
Info
Histograms
Statistics
Key Properties
Legend
Raster Function Infos
Supported Operations:
Export Image
Query
Identify
Download Rasters
Compute Histograms
Compute Statistics Histograms
Get Samples
Compute Class Statistics
Query Boundary
Compute Pixel Location
Compute Angles
Validate
Project
Calculate Volume