View In:
ArcGIS JavaScript
ArcGIS Online Map Viewer
ArcGIS Earth
Service Description: The ME_SouthCoastal_2_2020 Work Unit 212010 project called for the planning, acquisition, processing, and derivative products of lidar data to be collected at a nominal pulse spacing (NPS) of 0.35 meters. Project specifications are based on the U.S. Geological Survey National Geospatial Program Base LiDAR Specification, Version 2.1. The data were developed based on a horizontal projection/datum of NAD 1983 2011 UTM Zone 19N, Meter and vertical datum of NAVD88 Geoid 18, Meter. LiDAR data were delivered as processed Classified LAS 1.4 files formatted to 128 individual 1500 m x 1500 m tiles, as tiled intensity imagery, and as tiled bare earth DEMs; all tiled to the same 1500 m x 1500 m schema. Continuous breaklines were produced in Esri file geodatabase format. Ground Conditions: LiDAR was collected in spring 2020, while no snow was on the ground and rivers were at or below normal levels. In order to post process the LiDAR data to meet task order specifications and meet ASPRS vertical accuracy guidelines, NV5 Geospatial, powered by Quantum Spatial utilized a total of 64 ground control points that were used to calibrate the LiDAR to known ground locations established throughout the project area. An additional 151 independent accuracy checkpoints, 86 in Bare Earth and Urban landcovers (86 NVA points), 65 in Tall Weeds categories (65 VVA points), were used to assess the vertical accuracy of the data. These checkpoints were not used to calibrate or post process the data.
Name: Elevation/Maine_Elevation_DEM_2020
Description: The ME_SouthCoastal_2_2020 Work Unit 212010 project called for the planning, acquisition, processing, and derivative products of lidar data to be collected at a nominal pulse spacing (NPS) of 0.35 meters. Project specifications are based on the U.S. Geological Survey National Geospatial Program Base LiDAR Specification, Version 2.1. The data were developed based on a horizontal projection/datum of NAD 1983 2011 UTM Zone 19N, Meter and vertical datum of NAVD88 Geoid 18, Meter. LiDAR data were delivered as processed Classified LAS 1.4 files formatted to 128 individual 1500 m x 1500 m tiles, as tiled intensity imagery, and as tiled bare earth DEMs; all tiled to the same 1500 m x 1500 m schema. Continuous breaklines were produced in Esri file geodatabase format. Ground Conditions: LiDAR was collected in spring 2020, while no snow was on the ground and rivers were at or below normal levels. In order to post process the LiDAR data to meet task order specifications and meet ASPRS vertical accuracy guidelines, NV5 Geospatial, powered by Quantum Spatial utilized a total of 64 ground control points that were used to calibrate the LiDAR to known ground locations established throughout the project area. An additional 151 independent accuracy checkpoints, 86 in Bare Earth and Urban landcovers (86 NVA points), 65 in Tall Weeds categories (65 VVA points), were used to assess the vertical accuracy of the data. These checkpoints were not used to calibrate or post process the data.
Single Fused Map Cache: false
Extent:
XMin: 360000.00000000023
YMin: 4767000.0
XMax: 480000.00000000023
YMax: 4927500.0
Spatial Reference: 26919
(26919)
LatestVCSWkid(0)
Initial Extent:
XMin: 360000.00000000023
YMin: 4767000.0
XMax: 480000.00000000023
YMax: 4927500.0
Spatial Reference: 26919
(26919)
LatestVCSWkid(0)
Full Extent:
XMin: 360000.00000000023
YMin: 4767000.0
XMax: 480000.00000000023
YMax: 4927500.0
Spatial Reference: 26919
(26919)
LatestVCSWkid(0)
Pixel Size X: 1.0
Pixel Size Y: 1.0
Band Count: 1
Pixel Type: F32
RasterFunction Infos: {"rasterFunctionInfos": [{
"name": "None",
"description": "",
"help": ""
}]}
Mensuration Capabilities:
Inspection Capabilities:
Has Histograms: true
Has Colormap: false
Has Multi Dimensions : false
Rendering Rule:
Min Scale: 0
Max Scale: 0
Resampling: false
Copyright Text: NV5 Geospatial, powered by Quantum Spatial,Maine GeoLibrary
Service Data Type: esriImageServiceDataTypeGeneric
Min Values: -22.940000534057617
Max Values: 345.5237731933594
Mean Values: 49.77675783539783
Standard Deviation Values: 45.25651367893513
Object ID Field:
Fields:
None
Default Mosaic Method: Northwest
Allowed Mosaic Methods: NorthWest,Center,ByAttribute,Nadir,Viewpoint,None
SortField:
SortValue: null
Mosaic Operator: First
Default Compression Quality: 91
Default Resampling Method: Bilinear
Max Record Count: 1000
Max Image Height: 4100
Max Image Width: 15000
Max Download Image Count: 20
Max Mosaic Image Count: 20
Allow Raster Function: true
Allow Copy: true
Allow Analysis: true
Allow Compute TiePoints: false
Supports Statistics: false
Supports Advanced Queries: false
Use StandardizedQueries: true
Raster Type Infos:
Name: Raster Dataset
Description: Supports all ArcGIS Raster Datasets
Help:
Has Raster Attribute Table: false
Edit Fields Info: null
Ownership Based AccessControl For Rasters: null
Child Resources:
Info
Histograms
Statistics
Key Properties
Legend
Raster Function Infos
Supported Operations:
Export Image
Query
Identify
Download Rasters
Get Image Url
Compute Histograms
Compute Statistics Histograms
Get Samples
Compute Class Statistics
Query GPS Info
Find Images
Image to Map
Map to Image
Measure from Image
Image to Map Multiray
Query Boundary
Compute Pixel Location
Compute Angles
Validate
Project