View In:
ArcGIS JavaScript
ArcGIS Online Map Viewer
ArcGIS Earth
Service Description: 0.15 meter ground sample distance (GSD), high resolution digital orthophotographs produced from aerial photos collected over the Casco Bay area of Maine on August 11 and 12, 2013. Each pixel represents a planimetric square 0.15 meter on a side on the ground. Aerial photography was flown at approximately 453 meters above mean ground level (mean ground level is approximately 8 meters). Source elevation data is 1/3 arc second data acquired from USGS. The digital orthorectified images are referenced to North American Datum 1983, UTM Zone 19 expressed in units of meters. 3 band tiled MG3 MrSid files were created. Imagery tiles provide complete coverage of the Casco Bay site in Maine.
Name: imageryBaseMapsEarthCover/orthoCoastalCascoBay2013
Description: 0.15 meter ground sample distance (GSD), high resolution digital orthophotographs produced from aerial photos collected over the Casco Bay area of Maine on August 11 and 12, 2013. Each pixel represents a planimetric square 0.15 meter on a side on the ground. Aerial photography was flown at approximately 453 meters above mean ground level (mean ground level is approximately 8 meters). Source elevation data is 1/3 arc second data acquired from USGS. The digital orthorectified images are referenced to North American Datum 1983, UTM Zone 19 expressed in units of meters. 3 band tiled MG3 MrSid files were created. Imagery tiles provide complete coverage of the Casco Bay site in Maine.
Single Fused Map Cache: false
Extent:
XMin: 390499.94999999943
YMin: 4819999.95
XMax: 435500.10000000015
YMax: 4868000.100000001
Spatial Reference: 26919
(26919)
LatestVCSWkid(0)
Initial Extent:
XMin: 390499.94999999943
YMin: 4819999.95
XMax: 435500.10000000015
YMax: 4868000.100000001
Spatial Reference: 26919
(26919)
LatestVCSWkid(0)
Full Extent:
XMin: 390499.94999999943
YMin: 4819999.95
XMax: 435500.10000000015
YMax: 4868000.100000001
Spatial Reference: 26919
(26919)
LatestVCSWkid(0)
Time Info:
Start Time Field: Date
End Time Field: Date
Time Extent:
[2013/08/11 00:00:00 UTC, 2013/08/11 00:00:00 UTC]
Time Reference:
N/A
Pixel Size X: 0.1500000000000024
Pixel Size Y: 0.15000000000000116
Band Count: 4
Pixel Type: U8
RasterFunction Infos: {"rasterFunctionInfos": [{
"name": "None",
"description": "A No-Op Function.",
"help": ""
}]}
Mensuration Capabilities: None
Inspection Capabilities:
Has Histograms: true
Has Colormap: false
Has Multi Dimensions : false
Rendering Rule:
Min Scale: 0
Max Scale: 0
Resampling: false
Copyright Text: MaineDEP, Maine GeoLibrary
Service Data Type: esriImageServiceDataTypeProcessed
Min Values: 1, 27, 36, 36
Max Values: 255, 255, 255, 255
Mean Values: 99.31491635150746, 119.82295296526826, 119.03101104854062, 119.03101104854062
Standard Deviation Values: 80.23282819170478, 68.72440218014809, 66.87402874730886, 66.87402874730886
Object ID Field: OBJECTID
Fields:
-
OBJECTID
(
type: esriFieldTypeOID, alias: OBJECTID
)
-
Shape
(
type: esriFieldTypeGeometry, alias: Shape
)
-
Name
(
type: esriFieldTypeString, alias: Name, length: 200
)
-
MinPS
(
type: esriFieldTypeDouble, alias: MinPS
)
-
MaxPS
(
type: esriFieldTypeDouble, alias: MaxPS
)
-
LowPS
(
type: esriFieldTypeDouble, alias: LowPS
)
-
HighPS
(
type: esriFieldTypeDouble, alias: HighPS
)
-
Category
(
type: esriFieldTypeInteger, alias: Category
, Coded Values:
[0: Unknown]
, [1: Primary]
, [2: Overview]
, ...6 more...
)
-
Tag
(
type: esriFieldTypeString, alias: Tag, length: 100
)
-
GroupName
(
type: esriFieldTypeString, alias: GroupName, length: 100
)
-
ProductName
(
type: esriFieldTypeString, alias: ProductName, length: 100
)
-
CenterX
(
type: esriFieldTypeDouble, alias: CenterX
)
-
CenterY
(
type: esriFieldTypeDouble, alias: CenterY
)
-
ZOrder
(
type: esriFieldTypeInteger, alias: ZOrder
)
-
Shape_Length
(
type: esriFieldTypeDouble, alias: Shape_Length
)
-
Shape_Area
(
type: esriFieldTypeDouble, alias: Shape_Area
)
-
Date
(
type: esriFieldTypeDate, alias: Date, length: 8
)
-
DateInt
(
type: esriFieldTypeSmallInteger, alias: DateInt
)
Default Mosaic Method: Northwest
Allowed Mosaic Methods: NorthWest,Center,ByAttribute,Nadir,Viewpoint,None
SortField:
SortValue: null
Mosaic Operator: First
Default Compression Quality: 87
Default Resampling Method: Bilinear
Max Record Count: 1000
Max Image Height: 4100
Max Image Width: 15000
Max Download Image Count: 20
Max Mosaic Image Count: 20
Allow Raster Function: true
Allow Copy: true
Allow Analysis: true
Allow Compute TiePoints: false
Supports Statistics: true
Supports Advanced Queries: true
Use StandardizedQueries: true
Raster Type Infos:
Name: Raster Dataset
Description: Supports all ArcGIS Raster Datasets
Help:
Has Raster Attribute Table: false
Edit Fields Info: null
Ownership Based AccessControl For Rasters: null
Child Resources:
Info
Histograms
Statistics
Key Properties
Legend
Raster Function Infos
Supported Operations:
Export Image
Query
Identify
Download Rasters
Get Image Url
Compute Histograms
Compute Statistics Histograms
Get Samples
Compute Class Statistics
Query GPS Info
Find Images
Image to Map
Map to Image
Measure from Image
Image to Map Multiray
Query Boundary
Compute Pixel Location
Compute Angles
Validate
Project