View In:
ArcGIS JavaScript
ArcGIS Online Map Viewer
ArcGIS Earth
Service Description: True color imagery, 0.50 meter ground sample distance (GSD), high resolution digital orthophotographs produced from aerial photos collected over the coast of Maine in the late summer of 2009. Each pixel represents a planimetric square 0.50 meter on a side on the ground. Aerial photography was flown at approximately 1,900 meters above mean ground level. Source elevation data were 30 meter Digital Elevation Models produced by the USGS from 1:24,000 scale elevation. The digital orthorectified images are referenced to North American Datum 1983, UTM Zone 19, expressed in units of meters. The completed orthorectified GeoTIFF files represent Digital Ortho Quarter Quad (DOQQ) sized sheets. Imagery tiles provide complete coverage of the Maine Department of Marine Resources (DMR) 2009 Eelgrass boundaries as defined by the project.
Name: imageryBaseMapsEarthCover/orthoCoastalDownEastCoast2009
Description: True color imagery, 0.50 meter ground sample distance (GSD), high resolution digital orthophotographs produced from aerial photos collected over the coast of Maine in the late summer of 2009. Each pixel represents a planimetric square 0.50 meter on a side on the ground. Aerial photography was flown at approximately 1,900 meters above mean ground level. Source elevation data were 30 meter Digital Elevation Models produced by the USGS from 1:24,000 scale elevation. The digital orthorectified images are referenced to North American Datum 1983, UTM Zone 19, expressed in units of meters. The completed orthorectified GeoTIFF files represent Digital Ortho Quarter Quad (DOQQ) sized sheets. Imagery tiles provide complete coverage of the Maine Department of Marine Resources (DMR) 2009 Eelgrass boundaries as defined by the project.
Single Fused Map Cache: false
Extent:
XMin: 572730.0490846625
YMin: 4907009.794736824
XMax: 665154.3945080822
YMax: 5004256.036498921
Spatial Reference: 26919
(26919)
LatestVCSWkid(0)
Initial Extent:
XMin: 572730.0490846625
YMin: 4907009.794736824
XMax: 665154.3945080822
YMax: 5004256.036498921
Spatial Reference: 26919
(26919)
LatestVCSWkid(0)
Full Extent:
XMin: 572730.0490846625
YMin: 4907009.794736824
XMax: 665154.3945080822
YMax: 5004256.036498921
Spatial Reference: 26919
(26919)
LatestVCSWkid(0)
Time Info:
Start Time Field: Date
End Time Field: Date
Time Extent:
[2009/08/25 00:00:00 UTC, 2009/08/25 00:00:00 UTC]
Time Reference:
N/A
Pixel Size X: 0.49988558352445345
Pixel Size Y: 0.49988558352445545
Band Count: 4
Pixel Type: U8
RasterFunction Infos: {"rasterFunctionInfos": [{
"name": "None",
"description": "A No-Op Function.",
"help": ""
}]}
Mensuration Capabilities: None
Inspection Capabilities:
Has Histograms: true
Has Colormap: false
Has Multi Dimensions : false
Rendering Rule:
Min Scale: 0
Max Scale: 0
Resampling: false
Copyright Text: MaineDMR, MaineGeoLibrary
Service Data Type: esriImageServiceDataTypeProcessed
Min Values: 0, 0, 0, 0
Max Values: 252, 252, 252, 252
Mean Values: 62.453540310697576, 73.24551877762589, 60.42935427857565, 60.42935427857565
Standard Deviation Values: 38.341326171669174, 42.22534630595131, 36.16684895566068, 36.16684895566068
Object ID Field: OBJECTID
Fields:
-
OBJECTID
(
type: esriFieldTypeOID, alias: OBJECTID
)
-
Shape
(
type: esriFieldTypeGeometry, alias: Shape
)
-
Name
(
type: esriFieldTypeString, alias: Name, length: 200
)
-
MinPS
(
type: esriFieldTypeDouble, alias: MinPS
)
-
MaxPS
(
type: esriFieldTypeDouble, alias: MaxPS
)
-
LowPS
(
type: esriFieldTypeDouble, alias: LowPS
)
-
HighPS
(
type: esriFieldTypeDouble, alias: HighPS
)
-
Category
(
type: esriFieldTypeInteger, alias: Category
, Coded Values:
[0: Unknown]
, [1: Primary]
, [2: Overview]
, ...6 more...
)
-
Tag
(
type: esriFieldTypeString, alias: Tag, length: 100
)
-
GroupName
(
type: esriFieldTypeString, alias: GroupName, length: 100
)
-
ProductName
(
type: esriFieldTypeString, alias: ProductName, length: 100
)
-
CenterX
(
type: esriFieldTypeDouble, alias: CenterX
)
-
CenterY
(
type: esriFieldTypeDouble, alias: CenterY
)
-
ZOrder
(
type: esriFieldTypeInteger, alias: ZOrder
)
-
Shape_Length
(
type: esriFieldTypeDouble, alias: Shape_Length
)
-
Shape_Area
(
type: esriFieldTypeDouble, alias: Shape_Area
)
-
Date
(
type: esriFieldTypeDate, alias: Date, length: 8
)
-
DateInt
(
type: esriFieldTypeSmallInteger, alias: DateInt
)
Default Mosaic Method: Northwest
Allowed Mosaic Methods: NorthWest,Center,ByAttribute,Nadir,Viewpoint,None
SortField:
SortValue: null
Mosaic Operator: First
Default Compression Quality: 87
Default Resampling Method: Bilinear
Max Record Count: 1000
Max Image Height: 4100
Max Image Width: 15000
Max Download Image Count: 20
Max Mosaic Image Count: 20
Allow Raster Function: true
Allow Copy: true
Allow Analysis: true
Allow Compute TiePoints: false
Supports Statistics: true
Supports Advanced Queries: true
Use StandardizedQueries: true
Raster Type Infos:
Name: Raster Dataset
Description: Supports all ArcGIS Raster Datasets
Help:
Has Raster Attribute Table: false
Edit Fields Info: null
Ownership Based AccessControl For Rasters: null
Child Resources:
Info
Histograms
Statistics
Key Properties
Legend
Raster Function Infos
Supported Operations:
Export Image
Query
Identify
Download Rasters
Get Image Url
Compute Histograms
Compute Statistics Histograms
Get Samples
Compute Class Statistics
Query GPS Info
Find Images
Image to Map
Map to Image
Measure from Image
Image to Map Multiray
Query Boundary
Compute Pixel Location
Compute Angles
Validate
Project