View In:
ArcGIS JavaScript
ArcGIS Online Map Viewer
ArcGIS Earth
Service Description: ORTHO_MCP contains high resolution 12-bit color Ortho-rectified Digital Images (ODIs) collected by Delorme, Inc. and processed by from Space Imaging LLC. These digital images result from ortho-rectification and mosaicking of digital color aerial photographs. Digital file features include high quality ground-level georeferencing, derived from accurate positioning and geometric corrections, and provide a digital photographic map suitable for applications requiring a 1:2400 National Map Accuracy Standard (NMAS). ORTHO_MCP is available at Maine GIS in a seamless mosaic of .TIFF images stored in Oracle 9i for users of ArcSDE 8.x and ArcIMS. The imagery covers a portion of the Maine coastline at low tide. Imagery created by Delorme using an ADS-40 sensor, http://www.lh-systems.com/products/ads40.html. The imagery consists of 3 bands - red, green, and blue. A single band near infra red was also collected.
Name: imageryBaseMapsEarthCover/orthoCoastalMaineCoastalProgram2003
Description: ORTHO_MCP contains high resolution 12-bit color Ortho-rectified Digital Images (ODIs) collected by Delorme, Inc. and processed by from Space Imaging LLC. These digital images result from ortho-rectification and mosaicking of digital color aerial photographs. Digital file features include high quality ground-level georeferencing, derived from accurate positioning and geometric corrections, and provide a digital photographic map suitable for applications requiring a 1:2400 National Map Accuracy Standard (NMAS). ORTHO_MCP is available at Maine GIS in a seamless mosaic of .TIFF images stored in Oracle 9i for users of ArcSDE 8.x and ArcIMS. The imagery covers a portion of the Maine coastline at low tide. Imagery created by Delorme using an ADS-40 sensor, http://www.lh-systems.com/products/ads40.html. The imagery consists of 3 bands - red, green, and blue. A single band near infra red was also collected.
Single Fused Map Cache: false
Extent:
XMin: 361300.0000255799
YMin: 4782761.800067931
XMax: 457150.2999616215
YMax: 4884619.899999964
Spatial Reference: 26919
(26919)
LatestVCSWkid(0)
Initial Extent:
XMin: 361300.0000255799
YMin: 4782761.800067931
XMax: 457150.2999616215
YMax: 4884619.899999964
Spatial Reference: 26919
(26919)
LatestVCSWkid(0)
Full Extent:
XMin: 361300.0000255799
YMin: 4782761.800067931
XMax: 457150.2999616215
YMax: 4884619.899999964
Spatial Reference: 26919
(26919)
LatestVCSWkid(0)
Time Info:
Start Time Field: DateBegin
End Time Field: DateEnd
Time Extent:
[2003/06/01 00:00:00 UTC, 2003/06/06 00:00:00 UTC]
Time Reference:
N/A
Pixel Size X: 0.29999999979981795
Pixel Size Y: 0.2999999997998175
Band Count: 3
Pixel Type: U8
RasterFunction Infos: {"rasterFunctionInfos": [{
"name": "None",
"description": "A No-Op Function.",
"help": ""
}]}
Mensuration Capabilities: None
Inspection Capabilities:
Has Histograms: true
Has Colormap: false
Has Multi Dimensions : false
Rendering Rule:
Min Scale: 0
Max Scale: 0
Resampling: false
Copyright Text: DeLorme Publishing Company, Maine Coastal Program, Maine GeoLibrary, Space Imaging LLC
Service Data Type: esriImageServiceDataTypeProcessed
Min Values: 0, 0, 0
Max Values: 255, 255, 255
Mean Values: 48.774945914949484, 83.62699806657608, 75.3119892533938
Standard Deviation Values: 64.14637917942697, 66.59155241110948, 56.83164725255509
Object ID Field: OBJECTID
Fields:
-
OBJECTID
(
type: esriFieldTypeOID, alias: OBJECTID
)
-
Shape
(
type: esriFieldTypeGeometry, alias: Shape
)
-
Name
(
type: esriFieldTypeString, alias: Name, length: 200
)
-
MinPS
(
type: esriFieldTypeDouble, alias: MinPS
)
-
MaxPS
(
type: esriFieldTypeDouble, alias: MaxPS
)
-
LowPS
(
type: esriFieldTypeDouble, alias: LowPS
)
-
HighPS
(
type: esriFieldTypeDouble, alias: HighPS
)
-
Category
(
type: esriFieldTypeInteger, alias: Category
, Coded Values:
[0: Unknown]
, [1: Primary]
, [2: Overview]
, ...6 more...
)
-
Tag
(
type: esriFieldTypeString, alias: Tag, length: 100
)
-
GroupName
(
type: esriFieldTypeString, alias: GroupName, length: 100
)
-
ProductName
(
type: esriFieldTypeString, alias: ProductName, length: 100
)
-
CenterX
(
type: esriFieldTypeDouble, alias: CenterX
)
-
CenterY
(
type: esriFieldTypeDouble, alias: CenterY
)
-
ZOrder
(
type: esriFieldTypeInteger, alias: ZOrder
)
-
DateBegin
(
type: esriFieldTypeDate, alias: DateBegin, length: 8
)
-
DateEnd
(
type: esriFieldTypeDate, alias: DateEnd, length: 8
)
-
DateIntBegin
(
type: esriFieldTypeSmallInteger, alias: DateIntBegin
)
-
DateIntEnd
(
type: esriFieldTypeSmallInteger, alias: DateIntEnd
)
-
Shape_Length
(
type: esriFieldTypeDouble, alias: Shape_Length
)
-
Shape_Area
(
type: esriFieldTypeDouble, alias: Shape_Area
)
Default Mosaic Method: Northwest
Allowed Mosaic Methods: NorthWest,Center,ByAttribute,Nadir,Viewpoint,None
SortField:
SortValue: null
Mosaic Operator: First
Default Compression Quality: 87
Default Resampling Method: Bilinear
Max Record Count: 1000
Max Image Height: 4100
Max Image Width: 15000
Max Download Image Count: 20
Max Mosaic Image Count: 20
Allow Raster Function: true
Allow Copy: true
Allow Analysis: true
Allow Compute TiePoints: false
Supports Statistics: true
Supports Advanced Queries: true
Use StandardizedQueries: true
Raster Type Infos:
Name: Raster Dataset
Description: Supports all ArcGIS Raster Datasets
Help:
Has Raster Attribute Table: false
Edit Fields Info: null
Ownership Based AccessControl For Rasters: null
Child Resources:
Info
Histograms
Statistics
Key Properties
Legend
Raster Function Infos
Supported Operations:
Export Image
Query
Identify
Download Rasters
Get Image Url
Compute Histograms
Compute Statistics Histograms
Get Samples
Compute Class Statistics
Query GPS Info
Find Images
Image to Map
Map to Image
Measure from Image
Image to Map Multiray
Query Boundary
Compute Pixel Location
Compute Angles
Validate
Project