View In:
ArcGIS JavaScript
ArcGIS Online Map Viewer
ArcGIS Earth
Service Description: 2008 NOAA Aerial Photography of New Hampshire: Integrated Ocean and Coastal Mapping Product. Integrated Ocean and Coastal Mapping (IOCM) Product. The images were acquired from a nominal altitude of 5,000 feet above ground level (AGL), using an Applanix Digital Sensor System (DSS). Imagery products are true color (RGB) and infrared (IR) images. The IR images were acquired with a 850 nm cut on filter. Images have been orthorectified and mosaiced to produce a seamless data set. This imagery was acquired by the NOAA Remote Sensing Division to support NOAA's IOCM requirements. It is not intended for mapping, charting or navigation. In addition, it will be used for ongoing research efforts for testing and developing standards for airborne digital imagery. Clouds may be present in the imagery. Mosaic data have not been histogram stretched and only minimal color balancing has been performed. The ground sample distance (GSD) for each pixel is 0.5 m.
Name: imageryBaseMapsEarthCover/orthoCoastalNoaaIocm2008
Description: 2008 NOAA Aerial Photography of New Hampshire: Integrated Ocean and Coastal Mapping Product. Integrated Ocean and Coastal Mapping (IOCM) Product. The images were acquired from a nominal altitude of 5,000 feet above ground level (AGL), using an Applanix Digital Sensor System (DSS). Imagery products are true color (RGB) and infrared (IR) images. The IR images were acquired with a 850 nm cut on filter. Images have been orthorectified and mosaiced to produce a seamless data set. This imagery was acquired by the NOAA Remote Sensing Division to support NOAA's IOCM requirements. It is not intended for mapping, charting or navigation. In addition, it will be used for ongoing research efforts for testing and developing standards for airborne digital imagery. Clouds may be present in the imagery. Mosaic data have not been histogram stretched and only minimal color balancing has been performed. The ground sample distance (GSD) for each pixel is 0.5 m.
Single Fused Map Cache: false
Extent:
XMin: 349792.0
YMin: 4764000.0
XMax: 365802.0
YMax: 4777484.0
Spatial Reference: 26919
(26919)
LatestVCSWkid(0)
Initial Extent:
XMin: 349792.0
YMin: 4764000.0
XMax: 365802.0
YMax: 4777484.0
Spatial Reference: 26919
(26919)
LatestVCSWkid(0)
Full Extent:
XMin: 349792.0
YMin: 4764000.0
XMax: 365802.0
YMax: 4777484.0
Spatial Reference: 26919
(26919)
LatestVCSWkid(0)
Time Info:
Start Time Field: DateBegin
End Time Field: DateEnd
Time Extent:
[2008/06/09 00:00:00 UTC, 2008/06/09 00:00:00 UTC]
Time Reference:
N/A
Pixel Size X: 0.5
Pixel Size Y: 0.5
Band Count: 4
Pixel Type: U8
RasterFunction Infos: {"rasterFunctionInfos": [{
"name": "None",
"description": "A No-Op Function.",
"help": ""
}]}
Mensuration Capabilities: None
Inspection Capabilities:
Has Histograms: true
Has Colormap: false
Has Multi Dimensions : false
Rendering Rule:
Min Scale: 0
Max Scale: 0
Resampling: false
Copyright Text: NOAA, Maine GeoLibrary
Service Data Type: esriImageServiceDataTypeProcessed
Min Values: 0, 0, 0, 0
Max Values: 254, 254, 254, 94
Mean Values: 70.09080822754557, 82.66300647782123, 78.06786926931034, 28.18141355097211
Standard Deviation Values: 33.67285127201218, 33.075731267572664, 31.065728147154278, 20.492905603936908
Object ID Field: OBJECTID
Fields:
-
OBJECTID
(
type: esriFieldTypeOID, alias: OBJECTID
)
-
Shape
(
type: esriFieldTypeGeometry, alias: Shape
)
-
Name
(
type: esriFieldTypeString, alias: Name, length: 200
)
-
MinPS
(
type: esriFieldTypeDouble, alias: MinPS
)
-
MaxPS
(
type: esriFieldTypeDouble, alias: MaxPS
)
-
LowPS
(
type: esriFieldTypeDouble, alias: LowPS
)
-
HighPS
(
type: esriFieldTypeDouble, alias: HighPS
)
-
Category
(
type: esriFieldTypeInteger, alias: Category
, Coded Values:
[0: Unknown]
, [1: Primary]
, [2: Overview]
, ...6 more...
)
-
Tag
(
type: esriFieldTypeString, alias: Tag, length: 100
)
-
GroupName
(
type: esriFieldTypeString, alias: GroupName, length: 100
)
-
ProductName
(
type: esriFieldTypeString, alias: ProductName, length: 100
)
-
CenterX
(
type: esriFieldTypeDouble, alias: CenterX
)
-
CenterY
(
type: esriFieldTypeDouble, alias: CenterY
)
-
ZOrder
(
type: esriFieldTypeInteger, alias: ZOrder
)
-
DateBegin
(
type: esriFieldTypeDate, alias: DateBegin, length: 8
)
-
DateEnd
(
type: esriFieldTypeDate, alias: DateEnd, length: 8
)
-
DateIntBegin
(
type: esriFieldTypeSmallInteger, alias: DateIntBegin
)
-
DateIntEnd
(
type: esriFieldTypeSmallInteger, alias: DateIntEnd
)
-
Shape_Length
(
type: esriFieldTypeDouble, alias: Shape_Length
)
-
Shape_Area
(
type: esriFieldTypeDouble, alias: Shape_Area
)
Default Mosaic Method: Northwest
Allowed Mosaic Methods: NorthWest,Center,ByAttribute,Nadir,Viewpoint,None
SortField:
SortValue: null
Mosaic Operator: First
Default Compression Quality: 87
Default Resampling Method: Bilinear
Max Record Count: 1000
Max Image Height: 4100
Max Image Width: 15000
Max Download Image Count: 20
Max Mosaic Image Count: 20
Allow Raster Function: true
Allow Copy: true
Allow Analysis: true
Allow Compute TiePoints: false
Supports Statistics: true
Supports Advanced Queries: true
Use StandardizedQueries: true
Raster Type Infos:
Name: Raster Dataset
Description: Supports all ArcGIS Raster Datasets
Help:
Has Raster Attribute Table: false
Edit Fields Info: null
Ownership Based AccessControl For Rasters: null
Child Resources:
Info
Histograms
Statistics
Key Properties
Legend
Raster Function Infos
Supported Operations:
Export Image
Query
Identify
Download Rasters
Get Image Url
Compute Histograms
Compute Statistics Histograms
Get Samples
Compute Class Statistics
Query GPS Info
Find Images
Image to Map
Map to Image
Measure from Image
Image to Map Multiray
Query Boundary
Compute Pixel Location
Compute Angles
Validate
Project