View In:
ArcGIS JavaScript
ArcGIS Online Map Viewer
ArcGIS Earth
Service Description: ORTHO_DEBS data were purchased to provide updated orthoimagery in the Debsconeags region, an area which would otherwise not be covered under the GeoLibrary Board orthoimagery purchase. The imagery, at 60cm resolution and 2.3m RMS horizontal accuracy, are useful in many large-scale mapping applications for the park area. This file contains a date index for the web mapping service for Debsconeags 2005 QuickBird Satellite data (ORTHO_DEBS) located at http://www.maine.gov/geolib/wms.htm This file can be used to identify the precise date an area of the file was imaged.
Name: imageryBaseMapsEarthCover/orthoConservationDebsconeags2005
Description: ORTHO_DEBS data were purchased to provide updated orthoimagery in the Debsconeags region, an area which would otherwise not be covered under the GeoLibrary Board orthoimagery purchase. The imagery, at 60cm resolution and 2.3m RMS horizontal accuracy, are useful in many large-scale mapping applications for the park area. This file contains a date index for the web mapping service for Debsconeags 2005 QuickBird Satellite data (ORTHO_DEBS) located at http://www.maine.gov/geolib/wms.htm This file can be used to identify the precise date an area of the file was imaged.
Single Fused Map Cache: false
Extent:
XMin: 476169.6000000019
YMin: 5057423.400000004
XMax: 505408.1999999926
YMax: 5080788.599999997
Spatial Reference: 26919
(26919)
LatestVCSWkid(0)
Initial Extent:
XMin: 476169.6000000019
YMin: 5057423.400000004
XMax: 505408.1999999926
YMax: 5080788.599999997
Spatial Reference: 26919
(26919)
LatestVCSWkid(0)
Full Extent:
XMin: 476169.6000000019
YMin: 5057423.400000004
XMax: 505408.1999999926
YMax: 5080788.599999997
Spatial Reference: 26919
(26919)
LatestVCSWkid(0)
Time Info:
Start Time Field: Date
End Time Field: Date
Time Extent:
[2005/07/13 00:00:00 UTC, 2005/07/13 00:00:00 UTC]
Time Reference:
N/A
Pixel Size X: 0.5999999999998096
Pixel Size Y: 0.5999999999998135
Band Count: 3
Pixel Type: U8
RasterFunction Infos: {"rasterFunctionInfos": [{
"name": "None",
"description": "A No-Op Function.",
"help": ""
}]}
Mensuration Capabilities:
Inspection Capabilities:
Has Histograms: true
Has Colormap: false
Has Multi Dimensions : false
Rendering Rule:
Min Scale: 0
Max Scale: 0
Copyright Text: Digital Globe,Maine GeoLibrary
Service Data Type: esriImageServiceDataTypeProcessed
Min Values: 0, 0, 0
Max Values: 255, 255, 255
Mean Values: 20.841313957147545, 27.269258119436348, 33.1739511326476
Standard Deviation Values: 38.21658238513841, 48.04581887248583, 56.93598838361267
Object ID Field: OBJECTID
Fields:
-
OBJECTID
(
type: esriFieldTypeOID, alias: OBJECTID
)
-
Shape
(
type: esriFieldTypeGeometry, alias: Shape
)
-
Name
(
type: esriFieldTypeString, alias: Name, length: 200
)
-
MinPS
(
type: esriFieldTypeDouble, alias: MinPS
)
-
MaxPS
(
type: esriFieldTypeDouble, alias: MaxPS
)
-
LowPS
(
type: esriFieldTypeDouble, alias: LowPS
)
-
HighPS
(
type: esriFieldTypeDouble, alias: HighPS
)
-
Category
(
type: esriFieldTypeInteger, alias: Category
, Coded Values:
[0: Unknown]
, [1: Primary]
, [2: Overview]
, ...6 more...
)
-
Tag
(
type: esriFieldTypeString, alias: Tag, length: 100
)
-
GroupName
(
type: esriFieldTypeString, alias: GroupName, length: 100
)
-
ProductName
(
type: esriFieldTypeString, alias: ProductName, length: 100
)
-
CenterX
(
type: esriFieldTypeDouble, alias: CenterX
)
-
CenterY
(
type: esriFieldTypeDouble, alias: CenterY
)
-
ZOrder
(
type: esriFieldTypeInteger, alias: ZOrder
)
-
Shape_Length
(
type: esriFieldTypeDouble, alias: Shape_Length
)
-
Shape_Area
(
type: esriFieldTypeDouble, alias: Shape_Area
)
-
Date
(
type: esriFieldTypeDate, alias: Date, length: 8
)
-
DateInt
(
type: esriFieldTypeSmallInteger, alias: DateInt
)
Default Mosaic Method: Northwest
Allowed Mosaic Methods: NorthWest,Center,ByAttribute,Nadir,Viewpoint,None
SortField:
SortValue: null
Mosaic Operator: First
Default Compression Quality: 87
Default Resampling Method: Bilinear
Max Record Count: 1000
Max Image Height: 4100
Max Image Width: 15000
Max Download Image Count: 20
Max Mosaic Image Count: 20
Allow Raster Function: true
Allow Copy: true
Allow Analysis: true
Allow Compute TiePoints: false
Supports Statistics: true
Supports Advanced Queries: true
Use StandardizedQueries: true
Raster Type Infos:
Name: Raster Dataset
Description: Supports all ArcGIS Raster Datasets
Help:
Has Raster Attribute Table: false
Edit Fields Info: null
Ownership Based AccessControl For Rasters: null
Child Resources:
Info
Histograms
Statistics
Key Properties
Legend
Raster Function Infos
Supported Operations:
Export Image
Query
Identify
Download Rasters
Get Image Url
Compute Histograms
Compute Statistics Histograms
Get Samples
Compute Class Statistics
Query GPS Info
Find Images
Image to Map
Map to Image
Measure from Image
Image to Map Multiray
Query Boundary
Compute Pixel Location
Compute Angles
Validate
Project