View In:
ArcGIS JavaScript
ArcGIS Online Map Viewer
ArcGIS Earth
Service Description: True color orthophotos for the Katahdin Lake region of Maine, adjacent to and east of Baxter State Park. The orthos were collected May 9, 2006, for the Department of Conservation by the James W. Sewall Company of Old Town, Maine. The purpose of the collection was to evaluate options for conservation of land adjacent to Baxter State Park. The data were collected at an average elevation of 7920', using a Zeiss RMK TOP 15 camera and AGFA X100 color negative film. Negatives were scanned at resolutions of 14 and 28 microns, for an intended scale of 1:15,840. The digital orthos have a ground pixel resolution of one half meter (0.5m).
Name: imageryBaseMapsEarthCover/orthoConservationKatahdinLake2006
Description: True color orthophotos for the Katahdin Lake region of Maine, adjacent to and east of Baxter State Park. The orthos were collected May 9, 2006, for the Department of Conservation by the James W. Sewall Company of Old Town, Maine. The purpose of the collection was to evaluate options for conservation of land adjacent to Baxter State Park. The data were collected at an average elevation of 7920', using a Zeiss RMK TOP 15 camera and AGFA X100 color negative film. Negatives were scanned at resolutions of 14 and 28 microns, for an intended scale of 1:15,840. The digital orthos have a ground pixel resolution of one half meter (0.5m).
Single Fused Map Cache: false
Extent:
XMin: 511951.5
YMin: 5081213.0
XMax: 524887.0
YMax: 5095743.5
Spatial Reference: 26919
(26919)
LatestVCSWkid(0)
Initial Extent:
XMin: 511951.5
YMin: 5081213.0
XMax: 524887.0
YMax: 5095743.5
Spatial Reference: 26919
(26919)
LatestVCSWkid(0)
Full Extent:
XMin: 511951.5
YMin: 5081213.0
XMax: 524887.0
YMax: 5095743.5
Spatial Reference: 26919
(26919)
LatestVCSWkid(0)
Time Info:
Start Time Field: Date
End Time Field: Date
Time Extent:
[2006/01/01 00:00:00 UTC, 2006/01/01 00:00:00 UTC]
Time Reference:
N/A
Pixel Size X: 0.5
Pixel Size Y: 0.5
Band Count: 3
Pixel Type: U8
RasterFunction Infos: {"rasterFunctionInfos": [{
"name": "None",
"description": "A No-Op Function.",
"help": ""
}]}
Mensuration Capabilities: None
Inspection Capabilities:
Has Histograms: true
Has Colormap: false
Has Multi Dimensions : false
Rendering Rule:
Min Scale: 0
Max Scale: 0
Resampling: false
Copyright Text: James W Sewall Company, Maine GeoLibrary, Maine Department of Conservation
Service Data Type: esriImageServiceDataTypeProcessed
Min Values: 0, 0, 0
Max Values: 255, 255, 255
Mean Values: 107.4620306577769, 105.93759747676116, 81.40044522464953
Standard Deviation Values: 50.12279451168849, 45.83246682270128, 47.845498261485545
Object ID Field: OBJECTID
Fields:
-
OBJECTID
(
type: esriFieldTypeOID, alias: OBJECTID
)
-
Shape
(
type: esriFieldTypeGeometry, alias: Shape
)
-
Name
(
type: esriFieldTypeString, alias: Name, length: 200
)
-
MinPS
(
type: esriFieldTypeDouble, alias: MinPS
)
-
MaxPS
(
type: esriFieldTypeDouble, alias: MaxPS
)
-
LowPS
(
type: esriFieldTypeDouble, alias: LowPS
)
-
HighPS
(
type: esriFieldTypeDouble, alias: HighPS
)
-
Category
(
type: esriFieldTypeInteger, alias: Category
, Coded Values:
[0: Unknown]
, [1: Primary]
, [2: Overview]
, ...6 more...
)
-
Tag
(
type: esriFieldTypeString, alias: Tag, length: 100
)
-
GroupName
(
type: esriFieldTypeString, alias: GroupName, length: 100
)
-
ProductName
(
type: esriFieldTypeString, alias: ProductName, length: 100
)
-
CenterX
(
type: esriFieldTypeDouble, alias: CenterX
)
-
CenterY
(
type: esriFieldTypeDouble, alias: CenterY
)
-
ZOrder
(
type: esriFieldTypeInteger, alias: ZOrder
)
-
Shape_Length
(
type: esriFieldTypeDouble, alias: Shape_Length
)
-
Shape_Area
(
type: esriFieldTypeDouble, alias: Shape_Area
)
-
Date
(
type: esriFieldTypeDate, alias: Date, length: 8
)
-
DateInt
(
type: esriFieldTypeSmallInteger, alias: DateInt
)
Default Mosaic Method: Northwest
Allowed Mosaic Methods: NorthWest,Center,ByAttribute,Nadir,Viewpoint,None
SortField:
SortValue: null
Mosaic Operator: First
Default Compression Quality: 87
Default Resampling Method: Bilinear
Max Record Count: 1000
Max Image Height: 4100
Max Image Width: 15000
Max Download Image Count: 20
Max Mosaic Image Count: 20
Allow Raster Function: true
Allow Copy: true
Allow Analysis: true
Allow Compute TiePoints: false
Supports Statistics: true
Supports Advanced Queries: true
Use StandardizedQueries: true
Raster Type Infos:
Name: Raster Dataset
Description: Supports all ArcGIS Raster Datasets
Help:
Has Raster Attribute Table: false
Edit Fields Info: null
Ownership Based AccessControl For Rasters: null
Child Resources:
Info
Histograms
Statistics
Key Properties
Legend
Raster Function Infos
Supported Operations:
Export Image
Query
Identify
Download Rasters
Get Image Url
Compute Histograms
Compute Statistics Histograms
Get Samples
Compute Class Statistics
Query GPS Info
Find Images
Image to Map
Map to Image
Measure from Image
Image to Map Multiray
Query Boundary
Compute Pixel Location
Compute Angles
Validate
Project