View In:
ArcGIS JavaScript
ArcGIS Online Map Viewer
ArcGIS Earth
Service Description: 2008 aerial orthophotos at a resolution of 1 foot for Bar Harbor, Maine and some adjacent areas.
Name: imageryBaseMapsEarthCover/orthoMunicipalBarHarbor2008
Description: 2008 aerial orthophotos at a resolution of 1 foot for Bar Harbor, Maine and some adjacent areas.
Single Fused Map Cache: false
Extent:
XMin: 307147.2000000001
YMin: 70774.20000000022
XMax: 327264.29999999964
YMax: 86624.39999999982
Spatial Reference: 26983
(26983)
VCSWkid(5703)
LatestVCSWkid(5703)
Initial Extent:
XMin: 307147.2000000001
YMin: 70774.20000000022
XMax: 327264.29999999964
YMax: 86624.39999999982
Spatial Reference: 26983
(26983)
VCSWkid(5703)
LatestVCSWkid(5703)
Full Extent:
XMin: 307147.2000000001
YMin: 70774.20000000022
XMax: 327264.29999999964
YMax: 86624.39999999982
Spatial Reference: 26983
(26983)
VCSWkid(5703)
LatestVCSWkid(5703)
Time Info:
Start Time Field: Date
End Time Field: Date
Time Extent:
[2008/04/19 00:00:00 UTC, 2008/04/19 00:00:00 UTC]
Time Reference:
N/A
Pixel Size X: 0.14999999999999636
Pixel Size Y: 0.14999999999999625
Band Count: 3
Pixel Type: U8
RasterFunction Infos: {"rasterFunctionInfos": [{
"name": "None",
"description": "A No-Op Function.",
"help": ""
}]}
Mensuration Capabilities:
Inspection Capabilities:
Has Histograms: true
Has Colormap: false
Has Multi Dimensions : false
Rendering Rule:
Min Scale: 0
Max Scale: 0
Copyright Text: Maine GeoLibrary
Service Data Type: esriImageServiceDataTypeRGB
Min Values: 0, 0, 0
Max Values: 255, 255, 255
Mean Values: 81.60184354427201, 104.42722560063802, 94.0690766032706
Standard Deviation Values: 43.572238884847366, 32.618284500495825, 27.528793119234784
Object ID Field: OBJECTID
Fields:
-
OBJECTID
(
type: esriFieldTypeOID, alias: OBJECTID
)
-
Shape
(
type: esriFieldTypeGeometry, alias: Shape
)
-
Name
(
type: esriFieldTypeString, alias: Name, length: 200
)
-
MinPS
(
type: esriFieldTypeDouble, alias: MinPS
)
-
MaxPS
(
type: esriFieldTypeDouble, alias: MaxPS
)
-
LowPS
(
type: esriFieldTypeDouble, alias: LowPS
)
-
HighPS
(
type: esriFieldTypeDouble, alias: HighPS
)
-
Category
(
type: esriFieldTypeInteger, alias: Category
, Coded Values:
[0: Unknown]
, [1: Primary]
, [2: Overview]
, ...6 more...
)
-
Tag
(
type: esriFieldTypeString, alias: Tag, length: 100
)
-
GroupName
(
type: esriFieldTypeString, alias: GroupName, length: 100
)
-
ProductName
(
type: esriFieldTypeString, alias: ProductName, length: 100
)
-
CenterX
(
type: esriFieldTypeDouble, alias: CenterX
)
-
CenterY
(
type: esriFieldTypeDouble, alias: CenterY
)
-
ZOrder
(
type: esriFieldTypeInteger, alias: ZOrder
)
-
Shape_Length
(
type: esriFieldTypeDouble, alias: Shape_Length
)
-
Shape_Area
(
type: esriFieldTypeDouble, alias: Shape_Area
)
-
Date
(
type: esriFieldTypeDate, alias: Date, length: 8
)
-
DateInt
(
type: esriFieldTypeSmallInteger, alias: DateInt
)
Default Mosaic Method: Northwest
Allowed Mosaic Methods: NorthWest,Center,ByAttribute,Nadir,Viewpoint,None
SortField:
SortValue: null
Mosaic Operator: First
Default Compression Quality: 87
Default Resampling Method: Bilinear
Max Record Count: 1000
Max Image Height: 4100
Max Image Width: 15000
Max Download Image Count: 20
Max Mosaic Image Count: 20
Allow Raster Function: true
Allow Copy: true
Allow Analysis: true
Allow Compute TiePoints: false
Supports Statistics: true
Supports Advanced Queries: true
Use StandardizedQueries: true
Raster Type Infos:
Name: Raster Dataset
Description: Supports all ArcGIS Raster Datasets
Help:
Has Raster Attribute Table: false
Edit Fields Info: null
Ownership Based AccessControl For Rasters: null
Child Resources:
Info
Histograms
Statistics
Key Properties
Legend
Raster Function Infos
Supported Operations:
Export Image
Query
Identify
Download Rasters
Get Image Url
Compute Histograms
Compute Statistics Histograms
Get Samples
Compute Class Statistics
Query GPS Info
Find Images
Image to Map
Map to Image
Measure from Image
Image to Map Multiray
Query Boundary
Compute Pixel Location
Compute Angles
Validate
Project