View In:
ArcGIS JavaScript
ArcGIS Online Map Viewer
ArcGIS Earth
Service Description: This is an orthoimagery collect for the City of Lewiston from 1997. The imagery are 8-bit panchromatic orthorectified aerial photos. The data were collected in a single mission on May 5, 1997 for a mapping scale of 1"=600' and have a pixel resolution of 6" (0.15m). Accuracy would be similar to ASPRS Level 2 (+/- 24")
Name: imageryBaseMapsEarthCover/orthoMunicipalLewiston1997
Description: This is an orthoimagery collect for the City of Lewiston from 1997. The imagery are 8-bit panchromatic orthorectified aerial photos. The data were collected in a single mission on May 5, 1997 for a mapping scale of 1"=600' and have a pixel resolution of 6" (0.15m). Accuracy would be similar to ASPRS Level 2 (+/- 24")
Single Fused Map Cache: false
Extent:
XMin: 895451.9000000012
YMin: 130138.95000000423
XMax: 904221.9499999981
YMax: 147899.0999999979
Spatial Reference: 26984
(26984)
VCSWkid(5703)
LatestVCSWkid(5703)
Initial Extent:
XMin: 895451.9000000012
YMin: 130138.95000000423
XMax: 904221.9499999981
YMax: 147899.0999999979
Spatial Reference: 26984
(26984)
VCSWkid(5703)
LatestVCSWkid(5703)
Full Extent:
XMin: 895451.9000000012
YMin: 130138.95000000423
XMax: 904221.9499999981
YMax: 147899.0999999979
Spatial Reference: 26984
(26984)
VCSWkid(5703)
LatestVCSWkid(5703)
Time Info:
Start Time Field: Date
End Time Field: Date
Time Extent:
[1997/05/05 00:00:00 UTC, 1997/05/05 00:00:00 UTC]
Time Reference:
N/A
Pixel Size X: 0.14999999999994704
Pixel Size Y: 0.14999999999994662
Band Count: 1
Pixel Type: U8
RasterFunction Infos: {"rasterFunctionInfos": [{
"name": "None",
"description": "A No-Op Function.",
"help": ""
}]}
Mensuration Capabilities:
Inspection Capabilities:
Has Histograms: true
Has Colormap: false
Has Multi Dimensions : false
Rendering Rule:
Min Scale: 0
Max Scale: 0
Resampling: false
Copyright Text: Maine GeoLibrary
Service Data Type: esriImageServiceDataTypeGeneric
Min Values: 0
Max Values: 255
Mean Values: 110.68105946140885
Standard Deviation Values: 41.17026757723138
Object ID Field: OBJECTID
Fields:
-
OBJECTID
(
type: esriFieldTypeOID, alias: OBJECTID
)
-
Shape
(
type: esriFieldTypeGeometry, alias: Shape
)
-
Name
(
type: esriFieldTypeString, alias: Name, length: 200
)
-
MinPS
(
type: esriFieldTypeDouble, alias: MinPS
)
-
MaxPS
(
type: esriFieldTypeDouble, alias: MaxPS
)
-
LowPS
(
type: esriFieldTypeDouble, alias: LowPS
)
-
HighPS
(
type: esriFieldTypeDouble, alias: HighPS
)
-
Category
(
type: esriFieldTypeInteger, alias: Category
, Coded Values:
[0: Unknown]
, [1: Primary]
, [2: Overview]
, ...6 more...
)
-
Tag
(
type: esriFieldTypeString, alias: Tag, length: 100
)
-
GroupName
(
type: esriFieldTypeString, alias: GroupName, length: 100
)
-
ProductName
(
type: esriFieldTypeString, alias: ProductName, length: 100
)
-
CenterX
(
type: esriFieldTypeDouble, alias: CenterX
)
-
CenterY
(
type: esriFieldTypeDouble, alias: CenterY
)
-
ZOrder
(
type: esriFieldTypeInteger, alias: ZOrder
)
-
Shape_Length
(
type: esriFieldTypeDouble, alias: Shape_Length
)
-
Shape_Area
(
type: esriFieldTypeDouble, alias: Shape_Area
)
-
Date
(
type: esriFieldTypeDate, alias: Date, length: 8
)
-
DateInt
(
type: esriFieldTypeSmallInteger, alias: DateInt
)
Default Mosaic Method: Northwest
Allowed Mosaic Methods: NorthWest,Center,ByAttribute,Nadir,Viewpoint,None
SortField:
SortValue: null
Mosaic Operator: First
Default Compression Quality: 87
Default Resampling Method: Bilinear
Max Record Count: 1000
Max Image Height: 4100
Max Image Width: 15000
Max Download Image Count: 20
Max Mosaic Image Count: 20
Allow Raster Function: true
Allow Copy: true
Allow Analysis: true
Allow Compute TiePoints: false
Supports Statistics: true
Supports Advanced Queries: true
Use StandardizedQueries: true
Raster Type Infos:
Name: Raster Dataset
Description: Supports all ArcGIS Raster Datasets
Help:
Has Raster Attribute Table: false
Edit Fields Info: null
Ownership Based AccessControl For Rasters: null
Child Resources:
Info
Histograms
Statistics
Key Properties
Legend
Raster Function Infos
Supported Operations:
Export Image
Query
Identify
Download Rasters
Get Image Url
Compute Histograms
Compute Statistics Histograms
Get Samples
Compute Class Statistics
Query GPS Info
Find Images
Image to Map
Map to Image
Measure from Image
Image to Map Multiray
Query Boundary
Compute Pixel Location
Compute Angles
Validate
Project