View In:
ArcGIS JavaScript
ArcGIS Online Map Viewer
ArcGIS Earth
Service Description: Contains high resolution color CITIPIX Ortho-rectified Digital Images (ODIs) from GLOBEXPLORER. These digital images result from ortho-rectification and mosaicking of scanned color aerial photographs. Each pixel represents a planimetric square 1/2 foot on a side on the ground. Digital file features include high quality ground-level georeferencing, derived from accurate positioning and geometric corrections, and provide a digital photographic map suitable for applications requiring a 1:1200 National Map Accuracy Standard (NMAS). Based on the CITIPIX nation-wide standard for urban aerial coverage, georeference and distribution, CITIPIX ODIs serve the GIS industry, state and local governments as well as private sector, supplying 6-inch (15-cm) ground pixel size map-accurate continuous digital photographic coverage.
Name: imageryBaseMapsEarthCover/orthoRegionalCumberlandCounty2001
Description: Contains high resolution color CITIPIX Ortho-rectified Digital Images (ODIs) from GLOBEXPLORER. These digital images result from ortho-rectification and mosaicking of scanned color aerial photographs. Each pixel represents a planimetric square 1/2 foot on a side on the ground. Digital file features include high quality ground-level georeferencing, derived from accurate positioning and geometric corrections, and provide a digital photographic map suitable for applications requiring a 1:1200 National Map Accuracy Standard (NMAS). Based on the CITIPIX nation-wide standard for urban aerial coverage, georeference and distribution, CITIPIX ODIs serve the GIS industry, state and local governments as well as private sector, supplying 6-inch (15-cm) ground pixel size map-accurate continuous digital photographic coverage.
Single Fused Map Cache: false
Extent:
XMin: 353999.8500000145
YMin: 4819999.800000028
XMax: 436000.199999984
YMax: 4896000.149999999
Spatial Reference: 26919
(26919)
LatestVCSWkid(0)
Initial Extent:
XMin: 353999.8500000145
YMin: 4819999.800000028
XMax: 436000.199999984
YMax: 4896000.149999999
Spatial Reference: 26919
(26919)
LatestVCSWkid(0)
Full Extent:
XMin: 353999.8500000145
YMin: 4819999.800000028
XMax: 436000.199999984
YMax: 4896000.149999999
Spatial Reference: 26919
(26919)
LatestVCSWkid(0)
Time Info:
Start Time Field: DateBegin
End Time Field: DateEnd
Time Extent:
[2001/04/04 00:00:00 UTC, 2001/04/04 00:00:00 UTC]
Time Reference:
N/A
Pixel Size X: 0.14999999999994415
Pixel Size Y: 0.14999999999994412
Band Count: 4
Pixel Type: U8
RasterFunction Infos: {"rasterFunctionInfos": [{
"name": "None",
"description": "Make a Raster or Raster Dataset into a Function Raster Dataset.",
"help": ""
}]}
Mensuration Capabilities: None
Inspection Capabilities:
Has Histograms: true
Has Colormap: false
Has Multi Dimensions : false
Rendering Rule:
Min Scale: 0
Max Scale: 0
Resampling: false
Copyright Text: GlobeXplorer, Walnut Creek, CA
Service Data Type: esriImageServiceDataTypeProcessed
Min Values: 13, 20, 26, 26
Max Values: 255, 255, 255, 255
Mean Values: 117.89843526413988, 120.99916729019363, 110.72108876376332, 110.72108876376332
Standard Deviation Values: 27.40097018435013, 23.515762647993967, 22.03484856163572, 22.03484856163572
Object ID Field: OBJECTID
Fields:
-
OBJECTID
(
type: esriFieldTypeOID, alias: OBJECTID
)
-
Shape
(
type: esriFieldTypeGeometry, alias: Shape
)
-
Name
(
type: esriFieldTypeString, alias: Name, length: 200
)
-
MinPS
(
type: esriFieldTypeDouble, alias: MinPS
)
-
MaxPS
(
type: esriFieldTypeDouble, alias: MaxPS
)
-
LowPS
(
type: esriFieldTypeDouble, alias: LowPS
)
-
HighPS
(
type: esriFieldTypeDouble, alias: HighPS
)
-
Category
(
type: esriFieldTypeInteger, alias: Category
, Coded Values:
[0: Unknown]
, [1: Primary]
, [2: Overview]
, ...6 more...
)
-
Tag
(
type: esriFieldTypeString, alias: Tag, length: 100
)
-
GroupName
(
type: esriFieldTypeString, alias: GroupName, length: 100
)
-
ProductName
(
type: esriFieldTypeString, alias: ProductName, length: 100
)
-
CenterX
(
type: esriFieldTypeDouble, alias: CenterX
)
-
CenterY
(
type: esriFieldTypeDouble, alias: CenterY
)
-
ZOrder
(
type: esriFieldTypeInteger, alias: ZOrder
)
-
Shape_Length
(
type: esriFieldTypeDouble, alias: Shape_Length
)
-
Shape_Area
(
type: esriFieldTypeDouble, alias: Shape_Area
)
-
DateBegin
(
type: esriFieldTypeDate, alias: DateBegin, length: 8
)
-
DateEnd
(
type: esriFieldTypeDate, alias: DateEnd, length: 8
)
-
DateIntBegin
(
type: esriFieldTypeSmallInteger, alias: DateIntBegin
)
-
DateIntEnd
(
type: esriFieldTypeSmallInteger, alias: DateIntEnd
)
Default Mosaic Method: Northwest
Allowed Mosaic Methods: NorthWest,Center,ByAttribute,Nadir,Viewpoint,None
SortField:
SortValue: null
Mosaic Operator: First
Default Compression Quality: 87
Default Resampling Method: Bilinear
Max Record Count: 1000
Max Image Height: 4100
Max Image Width: 15000
Max Download Image Count: 20
Max Mosaic Image Count: 44
Allow Raster Function: true
Allow Copy: true
Allow Analysis: true
Allow Compute TiePoints: false
Supports Statistics: true
Supports Advanced Queries: true
Use StandardizedQueries: true
Raster Type Infos:
Name: Raster Dataset
Description: Supports all ArcGIS Raster Datasets
Help:
Has Raster Attribute Table: false
Edit Fields Info: null
Ownership Based AccessControl For Rasters: null
Child Resources:
Info
Histograms
Statistics
Key Properties
Legend
Raster Function Infos
Supported Operations:
Export Image
Query
Identify
Download Rasters
Get Image Url
Compute Histograms
Compute Statistics Histograms
Get Samples
Compute Class Statistics
Query GPS Info
Find Images
Image to Map
Map to Image
Measure from Image
Image to Map Multiray
Query Boundary
Compute Pixel Location
Compute Angles
Validate
Project