View In:
  ArcGIS JavaScript
  ArcGIS Online Map Viewer
  ArcGIS Earth
Service Description:  These SPOT10 images of Maine are a statewide USA Select SPOTView product of the SPOT Image Corporation. The tonal balanced, 30'x30' frames are designed to be load-n-go into GIS and image processing systems. The source imagery is SPOT PAN, panchromatic 10 meter data. Images are orthorectified to an accuracy of 12 meters or better, and range in date from April 30, 1998 to September 7, 2001. Most images are from leaf-on periods, but a few are from late October and early December. Credit should always be given to the data source and/or originator when the data is transferred or printed.
 
Name:  imageryBaseMapsEarthCover/orthoRegionalSpot1998_2001
Description:  These SPOT10 images of Maine are a statewide USA Select SPOTView product of the SPOT Image Corporation. The tonal balanced, 30'x30' frames are designed to be load-n-go into GIS and image processing systems. The source imagery is SPOT PAN, panchromatic 10 meter data. Images are orthorectified to an accuracy of 12 meters or better, and range in date from April 30, 1998 to September 7, 2001. Most images are from leaf-on periods, but a few are from late October and early December. Credit should always be given to the data source and/or originator when the data is transferred or printed.
 
Single Fused Map Cache:  false
Extent: 
XMin: 297190.0
YMin: 4705310.0
XMax: 700130.0
YMax: 5263570.0
Spatial Reference: 26919
 (26919)
 LatestVCSWkid(0)
Initial Extent: 
XMin: 297190.0
YMin: 4705310.0
XMax: 700130.0
YMax: 5263570.0
Spatial Reference: 26919
 (26919)
 LatestVCSWkid(0)
Full Extent: 
XMin: 297190.0
YMin: 4705310.0
XMax: 700130.0
YMax: 5263570.0
Spatial Reference: 26919
 (26919)
 LatestVCSWkid(0)
Time Info: 
Start Time Field: DateBegin
End Time Field: DateEnd
Time Extent:
[1998/04/30 00:00:00 UTC, 2001/09/07 00:00:00 UTC]
Time Reference:
N/A
Pixel Size X:  10.0
Pixel Size Y:  10.0
Band Count: 1
Pixel Type: U8
RasterFunction Infos:  {"rasterFunctionInfos": [{
 "name": "None",
 "description": "Make a Raster or Raster Dataset into a Function Raster Dataset.",
 "help": ""
}]}
Mensuration Capabilities: None
Inspection Capabilities: 
Has Histograms:  true
Has Colormap:  false
Has Multi Dimensions :  false
Rendering Rule: 
Min Scale:  0
Max Scale:  0
Resampling:  false
Copyright Text:  SPOT Image Corp, Maine GeoLibrary
Service Data Type:  esriImageServiceDataTypeProcessed
Min Values:  0
Max Values:  255
Mean Values:  57.35845180157201
Standard Deviation Values:  44.61033316994613
Object ID Field:  OBJECTID
Fields: 
- 
OBJECTID
(
type: esriFieldTypeOID, alias: OBJECTID
)
 
- 
Shape
(
type: esriFieldTypeGeometry, alias: Shape
)
 
- 
Name
(
type: esriFieldTypeString, alias: Name, length: 200
)
 
- 
MinPS
(
type: esriFieldTypeDouble, alias: MinPS
)
 
- 
MaxPS
(
type: esriFieldTypeDouble, alias: MaxPS
)
 
- 
LowPS
(
type: esriFieldTypeDouble, alias: LowPS
)
 
- 
HighPS
(
type: esriFieldTypeDouble, alias: HighPS
)
 
- 
Category
(
type: esriFieldTypeInteger, alias: Category
, Coded Values: 
[0: Unknown]
, [1: Primary]
, [2: Overview]
, ...6 more...
)
 
- 
Tag
(
type: esriFieldTypeString, alias: Tag, length: 100
)
 
- 
GroupName
(
type: esriFieldTypeString, alias: GroupName, length: 100
)
 
- 
ProductName
(
type: esriFieldTypeString, alias: ProductName, length: 100
)
 
- 
CenterX
(
type: esriFieldTypeDouble, alias: CenterX
)
 
- 
CenterY
(
type: esriFieldTypeDouble, alias: CenterY
)
 
- 
ZOrder
(
type: esriFieldTypeInteger, alias: ZOrder
)
 
- 
Shape_Length
(
type: esriFieldTypeDouble, alias: Shape_Length
)
 
- 
Shape_Area
(
type: esriFieldTypeDouble, alias: Shape_Area
)
 
- 
DateBegin
(
type: esriFieldTypeDate, alias: DateBegin, length: 8
)
 
- 
DateEnd
(
type: esriFieldTypeDate, alias: DateEnd, length: 8
)
 
- 
DateIntBegin
(
type: esriFieldTypeSmallInteger, alias: DateIntBegin
)
 
- 
DateIntEnd
(
type: esriFieldTypeSmallInteger, alias: DateIntEnd
)
 
Default Mosaic Method:  Northwest
Allowed Mosaic Methods:  NorthWest,Center,ByAttribute,Nadir,Viewpoint,None
SortField:  
SortValue:  null
Mosaic Operator:  First
Default Compression Quality:  87
Default Resampling Method:  Bilinear
Max Record Count:  1000
Max Image Height:  4100
Max Image Width:  15000
Max Download Image Count:  20
Max Mosaic Image Count:  44
Allow Raster Function:  true
Allow Copy:  true
Allow Analysis:  true
Allow Compute TiePoints:  false
Supports Statistics:  true
Supports Advanced Queries:  true
Use StandardizedQueries:  true
Raster Type Infos: 
Name: Raster Dataset
Description: Supports all ArcGIS Raster Datasets
Help: 
Has Raster Attribute Table:  false
Edit Fields Info:  null
Ownership Based AccessControl For Rasters:  null
Child Resources:
  
Info
  Histograms
  Statistics
  Key Properties
  Legend
  Raster Function Infos
Supported Operations:
  
Export Image
  Query
  Identify
  Compute Histograms
  Compute Statistics Histograms
  Get Samples
  Compute Class Statistics
  Query GPS Info
  Find Images
  Image to Map
  Map to Image
  Measure from Image
  Image to Map Multiray
  Query Boundary
  Compute Pixel Location
  Compute Angles
  Validate
  Project