View In:
ArcGIS JavaScript
ArcGIS Online Map Viewer
ArcGIS Earth
Service Description: Ortho Imagery - As the prime contractor, Bradstreet Consultants, Inc. used the aerial photography flown in one session on April 23-26, 2007, by The Sanborn Map Compay, Inc. of Charlotte, NC who acquired approximately 4,000 photos @ a resolution of 0.5' pixel (similar to 1"=600') with airborne GPS using a Z/I Digital Mapping Aerial Camera. Bradstreet Consultants, Inc. painted and repainted ground targets for photo survey control points (~400) to support full analytical aerotriangulation. The aerotriangulation solution was used to set up each stereopair of photos for orthorectification and DTM compilation. The ortho imagery was rectified from the natural color digial imagery employing a digital terrain model (DTM) collected from the 2007 imagery and supplemented from updating some town's original DTM and some town's from scratch using the imagery in softcopy (digital) stereoplotter in the Kork KDMS and DAT/EM AutoCAD DWG format.
Name: imageryBaseMapsEarthCover/orthoRegionalYorkCounty2007
Description: Ortho Imagery - As the prime contractor, Bradstreet Consultants, Inc. used the aerial photography flown in one session on April 23-26, 2007, by The Sanborn Map Compay, Inc. of Charlotte, NC who acquired approximately 4,000 photos @ a resolution of 0.5' pixel (similar to 1"=600') with airborne GPS using a Z/I Digital Mapping Aerial Camera. Bradstreet Consultants, Inc. painted and repainted ground targets for photo survey control points (~400) to support full analytical aerotriangulation. The aerotriangulation solution was used to set up each stereopair of photos for orthorectification and DTM compilation. The ortho imagery was rectified from the natural color digial imagery employing a digital terrain model (DTM) collected from the 2007 imagery and supplemented from updating some town's original DTM and some town's from scratch using the imagery in softcopy (digital) stereoplotter in the Kork KDMS and DAT/EM AutoCAD DWG format.
Single Fused Map Cache: false
Extent:
XMin: 339000.0
YMin: 4772500.05
XMax: 392220.0
YMax: 4842000.0
Spatial Reference: 26919
(26919)
LatestVCSWkid(0)
Initial Extent:
XMin: 339000.0
YMin: 4772500.05
XMax: 392220.0
YMax: 4842000.0
Spatial Reference: 26919
(26919)
LatestVCSWkid(0)
Full Extent:
XMin: 339000.0
YMin: 4772500.05
XMax: 392220.0
YMax: 4842000.0
Spatial Reference: 26919
(26919)
LatestVCSWkid(0)
Time Info:
Start Time Field: DateBegin
End Time Field: DateEnd
Time Extent:
[2007/04/23 00:00:00 UTC, 2007/04/26 00:00:00 UTC]
Time Reference:
N/A
Pixel Size X: 0.15
Pixel Size Y: 0.1500000000000004
Band Count: 4
Pixel Type: U8
RasterFunction Infos: {"rasterFunctionInfos": [{
"name": "None",
"description": "Make a Raster or Raster Dataset into a Function Raster Dataset.",
"help": ""
}]}
Mensuration Capabilities: None
Inspection Capabilities:
Has Histograms: true
Has Colormap: false
Has Multi Dimensions : false
Rendering Rule:
Min Scale: 0
Max Scale: 0
Resampling: false
Copyright Text: Bradstreet Consultants, Inc, Southern Maine Regional Planning Commission, USGS, State of Maine, Maine GeoLibrary Board.
Service Data Type: esriImageServiceDataTypeProcessed
Min Values: 0, 0, 0, 0
Max Values: 255, 255, 255, 255
Mean Values: 92.48898735522472, 100.31591966847186, 96.89250451599348, 96.89250451599348
Standard Deviation Values: 24.972302755154477, 24.42973627720813, 21.550001611926355, 21.550001611926355
Object ID Field: OBJECTID
Fields:
-
OBJECTID
(
type: esriFieldTypeOID, alias: OBJECTID
)
-
Shape
(
type: esriFieldTypeGeometry, alias: Shape
)
-
Name
(
type: esriFieldTypeString, alias: Name, length: 200
)
-
MinPS
(
type: esriFieldTypeDouble, alias: MinPS
)
-
MaxPS
(
type: esriFieldTypeDouble, alias: MaxPS
)
-
LowPS
(
type: esriFieldTypeDouble, alias: LowPS
)
-
HighPS
(
type: esriFieldTypeDouble, alias: HighPS
)
-
Category
(
type: esriFieldTypeInteger, alias: Category
, Coded Values:
[0: Unknown]
, [1: Primary]
, [2: Overview]
, ...6 more...
)
-
Tag
(
type: esriFieldTypeString, alias: Tag, length: 100
)
-
GroupName
(
type: esriFieldTypeString, alias: GroupName, length: 100
)
-
ProductName
(
type: esriFieldTypeString, alias: ProductName, length: 100
)
-
CenterX
(
type: esriFieldTypeDouble, alias: CenterX
)
-
CenterY
(
type: esriFieldTypeDouble, alias: CenterY
)
-
ZOrder
(
type: esriFieldTypeInteger, alias: ZOrder
)
-
Shape_Length
(
type: esriFieldTypeDouble, alias: Shape_Length
)
-
Shape_Area
(
type: esriFieldTypeDouble, alias: Shape_Area
)
-
DateBegin
(
type: esriFieldTypeDate, alias: DateBegin, length: 8
)
-
DateEnd
(
type: esriFieldTypeDate, alias: DateEnd, length: 8
)
-
DateIntBegin
(
type: esriFieldTypeSmallInteger, alias: DateIntBegin
)
-
DateIntEnd
(
type: esriFieldTypeSmallInteger, alias: DateIntEnd
)
Default Mosaic Method: Northwest
Allowed Mosaic Methods: NorthWest,Center,ByAttribute,Nadir,Viewpoint,None
SortField:
SortValue: null
Mosaic Operator: First
Default Compression Quality: 87
Default Resampling Method: Bilinear
Max Record Count: 1000
Max Image Height: 4100
Max Image Width: 15000
Max Download Image Count: 20
Max Mosaic Image Count: 44
Allow Raster Function: true
Allow Copy: true
Allow Analysis: true
Allow Compute TiePoints: false
Supports Statistics: true
Supports Advanced Queries: true
Use StandardizedQueries: true
Raster Type Infos:
Name: Raster Dataset
Description: Supports all ArcGIS Raster Datasets
Help:
Has Raster Attribute Table: false
Edit Fields Info: null
Ownership Based AccessControl For Rasters: null
Child Resources:
Info
Histograms
Statistics
Key Properties
Legend
Raster Function Infos
Supported Operations:
Export Image
Query
Identify
Download Rasters
Get Image Url
Compute Histograms
Compute Statistics Histograms
Get Samples
Compute Class Statistics
Query GPS Info
Find Images
Image to Map
Map to Image
Measure from Image
Image to Map Multiray
Query Boundary
Compute Pixel Location
Compute Angles
Validate
Project