View In:
ArcGIS JavaScript
ArcGIS Online Map Viewer
ArcGIS Earth
Service Description: Color infrared, 0.3 meter ground sample distance (GSD) , high resolution digital orthophotographs produced from aerial photos collected over the Maine coastline in the Fall of 2001 and 2002. Each pixel represents a planimetric square 0.3 meter on a side on the ground. Aerial photography was flown at 1,830 meters above mean ground level. The aerial imagery was georeferenced using 2D rectification methedology utilizing cubic convolution resampling and a minumum of 4 ground control points (GCP's). The digital orthorectified images are referenced to North American Datum 1983, UTM Zone 19, expressed in units of meters. The completed orthorectified TIFF and MG3 MrSid files represent Digital Ortho Quarter Quads (DOQQ) sized tiles. Imagery tiles provide complete coverage of the Maine Department of Marine Resources boundaries as defined by the project.
Name: Coastal/orthoCoastalCentralCoast2001
Description: Color infrared, 0.3 meter ground sample distance (GSD) , high resolution digital orthophotographs produced from aerial photos collected over the Maine coastline in the Fall of 2001 and 2002. Each pixel represents a planimetric square 0.3 meter on a side on the ground. Aerial photography was flown at 1,830 meters above mean ground level. The aerial imagery was georeferenced using 2D rectification methedology utilizing cubic convolution resampling and a minumum of 4 ground control points (GCP's). The digital orthorectified images are referenced to North American Datum 1983, UTM Zone 19, expressed in units of meters. The completed orthorectified TIFF and MG3 MrSid files represent Digital Ortho Quarter Quads (DOQQ) sized tiles. Imagery tiles provide complete coverage of the Maine Department of Marine Resources boundaries as defined by the project.
Single Fused Map Cache: false
Extent:
XMin: 378607.800000003
YMin: 4806887.000000004
XMax: 437180.0999999967
YMax: 4868791.099999997
Spatial Reference: 26919
(26919)
LatestVCSWkid(0)
Initial Extent:
XMin: 378607.800000003
YMin: 4806887.000000004
XMax: 437180.0999999967
YMax: 4868791.099999997
Spatial Reference: 26919
(26919)
LatestVCSWkid(0)
Full Extent:
XMin: 378607.800000003
YMin: 4806887.000000004
XMax: 437180.0999999967
YMax: 4868791.099999997
Spatial Reference: 26919
(26919)
LatestVCSWkid(0)
Time Info:
Start Time Field: Date
End Time Field: Date
Time Extent:
[2001/09/22 00:00:00 UTC, 2001/09/22 00:00:00 UTC]
Time Reference:
N/A
Pixel Size X: 0.29999999999996774
Pixel Size Y: 0.2999999999999666
Band Count: 4
Pixel Type: U8
RasterFunction Infos: {"rasterFunctionInfos": [{
"name": "None",
"description": "A No-Op Function.",
"help": ""
}]}
Mensuration Capabilities: None
Inspection Capabilities:
Has Histograms: true
Has Colormap: false
Has Multi Dimensions : false
Rendering Rule:
Min Scale: 0
Max Scale: 0
Resampling: false
Copyright Text: MaineDMR, MaineGeoLibrary
Service Data Type: esriImageServiceDataTypeProcessed
Min Values: 0, 0, 0, 0
Max Values: 252, 254, 254, 254
Mean Values: 57.77265330066022, 63.70567739921115, 56.14080196043178, 56.14080196043178
Standard Deviation Values: 42.958446557728024, 44.673005750217655, 39.36383078917925, 39.36383078917925
Object ID Field: OBJECTID
Fields:
-
OBJECTID
(
type: esriFieldTypeOID, alias: OBJECTID
)
-
Shape
(
type: esriFieldTypeGeometry, alias: Shape
)
-
Name
(
type: esriFieldTypeString, alias: Name, length: 200
)
-
MinPS
(
type: esriFieldTypeDouble, alias: MinPS
)
-
MaxPS
(
type: esriFieldTypeDouble, alias: MaxPS
)
-
LowPS
(
type: esriFieldTypeDouble, alias: LowPS
)
-
HighPS
(
type: esriFieldTypeDouble, alias: HighPS
)
-
Category
(
type: esriFieldTypeInteger, alias: Category
, Coded Values:
[0: Unknown]
, [1: Primary]
, [2: Overview]
, ...6 more...
)
-
Tag
(
type: esriFieldTypeString, alias: Tag, length: 100
)
-
GroupName
(
type: esriFieldTypeString, alias: GroupName, length: 100
)
-
ProductName
(
type: esriFieldTypeString, alias: ProductName, length: 100
)
-
CenterX
(
type: esriFieldTypeDouble, alias: CenterX
)
-
CenterY
(
type: esriFieldTypeDouble, alias: CenterY
)
-
ZOrder
(
type: esriFieldTypeInteger, alias: ZOrder
)
-
Shape_Length
(
type: esriFieldTypeDouble, alias: Shape_Length
)
-
Shape_Area
(
type: esriFieldTypeDouble, alias: Shape_Area
)
-
Date
(
type: esriFieldTypeDate, alias: Date, length: 8
)
-
DateInt
(
type: esriFieldTypeSmallInteger, alias: DateInt
)
Default Mosaic Method: Northwest
Allowed Mosaic Methods: NorthWest,Center,ByAttribute,Nadir,Viewpoint,None
SortField:
SortValue: null
Mosaic Operator: First
Default Compression Quality: 87
Default Resampling Method: Bilinear
Max Record Count: 1000
Max Image Height: 4100
Max Image Width: 15000
Max Download Image Count: 20
Max Mosaic Image Count: 20
Allow Raster Function: true
Allow Copy: true
Allow Analysis: true
Allow Compute TiePoints: false
Supports Statistics: true
Supports Advanced Queries: true
Use StandardizedQueries: true
Raster Type Infos:
Name: Raster Dataset
Description: Supports all ArcGIS Raster Datasets
Help:
Has Raster Attribute Table: false
Edit Fields Info: null
Ownership Based AccessControl For Rasters: null
Child Resources:
Info
Histograms
Statistics
Key Properties
Legend
Raster Function Infos
Supported Operations:
Export Image
Query
Identify
Compute Histograms
Compute Statistics Histograms
Get Samples
Compute Class Statistics
Query GPS Info
Find Images
Image to Map
Map to Image
Measure from Image
Image to Map Multiray
Query Boundary
Compute Pixel Location
Compute Angles
Validate
Project