View In:
ArcGIS JavaScript
ArcGIS Online Map Viewer
ArcGIS Earth
Service Description: Provide an interpreted low-tide level imagery from which the tide line was interpreted. These data can be used in conjunction with other data layers for improving the understanding of the physical characteristics of the Penobscot Bay study area. This is part of a project titled 'Applications of Remote Sensing and Geographic Information Systems for Marine Resource Management in Penobscot Bay, Maine’.Processing began at the National Geophysical Data Center, in Boulder, Colorado, an orthophoto mosaic was constructed using 76 aerial photographs obtained from NOAA's National Ocean Service, using Socet Set photogrammetric software. The photography was collected at low tide stage, on four dates in 1982 and 1983. After digital scanning the photography had a pixel resolution of 1.2 meters. After mosaicking, a vector layer of the interpreted low-tide line was delineated.
Name: Coastal/orthoCoastalPenobscotBay1982And1983
Description: Provide an interpreted low-tide level imagery from which the tide line was interpreted. These data can be used in conjunction with other data layers for improving the understanding of the physical characteristics of the Penobscot Bay study area. This is part of a project titled 'Applications of Remote Sensing and Geographic Information Systems for Marine Resource Management in Penobscot Bay, Maine’.Processing began at the National Geophysical Data Center, in Boulder, Colorado, an orthophoto mosaic was constructed using 76 aerial photographs obtained from NOAA's National Ocean Service, using Socet Set photogrammetric software. The photography was collected at low tide stage, on four dates in 1982 and 1983. After digital scanning the photography had a pixel resolution of 1.2 meters. After mosaicking, a vector layer of the interpreted low-tide line was delineated.
Single Fused Map Cache: false
Extent:
XMin: 482357.20000000164
YMin: 4861244.200000001
XMax: 535399.5999999987
YMax: 4936115.799999997
Spatial Reference: 26919
(26919)
LatestVCSWkid(0)
Initial Extent:
XMin: 482357.20000000164
YMin: 4861244.200000001
XMax: 535399.5999999987
YMax: 4936115.799999997
Spatial Reference: 26919
(26919)
LatestVCSWkid(0)
Full Extent:
XMin: 482357.20000000164
YMin: 4861244.200000001
XMax: 535399.5999999987
YMax: 4936115.799999997
Spatial Reference: 26919
(26919)
LatestVCSWkid(0)
Time Info:
Start Time Field: Date
End Time Field: Date
Time Extent:
[1982/01/01 00:00:00 UTC, 1982/01/01 00:00:00 UTC]
Time Reference:
N/A
Pixel Size X: 1.1999999999999333
Pixel Size Y: 1.1999999999999342
Band Count: 1
Pixel Type: U8
RasterFunction Infos: {"rasterFunctionInfos": [{
"name": "None",
"description": "A No-Op Function.",
"help": ""
}]}
Mensuration Capabilities: None
Inspection Capabilities:
Has Histograms: true
Has Colormap: false
Has Multi Dimensions : false
Rendering Rule:
Min Scale: 0
Max Scale: 0
Resampling: false
Copyright Text: NGDC, Maine GeoLibrary
Service Data Type: esriImageServiceDataTypeProcessed
Min Values: 0
Max Values: 255
Mean Values: 91.51438252071509
Standard Deviation Values: 51.37125238599743
Object ID Field: OBJECTID
Fields:
-
OBJECTID
(
type: esriFieldTypeOID, alias: OBJECTID
)
-
Shape
(
type: esriFieldTypeGeometry, alias: Shape
)
-
Name
(
type: esriFieldTypeString, alias: Name, length: 200
)
-
MinPS
(
type: esriFieldTypeDouble, alias: MinPS
)
-
MaxPS
(
type: esriFieldTypeDouble, alias: MaxPS
)
-
LowPS
(
type: esriFieldTypeDouble, alias: LowPS
)
-
HighPS
(
type: esriFieldTypeDouble, alias: HighPS
)
-
Category
(
type: esriFieldTypeInteger, alias: Category
, Coded Values:
[0: Unknown]
, [1: Primary]
, [2: Overview]
, ...6 more...
)
-
Tag
(
type: esriFieldTypeString, alias: Tag, length: 100
)
-
GroupName
(
type: esriFieldTypeString, alias: GroupName, length: 100
)
-
ProductName
(
type: esriFieldTypeString, alias: ProductName, length: 100
)
-
CenterX
(
type: esriFieldTypeDouble, alias: CenterX
)
-
CenterY
(
type: esriFieldTypeDouble, alias: CenterY
)
-
ZOrder
(
type: esriFieldTypeInteger, alias: ZOrder
)
-
Shape_Length
(
type: esriFieldTypeDouble, alias: Shape_Length
)
-
Shape_Area
(
type: esriFieldTypeDouble, alias: Shape_Area
)
-
Date
(
type: esriFieldTypeDate, alias: Date, length: 8
)
-
DateInt
(
type: esriFieldTypeSmallInteger, alias: DateInt
)
Default Mosaic Method: Northwest
Allowed Mosaic Methods: NorthWest,Center,ByAttribute,Nadir,Viewpoint,None
SortField:
SortValue: null
Mosaic Operator: First
Default Compression Quality: 87
Default Resampling Method: Bilinear
Max Record Count: 1000
Max Image Height: 4100
Max Image Width: 15000
Max Download Image Count: 20
Max Mosaic Image Count: 20
Allow Raster Function: true
Allow Copy: true
Allow Analysis: true
Allow Compute TiePoints: false
Supports Statistics: true
Supports Advanced Queries: true
Use StandardizedQueries: true
Raster Type Infos:
Name: Raster Dataset
Description: Supports all ArcGIS Raster Datasets
Help:
Has Raster Attribute Table: false
Edit Fields Info: null
Ownership Based AccessControl For Rasters: null
Child Resources:
Info
Histograms
Statistics
Key Properties
Legend
Raster Function Infos
Supported Operations:
Export Image
Query
Identify
Compute Histograms
Compute Statistics Histograms
Get Samples
Compute Class Statistics
Query GPS Info
Find Images
Image to Map
Map to Image
Measure from Image
Image to Map Multiray
Query Boundary
Compute Pixel Location
Compute Angles
Validate
Project