View In:
ArcGIS JavaScript
ArcGIS Online Map Viewer
ArcGIS Earth
Service Description: DEM/Maine_Elevation_DEM_2019
Name: DEM/Maine_Elevation_DEM_2019
Description:
Single Fused Map Cache: false
Extent:
XMin: 388500.0
YMin: 5064000.0
XMax: 583500.0
YMax: 5257500.0
Spatial Reference: 102388
(6348)
LatestVCSWkid(0)
Initial Extent:
XMin: 388500.0
YMin: 5064000.0
XMax: 583500.0
YMax: 5257500.0
Spatial Reference: 102388
(6348)
LatestVCSWkid(0)
Full Extent:
XMin: 388500.0
YMin: 5064000.0
XMax: 583500.0
YMax: 5257500.0
Spatial Reference: 102388
(6348)
LatestVCSWkid(0)
Pixel Size X: 1.0
Pixel Size Y: 1.0
Band Count: 1
Pixel Type: F32
RasterFunction Infos: {"rasterFunctionInfos": [
{
"name": "None",
"description": "A No-Op Function.",
"help": ""
},
{
"name": "Aspect Function_2020916_10506_617",
"description": "A raster function template.",
"help": ""
},
{
"name": "Hillshade Function_2020916_105024_257",
"description": "A raster function template.",
"help": ""
},
{
"name": "Shaded Relief Function_2020916_105040_ 86",
"description": "A raster function template.",
"help": ""
},
{
"name": "Slope Function_2020916_105056_305",
"description": "A raster function template.",
"help": ""
}
]}
Mensuration Capabilities:
Inspection Capabilities:
Has Histograms: true
Has Colormap: false
Has Multi Dimensions : false
Rendering Rule:
Min Scale: 0
Max Scale: 0
Copyright Text:
Service Data Type: esriImageServiceDataTypeElevation
Min Values: 109.80000305175781
Max Values: 1109.823974609375
Mean Values: 323.7284695252136
Standard Deviation Values: 104.38210534185428
Object ID Field:
Fields:
None
Default Mosaic Method: Northwest
Allowed Mosaic Methods: NorthWest,Center,ByAttribute,Nadir,Viewpoint,None
SortField:
SortValue: null
Mosaic Operator: First
Default Compression Quality: 87
Default Resampling Method: Bilinear
Max Record Count: 1000
Max Image Height: 4100
Max Image Width: 15000
Max Download Image Count: 20
Max Mosaic Image Count: 24
Allow Raster Function: true
Allow Copy: true
Allow Analysis: true
Allow Compute TiePoints: false
Supports Statistics: false
Supports Advanced Queries: false
Use StandardizedQueries: true
Raster Type Infos:
Name: Raster Dataset
Description: Supports all ArcGIS Raster Datasets
Help:
Has Raster Attribute Table: false
Edit Fields Info: null
Ownership Based AccessControl For Rasters: null
Child Resources:
Info
Histograms
Statistics
Key Properties
Legend
Raster Function Infos
Supported Operations:
Export Image
Query
Identify
Compute Histograms
Compute Statistics Histograms
Get Samples
Compute Class Statistics
Query GPS Info
Find Images
Image to Map
Map to Image
Measure from Image
Image to Map Multiray
Query Boundary
Compute Pixel Location
Compute Angles
Validate
Project
Calculate Volume