View In:
ArcGIS JavaScript
ArcGIS Online Map Viewer
ArcGIS Earth
Service Description: Product: These are Digital Elevation Model (DEM) data for Maine as part of the required deliverables for the ME_SouthCoastal_1_2020 Work Unit 191382 project. Class 2 (ground) LiDAR points in conjunction with the hydro breaklines were used to create a 1 meter hydro-flattened Raster DEM. Geographic Extent: 10 counties in Maine, covering approximately 2610 total square miles. Dataset Description: The ME_SouthCoastal_1_2020 Work Unit 191382 project called for the planning, acquisition, processing, and derivative products of lidar data to be collected at a nominal pulse spacing (NPS) of 0.71 meters. Project specifications are based on the U.S. Geological Survey National Geospatial Program Base LiDAR Specification, Version 2.1. The data were developed based on a horizontal projection/datum of NAD 1983 2011 UTM Zone 19N, Meter and vertical datum of NAVD88 Geoid 18, Meter. LiDAR data were delivered as processed Classified LAS 1.4 files formatted to 3274 individual 1500 m x 1500 m tiles, as tiled intensity imagery, and as tiled bare earth DEMs; all tiled to the same 1500 m x 1500 m schema. Continuous breaklines were produced in Esri file geodatabase format. Ground Conditions: LiDAR was collected in spring 2020, while no snow was on the ground and rivers were at or below normal levels. In order to post process the LiDAR data to meet task order specifications and meet ASPRS vertical accuracy guidelines, NV5 Geospatial, powered by Quantum Spatial utilized a total of 64 ground control points that were used to calibrate the LiDAR to known ground locations established throughout the project area. An additional 151 independent accuracy checkpoints, 86 in Bare Earth and Urban landcovers (86 NVA points), 65 in Tall Weeds categories (65 VVA points), were used to assess the vertical accuracy of the data. These checkpoints were not used to calibrate or post process the data.
Name: DEM/Maine_Elevation_DEM_2020
Description: Product: These are Digital Elevation Model (DEM) data for Maine as part of the required deliverables for the ME_SouthCoastal_1_2020 Work Unit 191382 project. Class 2 (ground) LiDAR points in conjunction with the hydro breaklines were used to create a 1 meter hydro-flattened Raster DEM. Geographic Extent: 10 counties in Maine, covering approximately 2610 total square miles. Dataset Description: The ME_SouthCoastal_1_2020 Work Unit 191382 project called for the planning, acquisition, processing, and derivative products of lidar data to be collected at a nominal pulse spacing (NPS) of 0.71 meters. Project specifications are based on the U.S. Geological Survey National Geospatial Program Base LiDAR Specification, Version 2.1. The data were developed based on a horizontal projection/datum of NAD 1983 2011 UTM Zone 19N, Meter and vertical datum of NAVD88 Geoid 18, Meter. LiDAR data were delivered as processed Classified LAS 1.4 files formatted to 3274 individual 1500 m x 1500 m tiles, as tiled intensity imagery, and as tiled bare earth DEMs; all tiled to the same 1500 m x 1500 m schema. Continuous breaklines were produced in Esri file geodatabase format. Ground Conditions: LiDAR was collected in spring 2020, while no snow was on the ground and rivers were at or below normal levels. In order to post process the LiDAR data to meet task order specifications and meet ASPRS vertical accuracy guidelines, NV5 Geospatial, powered by Quantum Spatial utilized a total of 64 ground control points that were used to calibrate the LiDAR to known ground locations established throughout the project area. An additional 151 independent accuracy checkpoints, 86 in Bare Earth and Urban landcovers (86 NVA points), 65 in Tall Weeds categories (65 VVA points), were used to assess the vertical accuracy of the data. These checkpoints were not used to calibrate or post process the data.
Single Fused Map Cache: false
Extent:
XMin: 355500.0
YMin: 4767000.0
XMax: 480000.0
YMax: 4927500.0
Spatial Reference: 102388
(6348)
VCSWkid(5703)
LatestVCSWkid(5703)
Initial Extent:
XMin: 355500.0
YMin: 4767000.0
XMax: 480000.0
YMax: 4927500.0
Spatial Reference: 102388
(6348)
VCSWkid(5703)
LatestVCSWkid(5703)
Full Extent:
XMin: 355500.0
YMin: 4767000.0
XMax: 480000.0
YMax: 4927500.0
Spatial Reference: 102388
(6348)
VCSWkid(5703)
LatestVCSWkid(5703)
Pixel Size X: 0.5
Pixel Size Y: 0.5
Band Count: 1
Pixel Type: F32
RasterFunction Infos: {"rasterFunctionInfos": [{
"name": "None",
"description": "",
"help": ""
}]}
Mensuration Capabilities: None
Inspection Capabilities:
Has Histograms: false
Has Colormap: false
Has Multi Dimensions : false
Rendering Rule:
Min Scale: 0
Max Scale: 0
Copyright Text: State of Maine, Maine GeoLibrary, MaineIT GIS, MEGIS
Service Data Type: esriImageServiceDataTypeElevation
Min Values: -22.940000534057617
Max Values: 345.5237731933594
Mean Values: 49.0027632740296
Standard Deviation Values: 44.986507999327294
Object ID Field: OBJECTID
Fields:
-
OBJECTID
(
type: esriFieldTypeOID, alias: OBJECTID
)
-
Shape
(
type: esriFieldTypeGeometry, alias: Shape
)
-
Name
(
type: esriFieldTypeString, alias: Name, length: 200
)
-
MinPS
(
type: esriFieldTypeDouble, alias: MinPS
)
-
MaxPS
(
type: esriFieldTypeDouble, alias: MaxPS
)
-
LowPS
(
type: esriFieldTypeDouble, alias: LowPS
)
-
HighPS
(
type: esriFieldTypeDouble, alias: HighPS
)
-
Category
(
type: esriFieldTypeInteger, alias: Category
, Coded Values:
[0: Unknown]
, [1: Primary]
, [2: Overview]
, ...6 more...
)
-
Tag
(
type: esriFieldTypeString, alias: Tag, length: 100
)
-
GroupName
(
type: esriFieldTypeString, alias: GroupName, length: 100
)
-
ProductName
(
type: esriFieldTypeString, alias: ProductName, length: 100
)
-
CenterX
(
type: esriFieldTypeDouble, alias: CenterX
)
-
CenterY
(
type: esriFieldTypeDouble, alias: CenterY
)
-
ZOrder
(
type: esriFieldTypeInteger, alias: ZOrder
)
-
Shape_Length
(
type: esriFieldTypeDouble, alias: Shape_Length
)
-
Shape_Area
(
type: esriFieldTypeDouble, alias: Shape_Area
)
-
DateBegin
(
type: esriFieldTypeDate, alias: DateBegin, length: 8
)
-
DateEnd
(
type: esriFieldTypeDate, alias: DateEnd, length: 8
)
-
DateIntBegin
(
type: esriFieldTypeSmallInteger, alias: DateIntBegin
)
-
DateIntEnd
(
type: esriFieldTypeSmallInteger, alias: DateIntEnd
)
Default Mosaic Method: Northwest
Allowed Mosaic Methods: NorthWest,Center,ByAttribute,Nadir,Viewpoint,Seamline,None
SortField:
SortValue: null
Mosaic Operator: First
Default Compression Quality: 87
Default Resampling Method: Bilinear
Max Record Count: 1000
Max Image Height: 4100
Max Image Width: 15000
Max Download Image Count: 96
Max Mosaic Image Count: 24
Allow Raster Function: true
Allow Copy: true
Allow Analysis: true
Allow Compute TiePoints: false
Supports Statistics: true
Supports Advanced Queries: true
Use StandardizedQueries: true
Raster Type Infos:
Name: Raster Dataset
Description: Supports all ArcGIS Raster Datasets
Help:
Has Raster Attribute Table: false
Edit Fields Info: null
Ownership Based AccessControl For Rasters: null
Child Resources:
Info
Statistics
Key Properties
Legend
Raster Function Infos
Supported Operations:
Export Image
Query
Identify
Download Rasters
Get Image Url
Compute Histograms
Compute Statistics Histograms
Get Samples
Compute Class Statistics
Query GPS Info
Find Images
Image to Map
Map to Image
Measure from Image
Image to Map Multiray
Query Boundary
Compute Pixel Location
Compute Angles
Validate
Project
Calculate Volume