View In:
ArcGIS JavaScript
ArcGIS Online Map Viewer
ArcGIS Earth
Service Description: ORTHO_FF orthophotography of Fort Fairfield, Maine compiled by Bradstreet Consultants, Inc. in the year 2003. Features were collected from aerial photography taken May 20, 2003. Airborne GPS, IMU, and ground control were all used to control the project. All features were compiled in Kork Digital Mapping System then translated using AutoCAD to files for use in ArcGIS. The orthophotography in ORTHO_FF has a ground spacing value of 0.15 meters or 1/2 foot GSD and provide a digital photographic map suitable for applications requiring a 1:1200 National Map Accuracy Standard (NMAS).
Name: Municipal/orthoMunicipalFortFairfield2003
Description: ORTHO_FF orthophotography of Fort Fairfield, Maine compiled by Bradstreet Consultants, Inc. in the year 2003. Features were collected from aerial photography taken May 20, 2003. Airborne GPS, IMU, and ground control were all used to control the project. All features were compiled in Kork Digital Mapping System then translated using AutoCAD to files for use in ArcGIS. The orthophotography in ORTHO_FF has a ground spacing value of 0.15 meters or 1/2 foot GSD and provide a digital photographic map suitable for applications requiring a 1:1200 National Map Accuracy Standard (NMAS).
Single Fused Map Cache: false
Extent:
XMin: 581899.9249999998
YMin: 5170699.925099999
XMax: 592700.075
YMax: 5192300.075099999
Spatial Reference: 32619
(32619)
LatestVCSWkid(0)
Initial Extent:
XMin: 581899.9249999998
YMin: 5170699.925099999
XMax: 592700.075
YMax: 5192300.075099999
Spatial Reference: 32619
(32619)
LatestVCSWkid(0)
Full Extent:
XMin: 581899.9249999998
YMin: 5170699.925099999
XMax: 592700.075
YMax: 5192300.075099999
Spatial Reference: 32619
(32619)
LatestVCSWkid(0)
Time Info:
Start Time Field: DateBegin
End Time Field: DateEnd
Time Extent:
[2003/05/20 00:00:00 UTC, 2003/05/20 00:00:00 UTC]
Time Reference:
N/A
Pixel Size X: 0.15000000000000194
Pixel Size Y: 0.15000000000000258
Band Count: 3
Pixel Type: U8
RasterFunction Infos: {"rasterFunctionInfos": [{
"name": "None",
"description": "A No-Op Function.",
"help": ""
}]}
Mensuration Capabilities: None
Inspection Capabilities:
Has Histograms: true
Has Colormap: false
Has Multi Dimensions : false
Rendering Rule:
Min Scale: 0
Max Scale: 0
Resampling: false
Copyright Text: Maine GeoLibrary
Service Data Type: esriImageServiceDataTypeRGB
Min Values: 19, 32, 37
Max Values: 241, 255, 246
Mean Values: 139.7924002318474, 149.8449297244722, 119.31182108692603
Standard Deviation Values: 28.883903687936247, 27.881076669811833, 21.24426410298989
Object ID Field: OBJECTID
Fields:
-
OBJECTID
(
type: esriFieldTypeOID, alias: OBJECTID
)
-
Shape
(
type: esriFieldTypeGeometry, alias: Shape
)
-
Name
(
type: esriFieldTypeString, alias: Name, length: 200
)
-
MinPS
(
type: esriFieldTypeDouble, alias: MinPS
)
-
MaxPS
(
type: esriFieldTypeDouble, alias: MaxPS
)
-
LowPS
(
type: esriFieldTypeDouble, alias: LowPS
)
-
HighPS
(
type: esriFieldTypeDouble, alias: HighPS
)
-
Category
(
type: esriFieldTypeInteger, alias: Category
, Coded Values:
[0: Unknown]
, [1: Primary]
, [2: Overview]
, ...6 more...
)
-
Tag
(
type: esriFieldTypeString, alias: Tag, length: 100
)
-
GroupName
(
type: esriFieldTypeString, alias: GroupName, length: 100
)
-
ProductName
(
type: esriFieldTypeString, alias: ProductName, length: 100
)
-
CenterX
(
type: esriFieldTypeDouble, alias: CenterX
)
-
CenterY
(
type: esriFieldTypeDouble, alias: CenterY
)
-
ZOrder
(
type: esriFieldTypeInteger, alias: ZOrder
)
-
Shape_Length
(
type: esriFieldTypeDouble, alias: Shape_Length
)
-
Shape_Area
(
type: esriFieldTypeDouble, alias: Shape_Area
)
-
DateBegin
(
type: esriFieldTypeDate, alias: DateBegin, length: 8
)
-
DateEnd
(
type: esriFieldTypeDate, alias: DateEnd, length: 8
)
-
DateIntBegin
(
type: esriFieldTypeSmallInteger, alias: DateIntBegin
)
-
DateIntEnd
(
type: esriFieldTypeSmallInteger, alias: DateIntEnd
)
Default Mosaic Method: Northwest
Allowed Mosaic Methods: NorthWest,Center,ByAttribute,Nadir,Viewpoint,None
SortField:
SortValue: null
Mosaic Operator: First
Default Compression Quality: 87
Default Resampling Method: Bilinear
Max Record Count: 1000
Max Image Height: 4100
Max Image Width: 15000
Max Download Image Count: 20
Max Mosaic Image Count: 20
Allow Raster Function: true
Allow Copy: true
Allow Analysis: true
Allow Compute TiePoints: false
Supports Statistics: true
Supports Advanced Queries: true
Use StandardizedQueries: true
Raster Type Infos:
Name: Raster Dataset
Description: Supports all ArcGIS Raster Datasets
Help:
Has Raster Attribute Table: false
Edit Fields Info: null
Ownership Based AccessControl For Rasters: null
Child Resources:
Info
Histograms
Statistics
Key Properties
Legend
Raster Function Infos
Supported Operations:
Export Image
Query
Identify
Download Rasters
Get Image Url
Compute Histograms
Compute Statistics Histograms
Get Samples
Compute Class Statistics
Query GPS Info
Find Images
Image to Map
Map to Image
Measure from Image
Image to Map Multiray
Query Boundary
Compute Pixel Location
Compute Angles
Validate
Project