View In:
ArcGIS JavaScript
ArcGIS Online Map Viewer
ArcGIS Earth
Service Description: 2006 aerial orthophotos at a resolution of 6 inches for Kittery, Maine. Bradstreet Consultants, Inc. used the aerial photography flown in one session on April 21, 2006, at a resolution of 0.5' pixel (similar to 1"=600'). Bradstreet Consultants, Inc. gathered control points to support full analytical aerotriangulation. The aerotriangulation solution was used to set up each stereopair of photos for orthorectification and DTM compilation. The ortho imagery was rectified from the natural color digial imagery employing a digital terrain model (DTM) and supplemented from updating some town's original DTM and some town's from scratch using the imagery in softcopy (digital) stereoplotter in the Kork KDMS and DAT/EM AutoCAD DWG format.
Name: Municipal/orthoMunicipalKittery2006
Description: 2006 aerial orthophotos at a resolution of 6 inches for Kittery, Maine. Bradstreet Consultants, Inc. used the aerial photography flown in one session on April 21, 2006, at a resolution of 0.5' pixel (similar to 1"=600'). Bradstreet Consultants, Inc. gathered control points to support full analytical aerotriangulation. The aerotriangulation solution was used to set up each stereopair of photos for orthorectification and DTM compilation. The ortho imagery was rectified from the natural color digial imagery employing a digital terrain model (DTM) and supplemented from updating some town's original DTM and some town's from scratch using the imagery in softcopy (digital) stereoplotter in the Kork KDMS and DAT/EM AutoCAD DWG format.
Single Fused Map Cache: false
Extent:
XMin: 846069.0500000089
YMin: 25494.150000034268
XMax: 860600.7499999426
YMax: 35275.199999989614
Spatial Reference: 26984
(26984)
VCSWkid(5703)
LatestVCSWkid(5703)
Initial Extent:
XMin: 846069.0500000089
YMin: 25494.150000034268
XMax: 860600.7499999426
YMax: 35275.199999989614
Spatial Reference: 26984
(26984)
VCSWkid(5703)
LatestVCSWkid(5703)
Full Extent:
XMin: 846069.0500000089
YMin: 25494.150000034268
XMax: 860600.7499999426
YMax: 35275.199999989614
Spatial Reference: 26984
(26984)
VCSWkid(5703)
LatestVCSWkid(5703)
Time Info:
Start Time Field: Date
End Time Field: Date
Time Extent:
[2006/04/21 00:00:00 UTC, 2006/04/21 00:00:00 UTC]
Time Reference:
N/A
Pixel Size X: 0.14999999999931576
Pixel Size Y: 0.1499999999993152
Band Count: 3
Pixel Type: U8
RasterFunction Infos: {"rasterFunctionInfos": [{
"name": "None",
"description": "A No-Op Function.",
"help": ""
}]}
Mensuration Capabilities: Basic
Inspection Capabilities:
Has Histograms: true
Has Colormap: false
Has Multi Dimensions : false
Rendering Rule:
Min Scale: 0
Max Scale: 0
Resampling: false
Copyright Text: Maine GeoLibrary
Service Data Type: esriImageServiceDataTypeRGB
Min Values: 0, 0, 0
Max Values: 248, 255, 252
Mean Values: 99.7683134848731, 105.39508172650363, 90.0969190107844
Standard Deviation Values: 43.887597329947866, 41.03376409056629, 36.28869623091349
Object ID Field: OBJECTID
Fields:
-
OBJECTID
(
type: esriFieldTypeOID, alias: OBJECTID
)
-
Shape
(
type: esriFieldTypeGeometry, alias: Shape
)
-
Name
(
type: esriFieldTypeString, alias: Name, length: 200
)
-
MinPS
(
type: esriFieldTypeDouble, alias: MinPS
)
-
MaxPS
(
type: esriFieldTypeDouble, alias: MaxPS
)
-
LowPS
(
type: esriFieldTypeDouble, alias: LowPS
)
-
HighPS
(
type: esriFieldTypeDouble, alias: HighPS
)
-
Category
(
type: esriFieldTypeInteger, alias: Category
, Coded Values:
[0: Unknown]
, [1: Primary]
, [2: Overview]
, ...6 more...
)
-
Tag
(
type: esriFieldTypeString, alias: Tag, length: 100
)
-
GroupName
(
type: esriFieldTypeString, alias: GroupName, length: 100
)
-
ProductName
(
type: esriFieldTypeString, alias: ProductName, length: 100
)
-
CenterX
(
type: esriFieldTypeDouble, alias: CenterX
)
-
CenterY
(
type: esriFieldTypeDouble, alias: CenterY
)
-
ZOrder
(
type: esriFieldTypeInteger, alias: ZOrder
)
-
Shape_Length
(
type: esriFieldTypeDouble, alias: Shape_Length
)
-
Shape_Area
(
type: esriFieldTypeDouble, alias: Shape_Area
)
-
Date
(
type: esriFieldTypeDate, alias: Date, length: 8
)
-
DateInt
(
type: esriFieldTypeSmallInteger, alias: DateInt
)
Default Mosaic Method: Northwest
Allowed Mosaic Methods: NorthWest,Center,ByAttribute,Nadir,Viewpoint,None
SortField:
SortValue: null
Mosaic Operator: First
Default Compression Quality: 87
Default Resampling Method: Bilinear
Max Record Count: 1000
Max Image Height: 4100
Max Image Width: 15000
Max Download Image Count: 20
Max Mosaic Image Count: 20
Allow Raster Function: true
Allow Copy: true
Allow Analysis: true
Allow Compute TiePoints: false
Supports Statistics: true
Supports Advanced Queries: true
Use StandardizedQueries: true
Raster Type Infos:
Name: Raster Dataset
Description: Supports all ArcGIS Raster Datasets
Help:
Has Raster Attribute Table: false
Edit Fields Info: null
Ownership Based AccessControl For Rasters: null
Child Resources:
Info
Histograms
Statistics
Key Properties
Legend
Raster Function Infos
Supported Operations:
Export Image
Query
Identify
Measure
Compute Histograms
Compute Statistics Histograms
Get Samples
Compute Class Statistics
Query GPS Info
Find Images
Image to Map
Map to Image
Measure from Image
Image to Map Multiray
Query Boundary
Compute Pixel Location
Compute Angles
Validate
Project