View In:
ArcGIS JavaScript
ArcGIS Online Map Viewer
ArcGIS Earth
Service Description: 2006 3" pixel resolution orthoimagery of the cities of Lewiston/Auburn ME. Provided by the Maine Office of GIS and the Maine GeoLibrary Board. Lewiston/Auburn 2006 3" orthoimagery - As the prime contractor, James W. Sewall Company. used the aerial photography flown in one session on April 9th, 2006. Data were collected at an altitude of 7200' using a 6" Zeiss RMK camera with FMC. The film scale was 1" = 600', scanned at a resolution of 2540dpi (10 microns). Orthophotos were produced to meet ASPRS class 1 specifications for 1"=100' (1:1200) mapping, or a horizontal accuracy of about 1 foot with a 3-inch ground pixel resolution.
Name: Municipal/orthoMunicipalLewistonAuburn2006
Description: 2006 3" pixel resolution orthoimagery of the cities of Lewiston/Auburn ME. Provided by the Maine Office of GIS and the Maine GeoLibrary Board. Lewiston/Auburn 2006 3" orthoimagery - As the prime contractor, James W. Sewall Company. used the aerial photography flown in one session on April 9th, 2006. Data were collected at an altitude of 7200' using a 6" Zeiss RMK camera with FMC. The film scale was 1" = 600', scanned at a resolution of 2540dpi (10 microns). Orthophotos were produced to meet ASPRS class 1 specifications for 1"=100' (1:1200) mapping, or a horizontal accuracy of about 1 foot with a 3-inch ground pixel resolution.
Single Fused Map Cache: false
Extent:
XMin: 885000.0000000069
YMin: 126430.20000000515
XMax: 904220.549999997
YMax: 157734.14999998917
Spatial Reference: 26984
(26984)
VCSWkid(5703)
LatestVCSWkid(5703)
Initial Extent:
XMin: 885000.0000000069
YMin: 126430.20000000515
XMax: 904220.549999997
YMax: 157734.14999998917
Spatial Reference: 26984
(26984)
VCSWkid(5703)
LatestVCSWkid(5703)
Full Extent:
XMin: 885000.0000000069
YMin: 126430.20000000515
XMax: 904220.549999997
YMax: 157734.14999998917
Spatial Reference: 26984
(26984)
VCSWkid(5703)
LatestVCSWkid(5703)
Time Info:
Start Time Field: Date
End Time Field: Date
Time Extent:
[2006/04/09 00:00:00 UTC, 2006/04/09 00:00:00 UTC]
Time Reference:
N/A
Pixel Size X: 0.07499999999996157
Pixel Size Y: 0.07499999999996171
Band Count: 3
Pixel Type: U8
RasterFunction Infos: {"rasterFunctionInfos": [{
"name": "None",
"description": "A No-Op Function.",
"help": ""
}]}
Mensuration Capabilities: Basic
Inspection Capabilities:
Has Histograms: true
Has Colormap: false
Has Multi Dimensions : false
Rendering Rule:
Min Scale: 0
Max Scale: 0
Resampling: false
Copyright Text: Maine GeoLibrary
Service Data Type: esriImageServiceDataTypeRGB
Min Values: 0, 0, 0
Max Values: 255, 255, 255
Mean Values: 77.03427750331964, 85.40794916635734, 75.22190545799643
Standard Deviation Values: 41.789326090554, 40.363965020971435, 36.541113769698235
Object ID Field: OBJECTID
Fields:
-
OBJECTID
(
type: esriFieldTypeOID, alias: OBJECTID
)
-
Shape
(
type: esriFieldTypeGeometry, alias: Shape
)
-
Name
(
type: esriFieldTypeString, alias: Name, length: 200
)
-
MinPS
(
type: esriFieldTypeDouble, alias: MinPS
)
-
MaxPS
(
type: esriFieldTypeDouble, alias: MaxPS
)
-
LowPS
(
type: esriFieldTypeDouble, alias: LowPS
)
-
HighPS
(
type: esriFieldTypeDouble, alias: HighPS
)
-
Category
(
type: esriFieldTypeInteger, alias: Category
, Coded Values:
[0: Unknown]
, [1: Primary]
, [2: Overview]
, ...6 more...
)
-
Tag
(
type: esriFieldTypeString, alias: Tag, length: 100
)
-
GroupName
(
type: esriFieldTypeString, alias: GroupName, length: 100
)
-
ProductName
(
type: esriFieldTypeString, alias: ProductName, length: 100
)
-
CenterX
(
type: esriFieldTypeDouble, alias: CenterX
)
-
CenterY
(
type: esriFieldTypeDouble, alias: CenterY
)
-
ZOrder
(
type: esriFieldTypeInteger, alias: ZOrder
)
-
Shape_Length
(
type: esriFieldTypeDouble, alias: Shape_Length
)
-
Shape_Area
(
type: esriFieldTypeDouble, alias: Shape_Area
)
-
Date
(
type: esriFieldTypeDate, alias: Date, length: 8
)
-
DateInt
(
type: esriFieldTypeSmallInteger, alias: DateInt
)
Default Mosaic Method: Northwest
Allowed Mosaic Methods: NorthWest,Center,ByAttribute,Nadir,Viewpoint,None
SortField:
SortValue: null
Mosaic Operator: First
Default Compression Quality: 87
Default Resampling Method: Bilinear
Max Record Count: 1000
Max Image Height: 4100
Max Image Width: 15000
Max Download Image Count: 20
Max Mosaic Image Count: 20
Allow Raster Function: true
Allow Copy: true
Allow Analysis: true
Allow Compute TiePoints: false
Supports Statistics: true
Supports Advanced Queries: true
Use StandardizedQueries: true
Raster Type Infos:
Name: Raster Dataset
Description: Supports all ArcGIS Raster Datasets
Help:
Has Raster Attribute Table: false
Edit Fields Info: null
Ownership Based AccessControl For Rasters: null
Child Resources:
Info
Histograms
Statistics
Key Properties
Legend
Raster Function Infos
Supported Operations:
Export Image
Query
Identify
Measure
Compute Histograms
Compute Statistics Histograms
Get Samples
Compute Class Statistics
Query GPS Info
Find Images
Image to Map
Map to Image
Measure from Image
Image to Map Multiray
Query Boundary
Compute Pixel Location
Compute Angles
Validate
Project