View In:
ArcGIS JavaScript
ArcGIS Online Map Viewer
ArcGIS Earth
Service Description: Municipal/orthoMunicipalOgunquit2022
Name: Municipal/orthoMunicipalOgunquit2022
Description:
Single Fused Map Cache: false
Extent:
XMin: 365625.0
YMin: 4787250.0
XMax: 372375.0
YMax: 4792500.0
Spatial Reference: 102388
(6348)
LatestVCSWkid(0)
Initial Extent:
XMin: 365625.0
YMin: 4787250.0
XMax: 372375.0
YMax: 4792500.0
Spatial Reference: 102388
(6348)
LatestVCSWkid(0)
Full Extent:
XMin: 365625.0
YMin: 4787250.0
XMax: 372375.0
YMax: 4792500.0
Spatial Reference: 102388
(6348)
LatestVCSWkid(0)
Pixel Size X: 0.075
Pixel Size Y: 0.075
Band Count: 4
Pixel Type: U8
RasterFunction Infos: {"rasterFunctionInfos": [{
"name": "None",
"description": "",
"help": ""
}]}
Mensuration Capabilities: Basic
Inspection Capabilities:
Has Histograms: true
Has Colormap: false
Has Multi Dimensions : false
Rendering Rule:
Min Scale: 0
Max Scale: 0
Copyright Text:
Service Data Type: esriImageServiceDataTypeGeneric
Min Values: 0, 0, 0, 0
Max Values: 255, 255, 255, 254
Mean Values: 100.00019900000203, 102.12559699999903, 98.07651300000015, 163.495321999993
Standard Deviation Values: 32.28455902212526, 26.99052779925289, 22.734110970095895, 31.051399844546744
Object ID Field: OBJECTID
Fields:
-
OBJECTID
(
type: esriFieldTypeOID, alias: OBJECTID
)
-
Shape
(
type: esriFieldTypeGeometry, alias: Shape
)
-
Name
(
type: esriFieldTypeString, alias: Name, length: 200
)
-
MinPS
(
type: esriFieldTypeDouble, alias: MinPS
)
-
MaxPS
(
type: esriFieldTypeDouble, alias: MaxPS
)
-
LowPS
(
type: esriFieldTypeDouble, alias: LowPS
)
-
HighPS
(
type: esriFieldTypeDouble, alias: HighPS
)
-
Category
(
type: esriFieldTypeInteger, alias: Category
, Coded Values:
[0: Unknown]
, [1: Primary]
, [2: Overview]
, ...6 more...
)
-
Tag
(
type: esriFieldTypeString, alias: Tag, length: 100
)
-
GroupName
(
type: esriFieldTypeString, alias: GroupName, length: 100
)
-
ProductName
(
type: esriFieldTypeString, alias: ProductName, length: 100
)
-
CenterX
(
type: esriFieldTypeDouble, alias: CenterX
)
-
CenterY
(
type: esriFieldTypeDouble, alias: CenterY
)
-
ZOrder
(
type: esriFieldTypeInteger, alias: ZOrder
)
-
Shape_Length
(
type: esriFieldTypeDouble, alias: Shape_Length
)
-
Shape_Area
(
type: esriFieldTypeDouble, alias: Shape_Area
)
-
DateBegin
(
type: esriFieldTypeDate, alias: DateBegin, length: 8
)
-
DateEnd
(
type: esriFieldTypeDate, alias: DateEnd, length: 8
)
-
DateIntBegin
(
type: esriFieldTypeSmallInteger, alias: DateIntBegin
)
-
DateIntEnd
(
type: esriFieldTypeSmallInteger, alias: DateIntEnd
)
Default Mosaic Method: Northwest
Allowed Mosaic Methods: NorthWest,Center,ByAttribute,Nadir,Viewpoint,None
SortField:
SortValue: null
Mosaic Operator: First
Default Compression Quality: 87
Default Resampling Method: Bilinear
Max Record Count: 2000
Max Image Height: 4100
Max Image Width: 15000
Max Download Image Count: 20
Max Mosaic Image Count: 20
Allow Raster Function: true
Allow Copy: true
Allow Analysis: true
Allow Compute TiePoints: false
Supports Statistics: true
Supports Advanced Queries: true
Use StandardizedQueries: true
Raster Type Infos:
Name: Raster Dataset
Description: Supports all ArcGIS Raster Datasets
Help:
Has Raster Attribute Table: false
Edit Fields Info: null
Ownership Based AccessControl For Rasters: null
Child Resources:
Info
Histograms
Statistics
Key Properties
Legend
Raster Function Infos
Supported Operations:
Export Image
Query
Identify
Measure
Compute Histograms
Compute Statistics Histograms
Get Samples
Compute Class Statistics
Query GPS Info
Find Images
Image to Map
Map to Image
Measure from Image
Image to Map Multiray
Query Boundary
Compute Pixel Location
Compute Angles
Validate
Project