View In:
ArcGIS JavaScript
ArcGIS Online Map Viewer
ArcGIS Earth
Service Description: This data set contains imagery from the National Agriculture Imagery Program (NAIP). NAIP acquires digital ortho imagery during the agricultural growing seasons in the continental U.S. A primary goal of the NAIP program is to enable availability of ortho imagery within one year of acquisition. NAIP provides two main products: 1 meter ground sample distance (GSD) ortho imagery rectified to a horizontal accuracy of within +/- 5 meters of reference digital ortho quarter quads (DOQQ's) from the National Digital Ortho Program (NDOP); and, 2 meter GSD ortho imagery rectified to within +/- 10 meters of reference DOQQs. The tiling format of NAIP imagery is based on a 3.75' x 3.75' quarter quadrangle with a 300 meter buffer on all four sides. NAIP quarter quads are formatted to the UTM coordinate system using NAD83. NAIP imagery may contain as much as 10% cloud cover per tile.
Name: NAIP/orthoNaip2009
Description: This data set contains imagery from the National Agriculture Imagery Program (NAIP). NAIP acquires digital ortho imagery during the agricultural growing seasons in the continental U.S. A primary goal of the NAIP program is to enable availability of ortho imagery within one year of acquisition. NAIP provides two main products: 1 meter ground sample distance (GSD) ortho imagery rectified to a horizontal accuracy of within +/- 5 meters of reference digital ortho quarter quads (DOQQ's) from the National Digital Ortho Program (NDOP); and, 2 meter GSD ortho imagery rectified to within +/- 10 meters of reference DOQQs. The tiling format of NAIP imagery is based on a 3.75' x 3.75' quarter quadrangle with a 300 meter buffer on all four sides. NAIP quarter quads are formatted to the UTM coordinate system using NAD83. NAIP imagery may contain as much as 10% cloud cover per tile.
Single Fused Map Cache: false
Extent:
XMin: 332210.0
YMin: 4754753.0
XMax: 663570.0
YMax: 5261061.0
Spatial Reference: 26919
(26919)
LatestVCSWkid(0)
Initial Extent:
XMin: 332210.0
YMin: 4754753.0
XMax: 663570.0
YMax: 5261061.0
Spatial Reference: 26919
(26919)
LatestVCSWkid(0)
Full Extent:
XMin: 332210.0
YMin: 4754753.0
XMax: 663570.0
YMax: 5261061.0
Spatial Reference: 26919
(26919)
LatestVCSWkid(0)
Time Info:
Start Time Field: DateInt
End Time Field: DateInt
Time Extent:
[2009/01/01 00:00:00 UTC, 2009/01/01 00:00:00 UTC]
Time Reference:
N/A
Pixel Size X: 1.0
Pixel Size Y: 1.0
Band Count: 3
Pixel Type: U8
RasterFunction Infos: {"rasterFunctionInfos": [{
"name": "None",
"description": "Make a Raster or Raster Dataset into a Function Raster Dataset.",
"help": ""
}]}
Mensuration Capabilities: None
Inspection Capabilities:
Has Histograms: true
Has Colormap: false
Has Multi Dimensions : false
Rendering Rule:
Min Scale: 0
Max Scale: 0
Resampling: false
Copyright Text: USDA Aerial Photography Field Office
Service Data Type: esriImageServiceDataTypeProcessed
Min Values: 0, 0, 0
Max Values: 255, 255, 255
Mean Values: 107.61806872175204, 119.88317846818654, 105.52698004162828
Standard Deviation Values: 34.58377029506898, 32.02212908299412, 27.214765826834196
Object ID Field: OBJECTID
Fields:
-
OBJECTID
(
type: esriFieldTypeOID, alias: OBJECTID
)
-
Shape
(
type: esriFieldTypeGeometry, alias: Shape
)
-
Name
(
type: esriFieldTypeString, alias: Name, length: 200
)
-
MinPS
(
type: esriFieldTypeDouble, alias: MinPS
)
-
MaxPS
(
type: esriFieldTypeDouble, alias: MaxPS
)
-
LowPS
(
type: esriFieldTypeDouble, alias: LowPS
)
-
HighPS
(
type: esriFieldTypeDouble, alias: HighPS
)
-
Category
(
type: esriFieldTypeInteger, alias: Category
, Coded Values:
[0: Unknown]
, [1: Primary]
, [2: Overview]
, ...6 more...
)
-
Tag
(
type: esriFieldTypeString, alias: Tag, length: 100
)
-
GroupName
(
type: esriFieldTypeString, alias: GroupName, length: 100
)
-
ProductName
(
type: esriFieldTypeString, alias: ProductName, length: 100
)
-
CenterX
(
type: esriFieldTypeDouble, alias: CenterX
)
-
CenterY
(
type: esriFieldTypeDouble, alias: CenterY
)
-
ZOrder
(
type: esriFieldTypeInteger, alias: ZOrder
)
-
Shape_Length
(
type: esriFieldTypeDouble, alias: Shape_Length
)
-
Shape_Area
(
type: esriFieldTypeDouble, alias: Shape_Area
)
Default Mosaic Method: Northwest
Allowed Mosaic Methods: NorthWest,Center,ByAttribute,Nadir,Viewpoint,None
SortField:
SortValue: null
Mosaic Operator: First
Default Compression Quality: 87
Default Resampling Method: Bilinear
Max Record Count: 1000
Max Image Height: 4100
Max Image Width: 15000
Max Download Image Count: 0
Max Mosaic Image Count: 24
Allow Raster Function: true
Allow Copy: true
Allow Analysis: true
Allow Compute TiePoints: false
Supports Statistics: true
Supports Advanced Queries: true
Use StandardizedQueries: true
Raster Type Infos:
Name: Raster Dataset
Description: Supports all ArcGIS Raster Datasets
Help:
Has Raster Attribute Table: false
Edit Fields Info: null
Ownership Based AccessControl For Rasters: null
Child Resources:
Info
Histograms
Statistics
Key Properties
Legend
Raster Function Infos
Supported Operations:
Export Image
Query
Identify
Compute Histograms
Compute Statistics Histograms
Get Samples
Compute Class Statistics
Query GPS Info
Find Images
Image to Map
Map to Image
Measure from Image
Image to Map Multiray
Query Boundary
Compute Pixel Location
Compute Angles
Validate
Project