View In:
ArcGIS JavaScript
ArcGIS Online Map Viewer
ArcGIS Earth
Service Description: This data set contains imagery from the National Agriculture Imagery Program (NAIP). The NAIP acquires 4-band digital ortho imagery from airbourne and/or space based platforms during the agricultural growing seasons in the U.S.. A primary goal of the NAIP program is to enable availability of ortho imagery within sixty days of acquisition. The NAIP provides 1 meter GSD ortho imagery rectified within +/- 6 meters to true ground at a 95% confidence level. The tiling format of NAIP imagery is based on a 3.75' x 3.75' quarter quadrangle with a 300 (plus or minus 30) pixel buffer on all four sides. The NAIP imagery is formatted to the UTM coordinate system using the North American Datum of 1983 (NAD83). The NAIP imagery may contain as much as 10% cloud cover per tile.
Name: NAIP/orthoNaip2015
Description: This data set contains imagery from the National Agriculture Imagery Program (NAIP). The NAIP acquires 4-band digital ortho imagery from airbourne and/or space based platforms during the agricultural growing seasons in the U.S.. A primary goal of the NAIP program is to enable availability of ortho imagery within sixty days of acquisition. The NAIP provides 1 meter GSD ortho imagery rectified within +/- 6 meters to true ground at a 95% confidence level. The tiling format of NAIP imagery is based on a 3.75' x 3.75' quarter quadrangle with a 300 (plus or minus 30) pixel buffer on all four sides. The NAIP imagery is formatted to the UTM coordinate system using the North American Datum of 1983 (NAD83). The NAIP imagery may contain as much as 10% cloud cover per tile.
Single Fused Map Cache: false
Extent:
XMin: -7917601.8596
YMin: 5302459.6679000035
XMax: -7451444.8596
YMax: 6024075.6679000035
Spatial Reference: 102100
(3857)
LatestVCSWkid(0)
Initial Extent:
XMin: -7917601.8596
YMin: 5302459.6679000035
XMax: -7451444.8596
YMax: 6024075.6679000035
Spatial Reference: 102100
(3857)
LatestVCSWkid(0)
Full Extent:
XMin: -7917601.8596
YMin: 5302459.6679000035
XMax: -7451444.8596
YMax: 6024075.6679000035
Spatial Reference: 102100
(3857)
LatestVCSWkid(0)
Pixel Size X: 1.0
Pixel Size Y: 1.0
Band Count: 4
Pixel Type: U8
RasterFunction Infos: {"rasterFunctionInfos": [{
"name": "None",
"description": "",
"help": ""
}]}
Mensuration Capabilities: None
Inspection Capabilities:
Has Histograms: true
Has Colormap: false
Has Multi Dimensions : false
Rendering Rule:
Min Scale: 0
Max Scale: 0
Resampling: false
Copyright Text: USDA-FSA Aerial Photography Field Office
Service Data Type: esriImageServiceDataTypeProcessed
Min Values: 10, 9, 19, 0
Max Values: 249, 241, 252, 255
Mean Values: 108.5082675371445, 128.8293469980541, 120.50939776020445, 178.37571818110845
Standard Deviation Values: 20.279673279020813, 18.85230087276142, 14.921335366841936, 58.0582650442474
Object ID Field: OBJECTID
Fields:
-
OBJECTID
(
type: esriFieldTypeOID, alias: OBJECTID
)
-
Shape
(
type: esriFieldTypeGeometry, alias: Shape
)
-
Name
(
type: esriFieldTypeString, alias: Name, length: 200
)
-
MinPS
(
type: esriFieldTypeDouble, alias: MinPS
)
-
MaxPS
(
type: esriFieldTypeDouble, alias: MaxPS
)
-
LowPS
(
type: esriFieldTypeDouble, alias: LowPS
)
-
HighPS
(
type: esriFieldTypeDouble, alias: HighPS
)
-
Category
(
type: esriFieldTypeInteger, alias: Category
, Coded Values:
[0: Unknown]
, [1: Primary]
, [2: Overview]
, ...6 more...
)
-
Tag
(
type: esriFieldTypeString, alias: Tag, length: 100
)
-
GroupName
(
type: esriFieldTypeString, alias: GroupName, length: 100
)
-
ProductName
(
type: esriFieldTypeString, alias: ProductName, length: 100
)
-
CenterX
(
type: esriFieldTypeDouble, alias: CenterX
)
-
CenterY
(
type: esriFieldTypeDouble, alias: CenterY
)
-
ZOrder
(
type: esriFieldTypeInteger, alias: ZOrder
)
-
Shape_Length
(
type: esriFieldTypeDouble, alias: Shape_Length
)
-
Shape_Area
(
type: esriFieldTypeDouble, alias: Shape_Area
)
Default Mosaic Method: Northwest
Allowed Mosaic Methods: NorthWest,Center,ByAttribute,Nadir,Viewpoint,None
SortField:
SortValue: null
Mosaic Operator: First
Default Compression Quality: 87
Default Resampling Method: Bilinear
Max Record Count: 1000
Max Image Height: 4100
Max Image Width: 15000
Max Download Image Count: 0
Max Mosaic Image Count: 24
Allow Raster Function: true
Allow Copy: true
Allow Analysis: true
Allow Compute TiePoints: false
Supports Statistics: true
Supports Advanced Queries: true
Use StandardizedQueries: true
Raster Type Infos:
Name: Raster Dataset
Description: Supports all ArcGIS Raster Datasets
Help:
Has Raster Attribute Table: false
Edit Fields Info: null
Ownership Based AccessControl For Rasters: null
Child Resources:
Info
Histograms
Statistics
Key Properties
Legend
Raster Function Infos
Supported Operations:
Export Image
Query
Identify
Compute Histograms
Compute Statistics Histograms
Get Samples
Compute Class Statistics
Query GPS Info
Find Images
Image to Map
Map to Image
Measure from Image
Image to Map Multiray
Query Boundary
Compute Pixel Location
Compute Angles
Validate
Project