View In:
ArcGIS JavaScript
ArcGIS Online Map Viewer
ArcGIS Earth
Service Description: ORTHO_1F are high resolution digital orthophotographs produced from aerial photos collected over southwestern, central and northeastern Maine in the Spring of 2003, 2004 and 2005. Each pixel represents a planimetric square 1 foot on a side on the ground. Aerial photography for ORTHO_1F was flown at 6,000 feet above mean ground level. Source elevation data were 10 meter Digital Elevation Models produced for this project by USGS from 1:24,000 scale elevation and hydrography data supplied by MEGIS. The digital orthorectified images (image chips) are referenced to North American Datum 1983, UTM Zone 19, expressed in units of meters. Cartographic Services for orthorectification and the creation of digital elevation models were provided by USGS Mid-Continent Mapping Center (USGSMCMC). ORTHO_1F provides a digital photographic map suitable for applications requiring a 1:2400 map scale, a National Map Accuracy Standard (NMAS) of +/- 6.67 feet. The multi-agreement program was developed and funded in coordination with the Maine GeoLibrary Board. The U.S. Department of Agriculture, Natural Resource Conservation Service (NRCS) contributed toward this project via a separate funding agreement with USGS. The completed orthorectified files represent quarter-quarter-quadrangle (QQQ) sized tiles with a 300m over-edge. All overedges for ORTHO_1F also overlap adjacent ORTHO_HF and ORTHO_2F orthophotography by this distance. ORTHO_1F tiles provide complete coverage of the TIER A boundaries as defined by the Towns designated TIER A will have complete coverage by 1 foot GSD imagery.
Name: Regional/orthoRegional1Foot2003to2005
Description: ORTHO_1F are high resolution digital orthophotographs produced from aerial photos collected over southwestern, central and northeastern Maine in the Spring of 2003, 2004 and 2005. Each pixel represents a planimetric square 1 foot on a side on the ground. Aerial photography for ORTHO_1F was flown at 6,000 feet above mean ground level. Source elevation data were 10 meter Digital Elevation Models produced for this project by USGS from 1:24,000 scale elevation and hydrography data supplied by MEGIS. The digital orthorectified images (image chips) are referenced to North American Datum 1983, UTM Zone 19, expressed in units of meters. Cartographic Services for orthorectification and the creation of digital elevation models were provided by USGS Mid-Continent Mapping Center (USGSMCMC). ORTHO_1F provides a digital photographic map suitable for applications requiring a 1:2400 map scale, a National Map Accuracy Standard (NMAS) of +/- 6.67 feet. The multi-agreement program was developed and funded in coordination with the Maine GeoLibrary Board. The U.S. Department of Agriculture, Natural Resource Conservation Service (NRCS) contributed toward this project via a separate funding agreement with USGS. The completed orthorectified files represent quarter-quarter-quadrangle (QQQ) sized tiles with a 300m over-edge. All overedges for ORTHO_1F also overlap adjacent ORTHO_HF and ORTHO_2F orthophotography by this distance. ORTHO_1F tiles provide complete coverage of the TIER A boundaries as defined by the Towns designated TIER A will have complete coverage by 1 foot GSD imagery.
Single Fused Map Cache: false
Extent:
XMin: 337592.8800133534
YMin: 4755966.490066616
XMax: 593505.7798544618
YMax: 5202562.089789333
Spatial Reference: 26919
(26919)
LatestVCSWkid(0)
Initial Extent:
XMin: 337592.8800133534
YMin: 4755966.490066616
XMax: 593505.7798544618
YMax: 5202562.089789333
Spatial Reference: 26919
(26919)
LatestVCSWkid(0)
Full Extent:
XMin: 337592.8800133534
YMin: 4755966.490066616
XMax: 593505.7798544618
YMax: 5202562.089789333
Spatial Reference: 26919
(26919)
LatestVCSWkid(0)
Time Info:
Start Time Field: DateBegin
End Time Field: DateEnd
Time Extent:
[2003/03/01 00:00:00 UTC, 2005/06/20 00:00:00 UTC]
Time Reference:
N/A
Pixel Size X: 0.2999999998137355
Pixel Size Y: 0.2999999998137355
Band Count: 3
Pixel Type: U8
RasterFunction Infos: {"rasterFunctionInfos": [{
"name": "None",
"description": "Make a Raster or Raster Dataset into a Function Raster Dataset.",
"help": ""
}]}
Mensuration Capabilities: None
Inspection Capabilities:
Has Histograms: true
Has Colormap: false
Has Multi Dimensions : false
Rendering Rule:
Min Scale: 0
Max Scale: 0
Resampling: false
Copyright Text: Maine GeoLibrary
Service Data Type: esriImageServiceDataTypeProcessed
Min Values: 0, 0, 0
Max Values: 255, 255, 255
Mean Values: 118.83502938707045, 117.78762944304553, 108.52570948782683
Standard Deviation Values: 42.58491307867709, 40.35922355997409, 42.091663054560584
Object ID Field: OBJECTID
Fields:
-
OBJECTID
(
type: esriFieldTypeOID, alias: OBJECTID
)
-
Shape
(
type: esriFieldTypeGeometry, alias: Shape
)
-
Name
(
type: esriFieldTypeString, alias: Name, length: 200
)
-
MinPS
(
type: esriFieldTypeDouble, alias: MinPS
)
-
MaxPS
(
type: esriFieldTypeDouble, alias: MaxPS
)
-
LowPS
(
type: esriFieldTypeDouble, alias: LowPS
)
-
HighPS
(
type: esriFieldTypeDouble, alias: HighPS
)
-
Category
(
type: esriFieldTypeInteger, alias: Category
, Coded Values:
[0: Unknown]
, [1: Primary]
, [2: Overview]
, ...6 more...
)
-
Tag
(
type: esriFieldTypeString, alias: Tag, length: 100
)
-
GroupName
(
type: esriFieldTypeString, alias: GroupName, length: 100
)
-
ProductName
(
type: esriFieldTypeString, alias: ProductName, length: 100
)
-
CenterX
(
type: esriFieldTypeDouble, alias: CenterX
)
-
CenterY
(
type: esriFieldTypeDouble, alias: CenterY
)
-
ZOrder
(
type: esriFieldTypeInteger, alias: ZOrder
)
-
Shape_Length
(
type: esriFieldTypeDouble, alias: Shape_Length
)
-
Shape_Area
(
type: esriFieldTypeDouble, alias: Shape_Area
)
-
DateBegin
(
type: esriFieldTypeDate, alias: DateBegin, length: 8
)
-
DateEnd
(
type: esriFieldTypeDate, alias: DateEnd, length: 8
)
-
DateIntBegin
(
type: esriFieldTypeSmallInteger, alias: DateIntBegin
)
-
DateIntEnd
(
type: esriFieldTypeSmallInteger, alias: DateIntEnd
)
Default Mosaic Method: Northwest
Allowed Mosaic Methods: NorthWest,Center,ByAttribute,Nadir,Viewpoint,None
SortField:
SortValue: null
Mosaic Operator: First
Default Compression Quality: 87
Default Resampling Method: Bilinear
Max Record Count: 1000
Max Image Height: 4100
Max Image Width: 15000
Max Download Image Count: 20
Max Mosaic Image Count: 44
Allow Raster Function: true
Allow Copy: true
Allow Analysis: true
Allow Compute TiePoints: false
Supports Statistics: true
Supports Advanced Queries: true
Use StandardizedQueries: true
Raster Type Infos:
Name: Raster Dataset
Description: Supports all ArcGIS Raster Datasets
Help:
Has Raster Attribute Table: false
Edit Fields Info: null
Ownership Based AccessControl For Rasters: null
Child Resources:
Info
Histograms
Statistics
Key Properties
Legend
Raster Function Infos
Supported Operations:
Export Image
Query
Identify
Compute Histograms
Compute Statistics Histograms
Get Samples
Compute Class Statistics
Query GPS Info
Find Images
Image to Map
Map to Image
Measure from Image
Image to Map Multiray
Query Boundary
Compute Pixel Location
Compute Angles
Validate
Project