View In:
ArcGIS JavaScript
ArcGIS Online Map Viewer
ArcGIS Earth
Service Description: Maine Statewide Orthoimagery Project - All imagery was collected during the 2017 Spring flying season during leaf-off conditions for deciduous vegetation in the State of Maine. The sun angle was at 30-degrees or greater, and streams were within their normal banks. During the flight planning and acquisition, a significant effort was made to limit clouds, snow, fog, haze, smoke, or other ground obscuring conditions in the imagery. In no case does the maximum cloud cover exceed 5% per image. Within the immediate areas of power plants, factories, or controlled agricultural burns some steam or smoke and/or shadows may be visible on imagery. Deliverables are: One set of 4-band stacked digital orthoimagery at 0.075 meter (3-inch) pixel resolution for each tile in GeoTIFF format with TIFF world files, Shapefile of flightlines with acquisition dates in ESRI format, Shapefile of control points in ESRI format, Shapefile of tile index in ESRI format, Shapefile of seamlines in ESRI format, FGDC Compliant Metadata for Orthoimagery Product Additional deliverables include two MrSID (Multi resolution Seamless Image Database) files covering Portland and Scarborough area at an 18:1 compression ratio.
Name: Regional/orthoRegional2017
Description: Maine Statewide Orthoimagery Project - All imagery was collected during the 2017 Spring flying season during leaf-off conditions for deciduous vegetation in the State of Maine. The sun angle was at 30-degrees or greater, and streams were within their normal banks. During the flight planning and acquisition, a significant effort was made to limit clouds, snow, fog, haze, smoke, or other ground obscuring conditions in the imagery. In no case does the maximum cloud cover exceed 5% per image. Within the immediate areas of power plants, factories, or controlled agricultural burns some steam or smoke and/or shadows may be visible on imagery. Deliverables are: One set of 4-band stacked digital orthoimagery at 0.075 meter (3-inch) pixel resolution for each tile in GeoTIFF format with TIFF world files, Shapefile of flightlines with acquisition dates in ESRI format, Shapefile of control points in ESRI format, Shapefile of tile index in ESRI format, Shapefile of seamlines in ESRI format, FGDC Compliant Metadata for Orthoimagery Product Additional deliverables include two MrSID (Multi resolution Seamless Image Database) files covering Portland and Scarborough area at an 18:1 compression ratio.
Single Fused Map Cache: false
Extent:
XMin: 348375.0
YMin: 4799125.0
XMax: 412875.0
YMax: 4852000.0
Spatial Reference: 26919
(26919)
LatestVCSWkid(0)
Initial Extent:
XMin: 348375.0
YMin: 4799125.0
XMax: 412875.0
YMax: 4852000.0
Spatial Reference: 26919
(26919)
LatestVCSWkid(0)
Full Extent:
XMin: 348375.0
YMin: 4799125.0
XMax: 412875.0
YMax: 4852000.0
Spatial Reference: 26919
(26919)
LatestVCSWkid(0)
Time Info:
Start Time Field: DateBegin
End Time Field: DateEnd
Time Extent:
[2017/05/04 00:00:00 UTC, 2017/05/04 00:00:00 UTC]
Time Reference:
N/A
Pixel Size X: 0.075
Pixel Size Y: 0.075
Band Count: 4
Pixel Type: U8
RasterFunction Infos: {"rasterFunctionInfos": [{
"name": "None",
"description": "Make a Raster or Raster Dataset into a Function Raster Dataset.",
"help": ""
}]}
Mensuration Capabilities: None
Inspection Capabilities:
Has Histograms: true
Has Colormap: false
Has Multi Dimensions : false
Rendering Rule:
Min Scale: 0
Max Scale: 0
Resampling: false
Copyright Text: Maine GeoLibrary
Service Data Type: esriImageServiceDataTypeProcessed
Min Values: 3, 4, 4, 2
Max Values: 219, 219, 212, 202
Mean Values: 90.44075802445276, 91.68501287436551, 72.5645792952919, 97.58921963724414
Standard Deviation Values: 26.381264581199602, 21.12701620696028, 17.514769535790915, 33.02329480612146
Object ID Field: OBJECTID
Fields:
-
OBJECTID
(
type: esriFieldTypeOID, alias: OBJECTID
)
-
Shape
(
type: esriFieldTypeGeometry, alias: Shape
)
-
Name
(
type: esriFieldTypeString, alias: Name, length: 200
)
-
MinPS
(
type: esriFieldTypeDouble, alias: MinPS
)
-
MaxPS
(
type: esriFieldTypeDouble, alias: MaxPS
)
-
LowPS
(
type: esriFieldTypeDouble, alias: LowPS
)
-
HighPS
(
type: esriFieldTypeDouble, alias: HighPS
)
-
Category
(
type: esriFieldTypeInteger, alias: Category
, Coded Values:
[0: Unknown]
, [1: Primary]
, [2: Overview]
, ...6 more...
)
-
Tag
(
type: esriFieldTypeString, alias: Tag, length: 100
)
-
GroupName
(
type: esriFieldTypeString, alias: GroupName, length: 100
)
-
ProductName
(
type: esriFieldTypeString, alias: ProductName, length: 100
)
-
CenterX
(
type: esriFieldTypeDouble, alias: CenterX
)
-
CenterY
(
type: esriFieldTypeDouble, alias: CenterY
)
-
ZOrder
(
type: esriFieldTypeInteger, alias: ZOrder
)
-
Shape_Length
(
type: esriFieldTypeDouble, alias: Shape_Length
)
-
Shape_Area
(
type: esriFieldTypeDouble, alias: Shape_Area
)
-
DateBegin
(
type: esriFieldTypeDate, alias: DateBegin, length: 8
)
-
DateEnd
(
type: esriFieldTypeDate, alias: DateEnd, length: 8
)
-
DateIntBegin
(
type: esriFieldTypeSmallInteger, alias: DateIntBegin
)
-
DateIntEnd
(
type: esriFieldTypeSmallInteger, alias: DateIntEnd
)
Default Mosaic Method: Northwest
Allowed Mosaic Methods: NorthWest,Center,ByAttribute,Nadir,Viewpoint,None
SortField:
SortValue: null
Mosaic Operator: First
Default Compression Quality: 87
Default Resampling Method: Bilinear
Max Record Count: 1000
Max Image Height: 4100
Max Image Width: 15000
Max Download Image Count: 20
Max Mosaic Image Count: 20
Allow Raster Function: true
Allow Copy: true
Allow Analysis: true
Allow Compute TiePoints: false
Supports Statistics: true
Supports Advanced Queries: true
Use StandardizedQueries: true
Raster Type Infos:
Name: Raster Dataset
Description: Supports all ArcGIS Raster Datasets
Help:
Has Raster Attribute Table: false
Edit Fields Info: null
Ownership Based AccessControl For Rasters: null
Child Resources:
Info
Histograms
Statistics
Key Properties
Legend
Raster Function Infos
Supported Operations:
Export Image
Query
Identify
Download Rasters
Get Image Url
Compute Histograms
Compute Statistics Histograms
Get Samples
Compute Class Statistics
Query GPS Info
Find Images
Image to Map
Map to Image
Measure from Image
Image to Map Multiray
Query Boundary
Compute Pixel Location
Compute Angles
Validate
Project