View In:
ArcGIS JavaScript
ArcGIS Online Map Viewer
ArcGIS Earth
Service Description: Maine GeoLibrary Orthoimagery Project. The Maine GeoLibrary Board has developed a statewide rotating orthoimagery acquisition program for Maine to facilitate state, regional and local government GIS base mapping in an efficient and cost-effective program. The State of Maine will use digital orthoimagery for the development of various base map products in a computerized GIS that will support the needs of the state and multiple stakeholders through applications, such as, multi-jurisdictional homeland security mapping applications, state and county emergency management applications, regional and local planning, state and local public safety applications, economic development and other GIS business objectives.
Name: Regional/orthoRegional2021
Description: Maine GeoLibrary Orthoimagery Project. The Maine GeoLibrary Board has developed a statewide rotating orthoimagery acquisition program for Maine to facilitate state, regional and local government GIS base mapping in an efficient and cost-effective program. The State of Maine will use digital orthoimagery for the development of various base map products in a computerized GIS that will support the needs of the state and multiple stakeholders through applications, such as, multi-jurisdictional homeland security mapping applications, state and county emergency management applications, regional and local planning, state and local public safety applications, economic development and other GIS business objectives.
Single Fused Map Cache: false
Extent:
XMin: 373500.0
YMin: 4820750.0
XMax: 406875.0
YMax: 4859000.0
Spatial Reference: 102388
(6348)
LatestVCSWkid(0)
Initial Extent:
XMin: 373500.0
YMin: 4820750.0
XMax: 406875.0
YMax: 4859000.0
Spatial Reference: 102388
(6348)
LatestVCSWkid(0)
Full Extent:
XMin: 373500.0
YMin: 4820750.0
XMax: 406875.0
YMax: 4859000.0
Spatial Reference: 102388
(6348)
LatestVCSWkid(0)
Pixel Size X: 0.075
Pixel Size Y: 0.075
Band Count: 4
Pixel Type: U8
RasterFunction Infos: {"rasterFunctionInfos": [{
"name": "None",
"description": "",
"help": ""
}]}
Mensuration Capabilities: None
Inspection Capabilities:
Has Histograms: true
Has Colormap: false
Has Multi Dimensions : false
Rendering Rule:
Min Scale: 0
Max Scale: 0
Resampling: false
Copyright Text: Maine GeoLibrary
Service Data Type: esriImageServiceDataTypeProcessed
Min Values: 0, 0, 0, 0
Max Values: 255, 255, 255, 255
Mean Values: 82.11585830749303, 83.10315626282369, 61.74139500380297, 122.1253790662832
Standard Deviation Values: 43.41306852312114, 41.4933895130588, 34.87055619561561, 61.88618414078098
Object ID Field: OBJECTID
Fields:
-
OBJECTID
(
type: esriFieldTypeOID, alias: OBJECTID
)
-
Shape
(
type: esriFieldTypeGeometry, alias: Shape
)
-
Name
(
type: esriFieldTypeString, alias: Name, length: 200
)
-
MinPS
(
type: esriFieldTypeDouble, alias: MinPS
)
-
MaxPS
(
type: esriFieldTypeDouble, alias: MaxPS
)
-
LowPS
(
type: esriFieldTypeDouble, alias: LowPS
)
-
HighPS
(
type: esriFieldTypeDouble, alias: HighPS
)
-
Category
(
type: esriFieldTypeInteger, alias: Category
, Coded Values:
[0: Unknown]
, [1: Primary]
, [2: Overview]
, ...6 more...
)
-
Tag
(
type: esriFieldTypeString, alias: Tag, length: 100
)
-
GroupName
(
type: esriFieldTypeString, alias: GroupName, length: 100
)
-
ProductName
(
type: esriFieldTypeString, alias: ProductName, length: 100
)
-
CenterX
(
type: esriFieldTypeDouble, alias: CenterX
)
-
CenterY
(
type: esriFieldTypeDouble, alias: CenterY
)
-
ZOrder
(
type: esriFieldTypeInteger, alias: ZOrder
)
-
Shape_Length
(
type: esriFieldTypeDouble, alias: Shape_Length
)
-
Shape_Area
(
type: esriFieldTypeDouble, alias: Shape_Area
)
-
DateBegin
(
type: esriFieldTypeDate, alias: DateBegin, length: 8
)
-
DateEnd
(
type: esriFieldTypeDate, alias: DateEnd, length: 8
)
-
DateIntBegin
(
type: esriFieldTypeSmallInteger, alias: DateIntBegin
)
-
DateIntEnd
(
type: esriFieldTypeSmallInteger, alias: DateIntEnd
)
Default Mosaic Method: Northwest
Allowed Mosaic Methods: NorthWest,Center,ByAttribute,Nadir,Viewpoint,None
SortField:
SortValue: null
Mosaic Operator: First
Default Compression Quality: 87
Default Resampling Method: Bilinear
Max Record Count: 1000
Max Image Height: 4100
Max Image Width: 15000
Max Download Image Count: 20
Max Mosaic Image Count: 20
Allow Raster Function: true
Allow Copy: true
Allow Analysis: true
Allow Compute TiePoints: false
Supports Statistics: true
Supports Advanced Queries: true
Use StandardizedQueries: true
Raster Type Infos:
Name: Raster Dataset
Description: Supports all ArcGIS Raster Datasets
Help:
Has Raster Attribute Table: false
Edit Fields Info: null
Ownership Based AccessControl For Rasters: null
Child Resources:
Info
Histograms
Statistics
Key Properties
Legend
Raster Function Infos
Supported Operations:
Export Image
Query
Identify
Download Rasters
Get Image Url
Compute Histograms
Compute Statistics Histograms
Get Samples
Compute Class Statistics
Query GPS Info
Find Images
Image to Map
Map to Image
Measure from Image
Image to Map Multiray
Query Boundary
Compute Pixel Location
Compute Angles
Validate
Project