View In:
ArcGIS JavaScript
ArcGIS Online Map Viewer
ArcGIS Earth
Service Description: MEDOQ are digital orthorectified aerial imagery in gray-scale with 1-meter ground resolution. They are derived from the original US Geological Survey Digital Orthophoto Quarter Quads but cover one full 7.5 minute quadrangle. MEDOQs are compressed using the Lizardtech MrSid software (http://www.lizardtech.com) and are referred to as MrSid format ( .sid ) imagery. The MEDOQs are suitable for applications at a scale of 1" = 1,000 ( 1:12,000 ).
Name: Regional/orthoRegionalDoq1996_1998
Description: MEDOQ are digital orthorectified aerial imagery in gray-scale with 1-meter ground resolution. They are derived from the original US Geological Survey Digital Orthophoto Quarter Quads but cover one full 7.5 minute quadrangle. MEDOQs are compressed using the Lizardtech MrSid software (http://www.lizardtech.com) and are referred to as MrSid format ( .sid ) imagery. The MEDOQs are suitable for applications at a scale of 1" = 1,000 ( 1:12,000 ).
Single Fused Map Cache: false
Extent:
XMin: 329509.4045720693
YMin: 4757646.166778924
XMax: 663430.4045720673
YMax: 5260763.166778921
Spatial Reference: 26919
(26919)
LatestVCSWkid(0)
Initial Extent:
XMin: 329509.4045720693
YMin: 4757646.166778924
XMax: 663430.4045720673
YMax: 5260763.166778921
Spatial Reference: 26919
(26919)
LatestVCSWkid(0)
Full Extent:
XMin: 329509.4045720693
YMin: 4757646.166778924
XMax: 663430.4045720673
YMax: 5260763.166778921
Spatial Reference: 26919
(26919)
LatestVCSWkid(0)
Time Info:
Start Time Field: DateBegin
End Time Field: DateEnd
Time Extent:
[1996/01/01 00:00:00 UTC, 1998/01/01 00:00:00 UTC]
Time Reference:
N/A
Pixel Size X: 0.9999999999999941
Pixel Size Y: 0.9999999999999944
Band Count: 1
Pixel Type: U8
RasterFunction Infos: {"rasterFunctionInfos": [{
"name": "None",
"description": "Make a Raster or Raster Dataset into a Function Raster Dataset.",
"help": ""
}]}
Mensuration Capabilities: None
Inspection Capabilities:
Has Histograms: true
Has Colormap: false
Has Multi Dimensions : false
Rendering Rule:
Min Scale: 0
Max Scale: 0
Resampling: false
Copyright Text: Credit should always be given to the data source and/or originator when the data is transferred or printed.
Service Data Type: esriImageServiceDataTypeProcessed
Min Values: 0.04935622317596566
Max Values: 254.95064377682402
Mean Values: 94.04137959060958
Standard Deviation Values: 25.62797734770865
Object ID Field: OBJECTID
Fields:
-
OBJECTID
(
type: esriFieldTypeOID, alias: OBJECTID
)
-
Shape
(
type: esriFieldTypeGeometry, alias: Shape
)
-
Name
(
type: esriFieldTypeString, alias: Name, length: 200
)
-
MinPS
(
type: esriFieldTypeDouble, alias: MinPS
)
-
MaxPS
(
type: esriFieldTypeDouble, alias: MaxPS
)
-
LowPS
(
type: esriFieldTypeDouble, alias: LowPS
)
-
HighPS
(
type: esriFieldTypeDouble, alias: HighPS
)
-
Category
(
type: esriFieldTypeInteger, alias: Category
, Coded Values:
[0: Unknown]
, [1: Primary]
, [2: Overview]
, ...6 more...
)
-
Tag
(
type: esriFieldTypeString, alias: Tag, length: 100
)
-
GroupName
(
type: esriFieldTypeString, alias: GroupName, length: 100
)
-
ProductName
(
type: esriFieldTypeString, alias: ProductName, length: 100
)
-
CenterX
(
type: esriFieldTypeDouble, alias: CenterX
)
-
CenterY
(
type: esriFieldTypeDouble, alias: CenterY
)
-
ZOrder
(
type: esriFieldTypeInteger, alias: ZOrder
)
-
Shape_Length
(
type: esriFieldTypeDouble, alias: Shape_Length
)
-
Shape_Area
(
type: esriFieldTypeDouble, alias: Shape_Area
)
-
DateBegin
(
type: esriFieldTypeDate, alias: DateBegin, length: 8
)
-
DateEnd
(
type: esriFieldTypeDate, alias: DateEnd, length: 8
)
-
DateIntBegin
(
type: esriFieldTypeSmallInteger, alias: DateIntBegin
)
-
DateIntEnd
(
type: esriFieldTypeSmallInteger, alias: DateIntEnd
)
Default Mosaic Method: Northwest
Allowed Mosaic Methods: NorthWest,Center,ByAttribute,Nadir,Viewpoint,None
SortField:
SortValue: null
Mosaic Operator: First
Default Compression Quality: 87
Default Resampling Method: Bilinear
Max Record Count: 1000
Max Image Height: 4100
Max Image Width: 15000
Max Download Image Count: 20
Max Mosaic Image Count: 24
Allow Raster Function: true
Allow Copy: true
Allow Analysis: true
Allow Compute TiePoints: false
Supports Statistics: true
Supports Advanced Queries: true
Use StandardizedQueries: true
Raster Type Infos:
Name: Raster Dataset
Description: Supports all ArcGIS Raster Datasets
Help:
Has Raster Attribute Table: false
Edit Fields Info: null
Ownership Based AccessControl For Rasters: null
Child Resources:
Info
Histograms
Statistics
Key Properties
Legend
Raster Function Infos
Supported Operations:
Export Image
Query
Identify
Download Rasters
Get Image Url
Compute Histograms
Compute Statistics Histograms
Get Samples
Compute Class Statistics
Query GPS Info
Find Images
Image to Map
Map to Image
Measure from Image
Image to Map Multiray
Query Boundary
Compute Pixel Location
Compute Angles
Validate
Project