View In:
ArcGIS JavaScript
ArcGIS Online Map Viewer
ArcGIS Earth
Service Description: This data set consists of 0.3-meter pixel resolution (approximately 1-foot), natural color orthoimages covering the urban area footprint. An orthoimage is remotely sensed image data in which displacement of features in the image caused by terrain relief and sensor orientation have been mathematically removed. Orthoimagery combines the image characteristics of a photograph with the geometric qualities of a map. The design accuracy is estimated not to exceed 3-meter diagonal RMSE (2.12m RMSE in X or Y). Each orthoimage provides imagery over a 1500-meter by 1500-meter block on the ground. There is no image overlap between adjacent files. The projected coordinate system is UTM with a NAD83 datum. The naming convention is based on the U. S. National Grid (USNG), taking the coordinates of the SW corner of the orthoimage. Task Order Number G09PD01896. USGS Contract Number 07CRCN0014. Nominal Acquisition Altitude (AGL) was 9600'. The geoid used to reduce satellite derived elevations to orthometric heights was Geoid 03. GPS coordinates are referenced to NAD83 Universal Transverse Mercator Zone 19. The maximum differential baseline length is 69373.00 meters. The mean baseline length is 25668.18 meters. Camera sensors calibration reports are included in the project report. Calibration flights are flown regularly.
Name: Regional/orthoRegionalMidcoast2009
Description: This data set consists of 0.3-meter pixel resolution (approximately 1-foot), natural color orthoimages covering the urban area footprint. An orthoimage is remotely sensed image data in which displacement of features in the image caused by terrain relief and sensor orientation have been mathematically removed. Orthoimagery combines the image characteristics of a photograph with the geometric qualities of a map. The design accuracy is estimated not to exceed 3-meter diagonal RMSE (2.12m RMSE in X or Y). Each orthoimage provides imagery over a 1500-meter by 1500-meter block on the ground. There is no image overlap between adjacent files. The projected coordinate system is UTM with a NAD83 datum. The naming convention is based on the U. S. National Grid (USNG), taking the coordinates of the SW corner of the orthoimage. Task Order Number G09PD01896. USGS Contract Number 07CRCN0014. Nominal Acquisition Altitude (AGL) was 9600'. The geoid used to reduce satellite derived elevations to orthometric heights was Geoid 03. GPS coordinates are referenced to NAD83 Universal Transverse Mercator Zone 19. The maximum differential baseline length is 69373.00 meters. The mean baseline length is 25668.18 meters. Camera sensors calibration reports are included in the project report. Calibration flights are flown regularly.
Single Fused Map Cache: false
Extent:
XMin: 377997.0
YMin: 4798497.0
XMax: 441003.0
YMax: 4873503.0
Spatial Reference: 26919
(26919)
LatestVCSWkid(0)
Initial Extent:
XMin: 377997.0
YMin: 4798497.0
XMax: 441003.0
YMax: 4873503.0
Spatial Reference: 26919
(26919)
LatestVCSWkid(0)
Full Extent:
XMin: 377997.0
YMin: 4798497.0
XMax: 441003.0
YMax: 4873503.0
Spatial Reference: 26919
(26919)
LatestVCSWkid(0)
Time Info:
Start Time Field: DateBegin
End Time Field: DateEnd
Time Extent:
[2009/11/08 00:00:00 UTC, 2009/11/17 00:00:00 UTC]
Time Reference:
N/A
Pixel Size X: 0.3
Pixel Size Y: 0.3
Band Count: 4
Pixel Type: U8
RasterFunction Infos: {"rasterFunctionInfos": [{
"name": "None",
"description": "Make a Raster or Raster Dataset into a Function Raster Dataset.",
"help": ""
}]}
Mensuration Capabilities: None
Inspection Capabilities:
Has Histograms: false
Has Colormap: false
Has Multi Dimensions : false
Rendering Rule:
Min Scale: 0
Max Scale: 0
Resampling: false
Copyright Text: Photo Science, Inc. in combination with JWSewall.
Service Data Type: esriImageServiceDataTypeProcessed
Min Values: N/A
Max Values: N/A
Mean Values: N/A
Standard Deviation Values: N/A
Object ID Field: OBJECTID
Fields:
-
OBJECTID
(
type: esriFieldTypeOID, alias: OBJECTID
)
-
Shape
(
type: esriFieldTypeGeometry, alias: Shape
)
-
Name
(
type: esriFieldTypeString, alias: Name, length: 200
)
-
MinPS
(
type: esriFieldTypeDouble, alias: MinPS
)
-
MaxPS
(
type: esriFieldTypeDouble, alias: MaxPS
)
-
LowPS
(
type: esriFieldTypeDouble, alias: LowPS
)
-
HighPS
(
type: esriFieldTypeDouble, alias: HighPS
)
-
Category
(
type: esriFieldTypeInteger, alias: Category
, Coded Values:
[0: Unknown]
, [1: Primary]
, [2: Overview]
, ...6 more...
)
-
Tag
(
type: esriFieldTypeString, alias: Tag, length: 100
)
-
GroupName
(
type: esriFieldTypeString, alias: GroupName, length: 100
)
-
ProductName
(
type: esriFieldTypeString, alias: ProductName, length: 100
)
-
CenterX
(
type: esriFieldTypeDouble, alias: CenterX
)
-
CenterY
(
type: esriFieldTypeDouble, alias: CenterY
)
-
ZOrder
(
type: esriFieldTypeInteger, alias: ZOrder
)
-
Shape_Length
(
type: esriFieldTypeDouble, alias: Shape_Length
)
-
Shape_Area
(
type: esriFieldTypeDouble, alias: Shape_Area
)
-
DateBegin
(
type: esriFieldTypeDate, alias: DateBegin, length: 8
)
-
DateEnd
(
type: esriFieldTypeDate, alias: DateEnd, length: 8
)
-
DateIntBegin
(
type: esriFieldTypeSmallInteger, alias: DateIntBegin
)
-
DateIntEnd
(
type: esriFieldTypeSmallInteger, alias: DateIntEnd
)
Default Mosaic Method: Northwest
Allowed Mosaic Methods: NorthWest,Center,ByAttribute,Nadir,Viewpoint,None
SortField:
SortValue: null
Mosaic Operator: First
Default Compression Quality: 87
Default Resampling Method: Bilinear
Max Record Count: 1000
Max Image Height: 4100
Max Image Width: 15000
Max Download Image Count: 20
Max Mosaic Image Count: 44
Allow Raster Function: true
Allow Copy: true
Allow Analysis: true
Allow Compute TiePoints: false
Supports Statistics: true
Supports Advanced Queries: true
Use StandardizedQueries: true
Raster Type Infos:
Name: Raster Dataset
Description: Supports all ArcGIS Raster Datasets
Help:
Has Raster Attribute Table: false
Edit Fields Info: null
Ownership Based AccessControl For Rasters: null
Child Resources:
Info
Statistics
Key Properties
Legend
Raster Function Infos
Supported Operations:
Export Image
Query
Identify
Compute Histograms
Compute Statistics Histograms
Get Samples
Compute Class Statistics
Query GPS Info
Find Images
Image to Map
Map to Image
Measure from Image
Image to Map Multiray
Query Boundary
Compute Pixel Location
Compute Angles
Validate
Project