View In:
ArcGIS JavaScript
ArcGIS Online Map Viewer
ArcGIS Earth
Service Description: These data are panchromatic satellite data from the French SPOT-5 satellite. They represent a black-and-white "picture" of Earth from the satellite using 5-meter pixels (5m x 5m squares) as the minimum unit for imaging. The collection dates are mostly during the leaf-on season in 2004. Two scenes are from winter collects and snow/ice can be seen. This dataset was created through orthorectification of SPOT imagery using USGS Digital Orthophoto Quadrangles and Maine DEMs in ERDAS OrthoBASE 8.7. The orthorectified imagery was then warped using Space Imaging's proprietary Autowarp software. Autowarp computes tie points between two images based on correlation between similar points in the images and then applies a locally varying warp based on the tiepoints. The program was given an initial set of ground control points to create a coarse quadratic warp which was then refined through the addition of more points selected by the program. This work was done by Space Imaging and Sanborn staff. Certain high-elevation areas were further orthorectified by i-cubed to reduce horizontal error. Color balancing for the mosaic was done using GIMP image processing software by Maine DEP GIS staff. Note that balancing was done to enhance vegetated areas. In most cases, this means loss of contrast in urban areas. The raw data are much darker, but would provide more detail in urban areas than these processed data (at the expense of loss of contrast in vegetated areas). These data are part of the MELCD 2004 landcover and impervious mapping project for Maine. The data are LICENSED to the following entities: -Federal Government organizations when working with Maine on joint projects -All State Government departments and agencies within Maine -Regional county and local governments within Maine -K-12 schools, State Colleges and Universities within Maine. These data were the base imagery for the MELCD 2004 project. They were merged with LandSat TM data to create sharpened multispectral data for landcover mapping.
Name: Regional/orthoRegionalSpot2004
Description: These data are panchromatic satellite data from the French SPOT-5 satellite. They represent a black-and-white "picture" of Earth from the satellite using 5-meter pixels (5m x 5m squares) as the minimum unit for imaging. The collection dates are mostly during the leaf-on season in 2004. Two scenes are from winter collects and snow/ice can be seen. This dataset was created through orthorectification of SPOT imagery using USGS Digital Orthophoto Quadrangles and Maine DEMs in ERDAS OrthoBASE 8.7. The orthorectified imagery was then warped using Space Imaging's proprietary Autowarp software. Autowarp computes tie points between two images based on correlation between similar points in the images and then applies a locally varying warp based on the tiepoints. The program was given an initial set of ground control points to create a coarse quadratic warp which was then refined through the addition of more points selected by the program. This work was done by Space Imaging and Sanborn staff. Certain high-elevation areas were further orthorectified by i-cubed to reduce horizontal error. Color balancing for the mosaic was done using GIMP image processing software by Maine DEP GIS staff. Note that balancing was done to enhance vegetated areas. In most cases, this means loss of contrast in urban areas. The raw data are much darker, but would provide more detail in urban areas than these processed data (at the expense of loss of contrast in vegetated areas). These data are part of the MELCD 2004 landcover and impervious mapping project for Maine. The data are LICENSED to the following entities: -Federal Government organizations when working with Maine on joint projects -All State Government departments and agencies within Maine -Regional county and local governments within Maine -K-12 schools, State Colleges and Universities within Maine. These data were the base imagery for the MELCD 2004 project. They were merged with LandSat TM data to create sharpened multispectral data for landcover mapping.
Single Fused Map Cache: false
Extent:
XMin: 331051.5
YMin: 4761082.5
XMax: 670991.5
YMax: 5261862.5
Spatial Reference: 26919
(26919)
LatestVCSWkid(0)
Initial Extent:
XMin: 331051.5
YMin: 4761082.5
XMax: 670991.5
YMax: 5261862.5
Spatial Reference: 26919
(26919)
LatestVCSWkid(0)
Full Extent:
XMin: 331051.5
YMin: 4761082.5
XMax: 670991.5
YMax: 5261862.5
Spatial Reference: 26919
(26919)
LatestVCSWkid(0)
Time Info:
Start Time Field: DateBegin
End Time Field: DateEnd
Time Extent:
[2004/01/01 00:00:00 UTC, 2004/12/31 00:00:00 UTC]
Time Reference:
N/A
Pixel Size X: 5.0
Pixel Size Y: 5.0
Band Count: 1
Pixel Type: U8
RasterFunction Infos: {"rasterFunctionInfos": [{
"name": "None",
"description": "Make a Raster or Raster Dataset into a Function Raster Dataset.",
"help": ""
}]}
Mensuration Capabilities: None
Inspection Capabilities:
Has Histograms: true
Has Colormap: false
Has Multi Dimensions : false
Rendering Rule:
Min Scale: 0
Max Scale: 0
Resampling: false
Copyright Text: SPOT Image, Corporation, Space Imaging, Sanborn, State of Maine.
Service Data Type: esriImageServiceDataTypeProcessed
Min Values: 0
Max Values: 255
Mean Values: 83.40296752932183
Standard Deviation Values: 62.26850445696878
Object ID Field: OBJECTID
Fields:
-
OBJECTID
(
type: esriFieldTypeOID, alias: OBJECTID
)
-
Shape
(
type: esriFieldTypeGeometry, alias: Shape
)
-
Name
(
type: esriFieldTypeString, alias: Name, length: 200
)
-
MinPS
(
type: esriFieldTypeDouble, alias: MinPS
)
-
MaxPS
(
type: esriFieldTypeDouble, alias: MaxPS
)
-
LowPS
(
type: esriFieldTypeDouble, alias: LowPS
)
-
HighPS
(
type: esriFieldTypeDouble, alias: HighPS
)
-
Category
(
type: esriFieldTypeInteger, alias: Category
, Coded Values:
[0: Unknown]
, [1: Primary]
, [2: Overview]
, ...6 more...
)
-
Tag
(
type: esriFieldTypeString, alias: Tag, length: 100
)
-
GroupName
(
type: esriFieldTypeString, alias: GroupName, length: 100
)
-
ProductName
(
type: esriFieldTypeString, alias: ProductName, length: 100
)
-
CenterX
(
type: esriFieldTypeDouble, alias: CenterX
)
-
CenterY
(
type: esriFieldTypeDouble, alias: CenterY
)
-
ZOrder
(
type: esriFieldTypeInteger, alias: ZOrder
)
-
Shape_Length
(
type: esriFieldTypeDouble, alias: Shape_Length
)
-
Shape_Area
(
type: esriFieldTypeDouble, alias: Shape_Area
)
-
DateBegin
(
type: esriFieldTypeDate, alias: DateBegin, length: 8
)
-
DateEnd
(
type: esriFieldTypeDate, alias: DateEnd, length: 8
)
-
DateIntBegin
(
type: esriFieldTypeSmallInteger, alias: DateIntBegin
)
-
DateIntEnd
(
type: esriFieldTypeSmallInteger, alias: DateIntEnd
)
Default Mosaic Method: Northwest
Allowed Mosaic Methods: NorthWest,Center,ByAttribute,Nadir,Viewpoint,None
SortField:
SortValue: null
Mosaic Operator: First
Default Compression Quality: 87
Default Resampling Method: Bilinear
Max Record Count: 1000
Max Image Height: 4100
Max Image Width: 15000
Max Download Image Count: 20
Max Mosaic Image Count: 20
Allow Raster Function: true
Allow Copy: true
Allow Analysis: true
Allow Compute TiePoints: false
Supports Statistics: true
Supports Advanced Queries: true
Use StandardizedQueries: true
Raster Type Infos:
Name: Raster Dataset
Description: Supports all ArcGIS Raster Datasets
Help:
Has Raster Attribute Table: false
Edit Fields Info: null
Ownership Based AccessControl For Rasters: null
Child Resources:
Info
Histograms
Statistics
Key Properties
Legend
Raster Function Infos
Supported Operations:
Export Image
Query
Identify
Compute Histograms
Compute Statistics Histograms
Get Samples
Compute Class Statistics
Query GPS Info
Find Images
Image to Map
Map to Image
Measure from Image
Image to Map Multiray
Query Boundary
Compute Pixel Location
Compute Angles
Validate
Project