View In:
ArcGIS JavaScript
ArcGIS Online Map Viewer
ArcGIS Earth
Service Description: This layer includes the 15', 1:62500 USGS topographic maps for Maine from the late 1800s and early 1900s, ranging from 1891-1935. There are 83 quads in this layer, covering 43% of the state, mostly southern and central Maine and Down East Maine. The maps were scanned from paper copies, georeferenced, and then had the collars clippled and the edges mosaicked. Most maps were scanned originally at 600dpi, either by MEGIS or USGS. All georeferencing of these was done by USGS. A few quads were not either in the collection of Maine or USGS, and in those cases quarter-quads were downloaded from the UNH library web site, those quarters were then georeferenced separately and if needed, rubber-sheeted along seamlines to make the quad. Most of these quads do not indicate land cover (green areas). Note that the source paper maps vary considerably in their paper color, ink contrast, fading, and so forth. The user will see great variation between quads which cannot be made more consistent at this time.
Name: Topo/topoUsgs24k1910
Description: This layer includes the 15', 1:62500 USGS topographic maps for Maine from the late 1800s and early 1900s, ranging from 1891-1935. There are 83 quads in this layer, covering 43% of the state, mostly southern and central Maine and Down East Maine. The maps were scanned from paper copies, georeferenced, and then had the collars clippled and the edges mosaicked. Most maps were scanned originally at 600dpi, either by MEGIS or USGS. All georeferencing of these was done by USGS. A few quads were not either in the collection of Maine or USGS, and in those cases quarter-quads were downloaded from the UNH library web site, those quarters were then georeferenced separately and if needed, rubber-sheeted along seamlines to make the quad. Most of these quads do not indicate land cover (green areas). Note that the source paper maps vary considerably in their paper color, ink contrast, fading, and so forth. The user will see great variation between quads which cannot be made more consistent at this time.
Single Fused Map Cache: false
Extent:
XMin: 319644.0
YMin: 4761920.0
XMax: 664959.0
YMax: 5067370.0
Spatial Reference: 26919
(26919)
LatestVCSWkid(0)
Initial Extent:
XMin: 319644.0
YMin: 4761920.0
XMax: 664959.0
YMax: 5067370.0
Spatial Reference: 26919
(26919)
LatestVCSWkid(0)
Full Extent:
XMin: 319644.0
YMin: 4761920.0
XMax: 664959.0
YMax: 5067370.0
Spatial Reference: 26919
(26919)
LatestVCSWkid(0)
Pixel Size X: 5.0
Pixel Size Y: 5.0
Band Count: 3
Pixel Type: U8
RasterFunction Infos: {"rasterFunctionInfos": [{
"name": "None",
"description": "Make a Raster or Raster Dataset into a Function Raster Dataset.",
"help": ""
}]}
Mensuration Capabilities: Basic
Inspection Capabilities:
Has Histograms: true
Has Colormap: false
Has Multi Dimensions : false
Rendering Rule:
Min Scale: 0
Max Scale: 0
Resampling: false
Copyright Text: USGS
Service Data Type: esriImageServiceDataTypeRGB
Min Values: 0, 0, 0
Max Values: 255, 255, 255
Mean Values: 207.46671022829437, 187.1995534312843, 139.8976585220631
Standard Deviation Values: 46.16978267279149, 46.23502782482752, 51.12851248346724
Object ID Field: OBJECTID
Fields:
-
OBJECTID
(
type: esriFieldTypeOID, alias: OBJECTID
)
-
Shape
(
type: esriFieldTypeGeometry, alias: Shape
)
-
Name
(
type: esriFieldTypeString, alias: Name, length: 200
)
-
MinPS
(
type: esriFieldTypeDouble, alias: MinPS
)
-
MaxPS
(
type: esriFieldTypeDouble, alias: MaxPS
)
-
LowPS
(
type: esriFieldTypeDouble, alias: LowPS
)
-
HighPS
(
type: esriFieldTypeDouble, alias: HighPS
)
-
Category
(
type: esriFieldTypeInteger, alias: Category
, Coded Values:
[0: Unknown]
, [1: Primary]
, [2: Overview]
, ...6 more...
)
-
Tag
(
type: esriFieldTypeString, alias: Tag, length: 100
)
-
GroupName
(
type: esriFieldTypeString, alias: GroupName, length: 100
)
-
ProductName
(
type: esriFieldTypeString, alias: ProductName, length: 100
)
-
CenterX
(
type: esriFieldTypeDouble, alias: CenterX
)
-
CenterY
(
type: esriFieldTypeDouble, alias: CenterY
)
-
ZOrder
(
type: esriFieldTypeInteger, alias: ZOrder
)
-
Shape_Length
(
type: esriFieldTypeDouble, alias: Shape_Length
)
-
Shape_Area
(
type: esriFieldTypeDouble, alias: Shape_Area
)
-
Date
(
type: esriFieldTypeDate, alias: Date, length: 8
)
-
DateInt
(
type: esriFieldTypeSmallInteger, alias: DateInt
)
Default Mosaic Method: Northwest
Allowed Mosaic Methods: NorthWest,Center,LockRaster,ByAttribute,Nadir,Viewpoint,Seamline,None
SortField:
SortValue: null
Mosaic Operator: First
Default Compression Quality: 75
Default Resampling Method: Bilinear
Max Record Count: 1000
Max Image Height: 4100
Max Image Width: 15000
Max Download Image Count: 20
Max Mosaic Image Count: 44
Allow Raster Function: true
Allow Copy: true
Allow Analysis: true
Allow Compute TiePoints: false
Supports Statistics: true
Supports Advanced Queries: true
Use StandardizedQueries: true
Raster Type Infos:
Name: Raster Dataset
Description: Supports all ArcGIS Raster Datasets
Help:
Has Raster Attribute Table: false
Edit Fields Info: null
Ownership Based AccessControl For Rasters: null
Child Resources:
Info
Histograms
Statistics
Key Properties
Legend
Raster Function Infos
Supported Operations:
Export Image
Query
Identify
Measure
Compute Histograms
Compute Statistics Histograms
Get Samples
Compute Class Statistics
Query GPS Info
Find Images
Image to Map
Map to Image
Measure from Image
Image to Map Multiray
Query Boundary
Compute Pixel Location
Compute Angles
Validate
Project