View In:
ArcGIS JavaScript
ArcGIS Online Map Viewer
ArcGIS Earth
Service Description: Maine GeoLibrary LiDAR Project. Geographic Extent: Central Maine, covering approximately 2,882 total square miles. Dataset Description: The Maine and Massachusetts 2015 QL1 and QL2 LiDAR project called for the Planning, Acquisition, processing and derivative products of LIDAR data to be collected at an aggregate nominal pulse spacing (NPS) of 0.7 meters for the 2,882 sqmi of the QL2 Maine AOI. Project specifications are based on the U.S. Geological Survey National Geospatial Program Base LIDAR Specification, Version 1.2. The data was developed based on a horizontal projection/datum of NAD83 (2011) UTM Zone 19, meters and vertical datum of NAVD1988 (GEOID12A), meters. LiDAR data was delivered in RAW flight line swath format, processed to create Classified LAS 1.4 Files formatted to 3,585 individual 1,500 meter X 1,500 meter tiles. Corresponding 1-meter Intensity Image and 1-meter Bare Earth DEM tiles were created with the same 1,500 meter X 1,500 meter tile schema. Breaklines were produced in Esri shapefile format. Ground Conditions: LiDAR was partially collected in spring of 2015 and completed in winter 2015, while no snow was on the ground and rivers were at or below normal levels. In order to post process the LiDAR data to meet task order specifications, Quantum Spatial established a total of 286 Land Cover control points. These were used to calibrate the LIDAR to known ground locations established throughout the entire Maine UTM 19 QL2 project area (136 calibration control points and 150 QC checkpoints).
Name: Elevation/Maine_Elevation_DEM_2015
Description: Maine GeoLibrary LiDAR Project. Geographic Extent: Central Maine, covering approximately 2,882 total square miles. Dataset Description: The Maine and Massachusetts 2015 QL1 and QL2 LiDAR project called for the Planning, Acquisition, processing and derivative products of LIDAR data to be collected at an aggregate nominal pulse spacing (NPS) of 0.7 meters for the 2,882 sqmi of the QL2 Maine AOI. Project specifications are based on the U.S. Geological Survey National Geospatial Program Base LIDAR Specification, Version 1.2. The data was developed based on a horizontal projection/datum of NAD83 (2011) UTM Zone 19, meters and vertical datum of NAVD1988 (GEOID12A), meters. LiDAR data was delivered in RAW flight line swath format, processed to create Classified LAS 1.4 Files formatted to 3,585 individual 1,500 meter X 1,500 meter tiles. Corresponding 1-meter Intensity Image and 1-meter Bare Earth DEM tiles were created with the same 1,500 meter X 1,500 meter tile schema. Breaklines were produced in Esri shapefile format. Ground Conditions: LiDAR was partially collected in spring of 2015 and completed in winter 2015, while no snow was on the ground and rivers were at or below normal levels. In order to post process the LiDAR data to meet task order specifications, Quantum Spatial established a total of 286 Land Cover control points. These were used to calibrate the LIDAR to known ground locations established throughout the entire Maine UTM 19 QL2 project area (136 calibration control points and 150 QC checkpoints).
Single Fused Map Cache: false
Extent:
XMin: 409500.0
YMin: 4918500.0
XMax: 558000.0
YMax: 5022000.0
Spatial Reference: 26919
(26919)
VCSWkid(5703)
LatestVCSWkid(5703)
Initial Extent:
XMin: 409500.0
YMin: 4918500.0
XMax: 558000.0
YMax: 5022000.0
Spatial Reference: 26919
(26919)
VCSWkid(5703)
LatestVCSWkid(5703)
Full Extent:
XMin: 409500.0
YMin: 4918500.0
XMax: 558000.0
YMax: 5022000.0
Spatial Reference: 26919
(26919)
VCSWkid(5703)
LatestVCSWkid(5703)
Pixel Size X: 1.0
Pixel Size Y: 1.0
Band Count: 1
Pixel Type: F32
RasterFunction Infos: {"rasterFunctionInfos": [
{
"name": "None",
"description": "A No-Op Function.",
"help": ""
},
{
"name": "Aspect Function_2020831_104624_259",
"description": "A raster function template.",
"help": ""
},
{
"name": "Hillshade Function_2020831_104646_493",
"description": "A raster function template.",
"help": ""
},
{
"name": "Shaded Relief Function_2020831_10479_196",
"description": "A raster function template.",
"help": ""
},
{
"name": "Slope Function_2020831_104727_759",
"description": "A raster function template.",
"help": ""
}
]}
Mensuration Capabilities:
Inspection Capabilities:
Has Histograms: true
Has Colormap: false
Has Multi Dimensions : false
Rendering Rule:
Min Scale: 0
Max Scale: 0
Resampling: false
Copyright Text: Maine GeoLibrary, MaineGIS
Service Data Type: esriImageServiceDataTypeElevation
Min Values: 2.125670909881592
Max Values: 648.8311157226562
Mean Values: 128.72037081975935
Standard Deviation Values: 79.62703251003884
Object ID Field:
Fields:
None
Default Mosaic Method: Northwest
Allowed Mosaic Methods: NorthWest,Center,ByAttribute,Nadir,Viewpoint,None
SortField:
SortValue: null
Mosaic Operator: First
Default Compression Quality: 87
Default Resampling Method: Bilinear
Max Record Count: 1000
Max Image Height: 4100
Max Image Width: 15000
Max Download Image Count: 20
Max Mosaic Image Count: 20
Allow Raster Function: true
Allow Copy: true
Allow Analysis: true
Allow Compute TiePoints: false
Supports Statistics: false
Supports Advanced Queries: false
Use StandardizedQueries: true
Raster Type Infos:
Name: Raster Dataset
Description: Supports all ArcGIS Raster Datasets
Help:
Has Raster Attribute Table: false
Edit Fields Info: null
Ownership Based AccessControl For Rasters: null
Child Resources:
Info
Histograms
Statistics
Key Properties
Legend
Raster Function Infos
Supported Operations:
Export Image
Query
Identify
Download Rasters
Get Image Url
Compute Histograms
Compute Statistics Histograms
Get Samples
Compute Class Statistics
Query GPS Info
Find Images
Image to Map
Map to Image
Measure from Image
Image to Map Multiray
Query Boundary
Compute Pixel Location
Compute Angles
Validate
Project
Calculate Volume