View In:
ArcGIS JavaScript
ArcGIS Online Map Viewer
ArcGIS Earth
Service Description: Product: These are Digital Elevation Model (DEM) data for the Umbagog NH/ME 2016 LiDAR project. Class 2 (ground) lidar points in conjunction with the hydro breaklines were used to create a 1-meter hydro-flattened raster DEM. Geographic Extent: Partial coverage of six counties in New Hampshire and Maine, covering approximately 3,276 total square miles. Dataset Description: The Umbagog NH/ME 2016 LiDAR project called for the planning, acquisition, processing, and derivative products of LiDAR data to be collected at a nominal pulse spacing (NPS) of 0.7 meters for the New Hampshire, Maine, and FEMA R1 (MOD1) areas of interest. The White Mountain National Forest NH/ME areas of interest used LiDAR collected at 0.57 meters NPS, with the MOD2 WMNF addon collected at 0.35 NPS. Project specifications are based on the U.S. Geological Survey National Geospatial Program Base LiDAR Specification, Version 1.2. The data for counties in the AOI were developed based on a horizontal projection/datum of NAD83 (2011), UTM Zone 19, meters and vertical datum of NAVD88 (GEOID12B), meters. LiDAR data were delivered as flightline-extent unclassified LAS swaths, as processed Classified LAS 1.4 files formatted to 3,465 individual 1,500-meter x 1,500-meter tiles, along with 283 individual 750-meter x 750-meter tiles for the MOD2 WMNF addon area of interest, as tiled 1-meter intensity imagery in GeoTIFF format, and as tiled 1-meter hydro-flattened bare earth DEMs in GeoTIFF format; all tiled to the same schema. Continuous breaklines were produced in Esri file geodatabase format. Ground Conditions: LiDAR was collected from spring of 2016 to spring of 2018, while no snow was on the ground and rivers were at or below normal levels. In order to post process the LiDAR data to meet task order specifications and meet ASPRS vertical accuracy guidelines, Quantum Spatial, Inc. utilized a total of 68 ground control points that were used to calibrate the LiDAR to known ground locations established throughout the project area. An additional 165 independent accuracy checkpoints, 95 in Bare Earth and Urban landcovers (95 NVA points), 70 in Tall Weeds categories (70 VVA points), were used to assess the vertical accuracy of the data. These checkpoints were not used to calibrate or post process the data.
Name: Elevation/Maine_Elevation_DEM_2018
Description: Product: These are Digital Elevation Model (DEM) data for the Umbagog NH/ME 2016 LiDAR project. Class 2 (ground) lidar points in conjunction with the hydro breaklines were used to create a 1-meter hydro-flattened raster DEM. Geographic Extent: Partial coverage of six counties in New Hampshire and Maine, covering approximately 3,276 total square miles. Dataset Description: The Umbagog NH/ME 2016 LiDAR project called for the planning, acquisition, processing, and derivative products of LiDAR data to be collected at a nominal pulse spacing (NPS) of 0.7 meters for the New Hampshire, Maine, and FEMA R1 (MOD1) areas of interest. The White Mountain National Forest NH/ME areas of interest used LiDAR collected at 0.57 meters NPS, with the MOD2 WMNF addon collected at 0.35 NPS. Project specifications are based on the U.S. Geological Survey National Geospatial Program Base LiDAR Specification, Version 1.2. The data for counties in the AOI were developed based on a horizontal projection/datum of NAD83 (2011), UTM Zone 19, meters and vertical datum of NAVD88 (GEOID12B), meters. LiDAR data were delivered as flightline-extent unclassified LAS swaths, as processed Classified LAS 1.4 files formatted to 3,465 individual 1,500-meter x 1,500-meter tiles, along with 283 individual 750-meter x 750-meter tiles for the MOD2 WMNF addon area of interest, as tiled 1-meter intensity imagery in GeoTIFF format, and as tiled 1-meter hydro-flattened bare earth DEMs in GeoTIFF format; all tiled to the same schema. Continuous breaklines were produced in Esri file geodatabase format. Ground Conditions: LiDAR was collected from spring of 2016 to spring of 2018, while no snow was on the ground and rivers were at or below normal levels. In order to post process the LiDAR data to meet task order specifications and meet ASPRS vertical accuracy guidelines, Quantum Spatial, Inc. utilized a total of 68 ground control points that were used to calibrate the LiDAR to known ground locations established throughout the project area. An additional 165 independent accuracy checkpoints, 95 in Bare Earth and Urban landcovers (95 NVA points), 70 in Tall Weeds categories (70 VVA points), were used to assess the vertical accuracy of the data. These checkpoints were not used to calibrate or post process the data.
Single Fused Map Cache: false
Extent:
XMin: 336000.0
YMin: 4852500.0
XMax: 391500.0
YMax: 5032500.0
Spatial Reference: 102388
(6348)
VCSWkid(5703)
LatestVCSWkid(5703)
Initial Extent:
XMin: 336000.0
YMin: 4852500.0
XMax: 391500.0
YMax: 5032500.0
Spatial Reference: 102388
(6348)
VCSWkid(5703)
LatestVCSWkid(5703)
Full Extent:
XMin: 336000.0
YMin: 4852500.0
XMax: 391500.0
YMax: 5032500.0
Spatial Reference: 102388
(6348)
VCSWkid(5703)
LatestVCSWkid(5703)
Pixel Size X: 1.0
Pixel Size Y: 1.0
Band Count: 1
Pixel Type: F32
RasterFunction Infos: {"rasterFunctionInfos": [
{
"name": "None",
"description": "A No-Op Function.",
"help": ""
},
{
"name": "Aspect Function_2020831_104751_744",
"description": "A raster function template.",
"help": ""
},
{
"name": "Hillshade Function_2020831_10485_791",
"description": "A raster function template.",
"help": ""
},
{
"name": "Shaded Relief Function_2020831_104821_697",
"description": "A raster function template.",
"help": ""
},
{
"name": "Slope Function_2020831_104836_275",
"description": "A raster function template.",
"help": ""
}
]}
Mensuration Capabilities:
Inspection Capabilities:
Has Histograms: true
Has Colormap: false
Has Multi Dimensions : false
Rendering Rule:
Min Scale: 0
Max Scale: 0
Resampling: false
Copyright Text: USGS, Maine GeoLibrary
Service Data Type: esriImageServiceDataTypeElevation
Min Values: 116.50703430175781
Max Values: 1174.2115478515625
Mean Values: 548.2882160618415
Standard Deviation Values: 159.45801911641294
Object ID Field:
Fields:
None
Default Mosaic Method: Northwest
Allowed Mosaic Methods: NorthWest,Center,ByAttribute,Nadir,Viewpoint,None
SortField:
SortValue: null
Mosaic Operator: First
Default Compression Quality: 87
Default Resampling Method: Bilinear
Max Record Count: 1000
Max Image Height: 4100
Max Image Width: 15000
Max Download Image Count: 20
Max Mosaic Image Count: 44
Allow Raster Function: true
Allow Copy: true
Allow Analysis: true
Allow Compute TiePoints: false
Supports Statistics: false
Supports Advanced Queries: false
Use StandardizedQueries: true
Raster Type Infos:
Name: Raster Dataset
Description: Supports all ArcGIS Raster Datasets
Help:
Has Raster Attribute Table: false
Edit Fields Info: null
Ownership Based AccessControl For Rasters: null
Child Resources:
Info
Histograms
Statistics
Key Properties
Legend
Raster Function Infos
Supported Operations:
Export Image
Query
Identify
Download Rasters
Get Image Url
Compute Histograms
Compute Statistics Histograms
Get Samples
Compute Class Statistics
Query GPS Info
Find Images
Image to Map
Map to Image
Measure from Image
Image to Map Multiray
Query Boundary
Compute Pixel Location
Compute Angles
Validate
Project
Calculate Volume