View In:
ArcGIS JavaScript
ArcGIS Online Map Viewer
ArcGIS Earth
Service Description: Maine Land Cover Dataset (MELCD) is a land cover map for Maine primarily derived from Landsat Thematic Mapper 5 and 7 imagery, from the years 1999-2001. This imagery constitutes the basis for the National Land Cover Dataset (NLCD 2001) and the NOAA Coastal Change Analysis Program (C-CAP). This land cover map was refined to the State of Maine requirements using SPOT 5 panchromatic imagery from 2004. The Landsat imagery used was for three seasons: early spring (leaf-off), summer, and early fall (senescence) and was collected with a spatial resolution of 30 m. The SPOT 5 panchromatic imagery was collected at a spatial resolution of 5 m during the spring and summer months of 2004. The map was developed in two distinct stages, the first stage was the development of a state wide land cover data set consistent with the NOAAC-CAP land cover map. The second stage was: a) the update to 2004 conditions, b) a refinement of the classification system to Maine specific classes and, c) a refinement of the spatial boundaries to create a polygon map based on 5 m imagery.
Name: imageryBaseMapsEarthCover/earthCoverMelcd
Description: Maine Land Cover Dataset (MELCD) is a land cover map for Maine primarily derived from Landsat Thematic Mapper 5 and 7 imagery, from the years 1999-2001. This imagery constitutes the basis for the National Land Cover Dataset (NLCD 2001) and the NOAA Coastal Change Analysis Program (C-CAP). This land cover map was refined to the State of Maine requirements using SPOT 5 panchromatic imagery from 2004. The Landsat imagery used was for three seasons: early spring (leaf-off), summer, and early fall (senescence) and was collected with a spatial resolution of 30 m. The SPOT 5 panchromatic imagery was collected at a spatial resolution of 5 m during the spring and summer months of 2004. The map was developed in two distinct stages, the first stage was the development of a state wide land cover data set consistent with the NOAAC-CAP land cover map. The second stage was: a) the update to 2004 conditions, b) a refinement of the classification system to Maine specific classes and, c) a refinement of the spatial boundaries to create a polygon map based on 5 m imagery.
Single Fused Map Cache: false
Extent:
XMin: 330862.5
YMin: 4752672.5
XMax: 667597.5
YMax: 5256742.5
Spatial Reference: 26919
(26919)
LatestVCSWkid(0)
Initial Extent:
XMin: 330862.5
YMin: 4752672.5
XMax: 667597.5
YMax: 5256742.5
Spatial Reference: 26919
(26919)
LatestVCSWkid(0)
Full Extent:
XMin: 330862.5
YMin: 4752672.5
XMax: 667597.5
YMax: 5256742.5
Spatial Reference: 26919
(26919)
LatestVCSWkid(0)
Pixel Size X: 5.0
Pixel Size Y: 5.0
Band Count: 1
Pixel Type: U8
RasterFunction Infos: {"rasterFunctionInfos": [
{
"name": "None",
"description": "A No-Op Function.",
"help": ""
},
{
"name": "None",
"description": "A No-Op Function.",
"help": ""
}
]}
Mensuration Capabilities: None
Inspection Capabilities:
Has Histograms: false
Has Colormap: false
Has Multi Dimensions : false
Rendering Rule:
Min Scale: 0
Max Scale: 0
Resampling: false
Copyright Text: MaineGIS
Service Data Type: esriImageServiceDataTypeThematic
Min Values: N/A
Max Values: N/A
Mean Values: N/A
Standard Deviation Values: N/A
Object ID Field: OBJECTID
Fields:
-
OBJECTID
(
type: esriFieldTypeOID, alias: OBJECTID
)
-
Shape
(
type: esriFieldTypeGeometry, alias: Shape
)
-
Name
(
type: esriFieldTypeString, alias: Name, length: 200
)
-
MinPS
(
type: esriFieldTypeDouble, alias: MinPS
)
-
MaxPS
(
type: esriFieldTypeDouble, alias: MaxPS
)
-
LowPS
(
type: esriFieldTypeDouble, alias: LowPS
)
-
HighPS
(
type: esriFieldTypeDouble, alias: HighPS
)
-
Category
(
type: esriFieldTypeInteger, alias: Category
, Coded Values:
[0: Unknown]
, [1: Primary]
, [2: Overview]
, ...6 more...
)
-
Tag
(
type: esriFieldTypeString, alias: Tag, length: 100
)
-
GroupName
(
type: esriFieldTypeString, alias: GroupName, length: 100
)
-
ProductName
(
type: esriFieldTypeString, alias: ProductName, length: 100
)
-
CenterX
(
type: esriFieldTypeDouble, alias: CenterX
)
-
CenterY
(
type: esriFieldTypeDouble, alias: CenterY
)
-
ZOrder
(
type: esriFieldTypeInteger, alias: ZOrder
)
Default Mosaic Method: Northwest
Allowed Mosaic Methods: NorthWest,Center,ByAttribute,Nadir,Viewpoint,None
SortField:
SortValue: null
Mosaic Operator: First
Default Compression Quality: 87
Default Resampling Method: Nearest
Max Record Count: 1000
Max Image Height: 67347
Max Image Width: 100814
Max Download Image Count: 20
Max Mosaic Image Count: 20
Allow Raster Function: true
Allow Copy: true
Allow Analysis: true
Allow Compute TiePoints: false
Supports Statistics: true
Supports Advanced Queries: true
Use StandardizedQueries: true
Raster Type Infos:
Name: Raster Dataset
Description: Supports all ArcGIS Raster Datasets
Help:
Has Raster Attribute Table: true
Edit Fields Info: null
Ownership Based AccessControl For Rasters: null
Child Resources:
Info
Raster Attribute Table
Statistics
Key Properties
Legend
Raster Function Infos
Supported Operations:
Export Image
Query
Identify
Download Rasters
Get Image Url
Compute Histograms
Compute Statistics Histograms
Get Samples
Compute Class Statistics
Query GPS Info
Find Images
Image to Map
Map to Image
Measure from Image
Image to Map Multiray
Query Boundary
Compute Pixel Location
Compute Angles
Validate
Project