View In:
  ArcGIS JavaScript
  ArcGIS Online Map Viewer
  ArcGIS Earth
Service Description:  Ortho-rectified Digital Images (ODIs) collected and processed by J. W. Sewall Co. These digital images result from ortho-rectification and mosaicking of digital color aerial photographs. Digital file features include high quality ground-level georeferencing, derived from accurate positioning and geometric corrections, and provide a digital photographic map suitable for applications requiring a 1:2400 National Map Accuracy Standard (NMAS). This service is available as a seamless mosaic. The imagery covers a portion of the Maine coastline at low tide (low water). Imagery created from scanned analog photography which was processed to for ortho-rectified mosaicks.
 
Name:  imageryBaseMapsEarthCover/orthoCoastalDownEastCoast2008
Description:  Ortho-rectified Digital Images (ODIs) collected and processed by J. W. Sewall Co. These digital images result from ortho-rectification and mosaicking of digital color aerial photographs. Digital file features include high quality ground-level georeferencing, derived from accurate positioning and geometric corrections, and provide a digital photographic map suitable for applications requiring a 1:2400 National Map Accuracy Standard (NMAS). This service is available as a seamless mosaic. The imagery covers a portion of the Maine coastline at low tide (low water). Imagery created from scanned analog photography which was processed to for ortho-rectified mosaicks.
 
Single Fused Map Cache:  false
Extent: 
XMin: 518074.0
YMin: 4871920.50012
XMax: 575700.0
YMax: 4938283.50012
Spatial Reference: 26919
 (26919)
 LatestVCSWkid(0)
Initial Extent: 
XMin: 518074.0
YMin: 4871920.50012
XMax: 575700.0
YMax: 4938283.50012
Spatial Reference: 26919
 (26919)
 LatestVCSWkid(0)
Full Extent: 
XMin: 518074.0
YMin: 4871920.50012
XMax: 575700.0
YMax: 4938283.50012
Spatial Reference: 26919
 (26919)
 LatestVCSWkid(0)
Time Info: 
Start Time Field: Date
End Time Field: Date
Time Extent:
[2008/08/21 00:00:00 UTC, 2008/08/21 00:00:00 UTC]
Time Reference:
N/A
Pixel Size X:  0.5
Pixel Size Y:  0.5
Band Count: 4
Pixel Type: U8
RasterFunction Infos:  {"rasterFunctionInfos": [{
 "name": "None",
 "description": "A No-Op Function.",
 "help": ""
}]}
Mensuration Capabilities: None
Inspection Capabilities: 
Has Histograms:  true
Has Colormap:  false
Has Multi Dimensions :  false
Rendering Rule: 
Min Scale:  0
Max Scale:  0
Resampling:  false
Copyright Text:  MaineDMR, Maine GeoLibrary
Service Data Type:  esriImageServiceDataTypeProcessed
Min Values:  0, 0, 0, 0
Max Values:  254, 254, 254, 254
Mean Values:  79.25216987941592, 94.69822230841989, 89.42556028975504, 89.42556028975504
Standard Deviation Values:  35.9583192871856, 28.89326182926427, 21.917133804185088, 21.917133804185088
Object ID Field:  OBJECTID
Fields: 
- 
OBJECTID
(
type: esriFieldTypeOID, alias: OBJECTID
)
 
- 
Shape
(
type: esriFieldTypeGeometry, alias: Shape
)
 
- 
Name
(
type: esriFieldTypeString, alias: Name, length: 200
)
 
- 
MinPS
(
type: esriFieldTypeDouble, alias: MinPS
)
 
- 
MaxPS
(
type: esriFieldTypeDouble, alias: MaxPS
)
 
- 
LowPS
(
type: esriFieldTypeDouble, alias: LowPS
)
 
- 
HighPS
(
type: esriFieldTypeDouble, alias: HighPS
)
 
- 
Category
(
type: esriFieldTypeInteger, alias: Category
, Coded Values: 
[0: Unknown]
, [1: Primary]
, [2: Overview]
, ...6 more...
)
 
- 
Tag
(
type: esriFieldTypeString, alias: Tag, length: 100
)
 
- 
GroupName
(
type: esriFieldTypeString, alias: GroupName, length: 100
)
 
- 
ProductName
(
type: esriFieldTypeString, alias: ProductName, length: 100
)
 
- 
CenterX
(
type: esriFieldTypeDouble, alias: CenterX
)
 
- 
CenterY
(
type: esriFieldTypeDouble, alias: CenterY
)
 
- 
ZOrder
(
type: esriFieldTypeInteger, alias: ZOrder
)
 
- 
Shape_Length
(
type: esriFieldTypeDouble, alias: Shape_Length
)
 
- 
Shape_Area
(
type: esriFieldTypeDouble, alias: Shape_Area
)
 
- 
Date
(
type: esriFieldTypeDate, alias: Date, length: 8
)
 
- 
DateInt
(
type: esriFieldTypeSmallInteger, alias: DateInt
)
 
Default Mosaic Method:  Northwest
Allowed Mosaic Methods:  NorthWest,Center,ByAttribute,Nadir,Viewpoint,None
SortField:  
SortValue:  null
Mosaic Operator:  First
Default Compression Quality:  87
Default Resampling Method:  Bilinear
Max Record Count:  1000
Max Image Height:  4100
Max Image Width:  15000
Max Download Image Count:  20
Max Mosaic Image Count:  20
Allow Raster Function:  true
Allow Copy:  true
Allow Analysis:  true
Allow Compute TiePoints:  false
Supports Statistics:  true
Supports Advanced Queries:  true
Use StandardizedQueries:  true
Raster Type Infos: 
Name: Raster Dataset
Description: Supports all ArcGIS Raster Datasets
Help: 
Has Raster Attribute Table:  false
Edit Fields Info:  null
Ownership Based AccessControl For Rasters:  null
Child Resources:
  
Info
  Histograms
  Statistics
  Key Properties
  Legend
  Raster Function Infos
Supported Operations:
  
Export Image
  Query
  Identify
  Download Rasters
  Get Image Url
  Compute Histograms
  Compute Statistics Histograms
  Get Samples
  Compute Class Statistics
  Query GPS Info
  Find Images
  Image to Map
  Map to Image
  Measure from Image
  Image to Map Multiray
  Query Boundary
  Compute Pixel Location
  Compute Angles
  Validate
  Project