View In:
ArcGIS JavaScript
ArcGIS Online Map Viewer
ArcGIS Earth
Service Description: The U.S. Army Corps of Engineers collects (by themselves and contractors) and maintains LiDAR data including orthophotos in coastal areas of the United States and its territories. The Corps acquires this data in the course of performing its mission of Flood Control, Navigation, Environmental Engineering, and support for the Army and others. Digital orthophotos were produced with QuickBird high-resolution satellite imagery. The purpose of this survey was to obtain the existing conditions of the beach and near shore in support of the Joint Airborne LIDAR Bathymetric Technical Center of Expertise National Coastal mapping Program.
Name: imageryBaseMapsEarthCover/orthoCoastalSouthCoast2008
Description: The U.S. Army Corps of Engineers collects (by themselves and contractors) and maintains LiDAR data including orthophotos in coastal areas of the United States and its territories. The Corps acquires this data in the course of performing its mission of Flood Control, Navigation, Environmental Engineering, and support for the Army and others. Digital orthophotos were produced with QuickBird high-resolution satellite imagery. The purpose of this survey was to obtain the existing conditions of the beach and near shore in support of the Joint Airborne LIDAR Bathymetric Technical Center of Expertise National Coastal mapping Program.
Single Fused Map Cache: false
Extent:
XMin: 359563.0
YMin: 4767993.0
XMax: 443771.0
YMax: 4852311.5
Spatial Reference: 26919
(26919)
LatestVCSWkid(0)
Initial Extent:
XMin: 359563.0
YMin: 4767993.0
XMax: 443771.0
YMax: 4852311.5
Spatial Reference: 26919
(26919)
LatestVCSWkid(0)
Full Extent:
XMin: 359563.0
YMin: 4767993.0
XMax: 443771.0
YMax: 4852311.5
Spatial Reference: 26919
(26919)
LatestVCSWkid(0)
Time Info:
Start Time Field: DateBegin
End Time Field: DateEnd
Time Extent:
[2008/06/19 00:00:00 UTC, 2008/06/19 00:00:00 UTC]
Time Reference:
N/A
Pixel Size X: 0.5
Pixel Size Y: 0.5
Band Count: 3
Pixel Type: U8
RasterFunction Infos: {"rasterFunctionInfos": [{
"name": "None",
"description": "A No-Op Function.",
"help": ""
}]}
Mensuration Capabilities: None
Inspection Capabilities:
Has Histograms: true
Has Colormap: false
Has Multi Dimensions : false
Rendering Rule:
Min Scale: 0
Max Scale: 0
Resampling: false
Copyright Text: Fugro Pelagos Inc, NOAA, Maine GeoLibrary
Service Data Type: esriImageServiceDataTypeProcessed
Min Values: 0, 0, 0
Max Values: 255, 255, 255
Mean Values: 44.0141402636365, 48.02329393135452, 51.09668995596811
Standard Deviation Values: 48.34718468296477, 47.72863310707492, 41.87109939593243
Object ID Field: OBJECTID
Fields:
-
OBJECTID
(
type: esriFieldTypeOID, alias: OBJECTID
)
-
Shape
(
type: esriFieldTypeGeometry, alias: Shape
)
-
Name
(
type: esriFieldTypeString, alias: Name, length: 200
)
-
MinPS
(
type: esriFieldTypeDouble, alias: MinPS
)
-
MaxPS
(
type: esriFieldTypeDouble, alias: MaxPS
)
-
LowPS
(
type: esriFieldTypeDouble, alias: LowPS
)
-
HighPS
(
type: esriFieldTypeDouble, alias: HighPS
)
-
Category
(
type: esriFieldTypeInteger, alias: Category
, Coded Values:
[0: Unknown]
, [1: Primary]
, [2: Overview]
, ...6 more...
)
-
Tag
(
type: esriFieldTypeString, alias: Tag, length: 100
)
-
GroupName
(
type: esriFieldTypeString, alias: GroupName, length: 100
)
-
ProductName
(
type: esriFieldTypeString, alias: ProductName, length: 100
)
-
CenterX
(
type: esriFieldTypeDouble, alias: CenterX
)
-
CenterY
(
type: esriFieldTypeDouble, alias: CenterY
)
-
ZOrder
(
type: esriFieldTypeInteger, alias: ZOrder
)
-
DateBegin
(
type: esriFieldTypeDate, alias: DateBegin, length: 8
)
-
DateEnd
(
type: esriFieldTypeDate, alias: DateEnd, length: 8
)
-
DateIntBegin
(
type: esriFieldTypeSmallInteger, alias: DateIntBegin
)
-
DateIntEnd
(
type: esriFieldTypeSmallInteger, alias: DateIntEnd
)
-
Shape_Length
(
type: esriFieldTypeDouble, alias: Shape_Length
)
-
Shape_Area
(
type: esriFieldTypeDouble, alias: Shape_Area
)
Default Mosaic Method: Northwest
Allowed Mosaic Methods: NorthWest,Center,ByAttribute,Nadir,Viewpoint,None
SortField:
SortValue: null
Mosaic Operator: First
Default Compression Quality: 87
Default Resampling Method: Bilinear
Max Record Count: 1000
Max Image Height: 4100
Max Image Width: 15000
Max Download Image Count: 20
Max Mosaic Image Count: 20
Allow Raster Function: true
Allow Copy: true
Allow Analysis: true
Allow Compute TiePoints: false
Supports Statistics: true
Supports Advanced Queries: true
Use StandardizedQueries: true
Raster Type Infos:
Name: Raster Dataset
Description: Supports all ArcGIS Raster Datasets
Help:
Has Raster Attribute Table: false
Edit Fields Info: null
Ownership Based AccessControl For Rasters: null
Child Resources:
Info
Histograms
Statistics
Key Properties
Legend
Raster Function Infos
Supported Operations:
Export Image
Query
Identify
Download Rasters
Get Image Url
Compute Histograms
Compute Statistics Histograms
Get Samples
Compute Class Statistics
Query GPS Info
Find Images
Image to Map
Map to Image
Measure from Image
Image to Map Multiray
Query Boundary
Compute Pixel Location
Compute Angles
Validate
Project