View In:
  ArcGIS JavaScript
  ArcGIS Online Map Viewer
  ArcGIS Earth
Service Description:  Orthoimagery at 1' and 6" resolution encompassing all of Augusta, Manchester, Hallowell, Farmingdale, and Garinder, Maine. Portions of other adjacent towns are covered including Belgrade, Chelsea, Dresden, Litchfield, Pittston, Randolph, Readfield, Richmond, Sidney, Vassalboro, West Gardiner, Windsor, and Winthrop. The data were collected in a single session on May 6, 2008. LiDAR data were also collected and are available elsewhere. The 6" imagery is available for the northern part of the area, Augusta and Manchester principally. 1' imagery is for the southern area of the collect. The data were collected and processed by James W. Sewall Co of Old Town, Maine. The LiDAR data were collected and processed by Photo Science, Inc., of Lexington, KY. The scale of 1:7920 was used to produce a mapping scale of 1" = 660'.
 
Name:  imageryBaseMapsEarthCover/orthoMunicipalAugustaManchester2008
Description:  Orthoimagery at 1' and 6" resolution encompassing all of Augusta, Manchester, Hallowell, Farmingdale, and Garinder, Maine. Portions of other adjacent towns are covered including Belgrade, Chelsea, Dresden, Litchfield, Pittston, Randolph, Readfield, Richmond, Sidney, Vassalboro, West Gardiner, Windsor, and Winthrop. The data were collected in a single session on May 6, 2008. LiDAR data were also collected and are available elsewhere. The 6" imagery is available for the northern part of the area, Augusta and Manchester principally. 1' imagery is for the southern area of the collect. The data were collected and processed by James W. Sewall Co of Old Town, Maine. The LiDAR data were collected and processed by Photo Science, Inc., of Lexington, KY. The scale of 1:7920 was used to produce a mapping scale of 1" = 660'.
 
Single Fused Map Cache:  false
Extent: 
XMin: 426000.00000000146
YMin: 4885500.000000001
XMax: 451499.9999999983
YMax: 4916999.999999997
Spatial Reference: 26919
 (26919)
 LatestVCSWkid(0)
Initial Extent: 
XMin: 426000.00000000146
YMin: 4885500.000000001
XMax: 451499.9999999983
YMax: 4916999.999999997
Spatial Reference: 26919
 (26919)
 LatestVCSWkid(0)
Full Extent: 
XMin: 426000.00000000146
YMin: 4885500.000000001
XMax: 451499.9999999983
YMax: 4916999.999999997
Spatial Reference: 26919
 (26919)
 LatestVCSWkid(0)
Pixel Size X:  0.1499999999999815
Pixel Size Y:  0.14999999999998226
Band Count: 3
Pixel Type: U8
RasterFunction Infos:  {"rasterFunctionInfos": [{
 "name": "None",
 "description": "A No-Op Function.",
 "help": ""
}]}
Mensuration Capabilities: 
Inspection Capabilities: 
Has Histograms:  true
Has Colormap:  false
Has Multi Dimensions :  false
Rendering Rule: 
Min Scale:  0
Max Scale:  0
Resampling:  false
Copyright Text:  Maine GeoLibrary
Service Data Type:  esriImageServiceDataTypeRGB
Min Values:  0, 1, 11
Max Values:  255, 255, 255
Mean Values:  84.89346798134883, 92.95259085040419, 77.2994547742206
Standard Deviation Values:  26.70847312633267, 24.2050485060564, 23.146795247254357
Object ID Field:  OBJECTID
Fields: 
- 
OBJECTID
(
type: esriFieldTypeOID, alias: OBJECTID
)
 
- 
Shape
(
type: esriFieldTypeGeometry, alias: Shape
)
 
- 
Name
(
type: esriFieldTypeString, alias: Name, length: 200
)
 
- 
MinPS
(
type: esriFieldTypeDouble, alias: MinPS
)
 
- 
MaxPS
(
type: esriFieldTypeDouble, alias: MaxPS
)
 
- 
LowPS
(
type: esriFieldTypeDouble, alias: LowPS
)
 
- 
HighPS
(
type: esriFieldTypeDouble, alias: HighPS
)
 
- 
Category
(
type: esriFieldTypeInteger, alias: Category
, Coded Values: 
[0: Unknown]
, [1: Primary]
, [2: Overview]
, ...6 more...
)
 
- 
Tag
(
type: esriFieldTypeString, alias: Tag, length: 100
)
 
- 
GroupName
(
type: esriFieldTypeString, alias: GroupName, length: 100
)
 
- 
ProductName
(
type: esriFieldTypeString, alias: ProductName, length: 100
)
 
- 
CenterX
(
type: esriFieldTypeDouble, alias: CenterX
)
 
- 
CenterY
(
type: esriFieldTypeDouble, alias: CenterY
)
 
- 
ZOrder
(
type: esriFieldTypeInteger, alias: ZOrder
)
 
- 
Shape_Length
(
type: esriFieldTypeDouble, alias: Shape_Length
)
 
- 
Shape_Area
(
type: esriFieldTypeDouble, alias: Shape_Area
)
 
- 
Date
(
type: esriFieldTypeDate, alias: Date, length: 8
)
 
- 
DateInt
(
type: esriFieldTypeSmallInteger, alias: DateInt
)
 
Default Mosaic Method:  Northwest
Allowed Mosaic Methods:  NorthWest,Center,ByAttribute,Nadir,Viewpoint,Seamline,None
SortField:  
SortValue:  null
Mosaic Operator:  First
Default Compression Quality:  87
Default Resampling Method:  Bilinear
Max Record Count:  1000
Max Image Height:  4100
Max Image Width:  15000
Max Download Image Count:  20
Max Mosaic Image Count:  20
Allow Raster Function:  true
Allow Copy:  true
Allow Analysis:  true
Allow Compute TiePoints:  false
Supports Statistics:  true
Supports Advanced Queries:  true
Use StandardizedQueries:  true
Raster Type Infos: 
Name: Raster Dataset
Description: Supports all ArcGIS Raster Datasets
Help: 
Has Raster Attribute Table:  false
Edit Fields Info:  null
Ownership Based AccessControl For Rasters:  null
Child Resources:
  
Info
  Histograms
  Statistics
  Key Properties
  Legend
  Raster Function Infos
Supported Operations:
  
Export Image
  Query
  Identify
  Download Rasters
  Get Image Url
  Compute Histograms
  Compute Statistics Histograms
  Get Samples
  Compute Class Statistics
  Query GPS Info
  Find Images
  Image to Map
  Map to Image
  Measure from Image
  Image to Map Multiray
  Query Boundary
  Compute Pixel Location
  Compute Angles
  Validate
  Project