View In:
ArcGIS JavaScript
ArcGIS Online Map Viewer
ArcGIS Earth
Service Description: This is a leaf-off spring orthoimagery collection for Houlton from 2004. Pixel size is 0.5 ft. Flight Scales: 1” = 660’ and 1” = 1200’ Date of Photography: 5/8/2004 Camera: Serial Number: 144126, Focal Length: 153.330mm Control Accuracies: 1” = 100’ and 1” = 200’ Mapping Accuracies: 1” = 100’ and 1” = 200’ Flight Accuracies: 1” = 200’
Name: imageryBaseMapsEarthCover/orthoMunicipalHoulton2004
Description: This is a leaf-off spring orthoimagery collection for Houlton from 2004. Pixel size is 0.5 ft. Flight Scales: 1” = 660’ and 1” = 1200’ Date of Photography: 5/8/2004 Camera: Serial Number: 144126, Focal Length: 153.330mm Control Accuracies: 1” = 100’ and 1” = 200’ Mapping Accuracies: 1” = 100’ and 1” = 200’ Flight Accuracies: 1” = 200’
Single Fused Map Cache: false
Extent:
XMin: 345713.98197866423
YMin: 269807.9814833646
XMax: 355810.48197866336
YMax: 280408.9314833637
Spatial Reference: 26983
(26983)
VCSWkid(5703)
LatestVCSWkid(5703)
Initial Extent:
XMin: 345713.98197866423
YMin: 269807.9814833646
XMax: 355810.48197866336
YMax: 280408.9314833637
Spatial Reference: 26983
(26983)
VCSWkid(5703)
LatestVCSWkid(5703)
Full Extent:
XMin: 345713.98197866423
YMin: 269807.9814833646
XMax: 355810.48197866336
YMax: 280408.9314833637
Spatial Reference: 26983
(26983)
VCSWkid(5703)
LatestVCSWkid(5703)
Time Info:
Start Time Field: Date
End Time Field: Date
Time Extent:
[2004/05/08 00:00:00 UTC, 2004/05/08 00:00:00 UTC]
Time Reference:
N/A
Pixel Size X: 0.14999999999998703
Pixel Size Y: 0.14999999999998698
Band Count: 3
Pixel Type: U8
RasterFunction Infos: {"rasterFunctionInfos": [{
"name": "None",
"description": "A No-Op Function.",
"help": ""
}]}
Mensuration Capabilities:
Inspection Capabilities:
Has Histograms: true
Has Colormap: false
Has Multi Dimensions : false
Rendering Rule:
Min Scale: 0
Max Scale: 0
Copyright Text: Maine GeoLibrary
Service Data Type: esriImageServiceDataTypeRGB
Min Values: 0, 0, 0
Max Values: 248, 255, 252
Mean Values: 106.31039239246401, 110.01725647236081, 83.55997836759516
Standard Deviation Values: 46.97176487105782, 45.576900025120544, 37.44436860363444
Object ID Field: OBJECTID
Fields:
-
OBJECTID
(
type: esriFieldTypeOID, alias: OBJECTID
)
-
Shape
(
type: esriFieldTypeGeometry, alias: Shape
)
-
Name
(
type: esriFieldTypeString, alias: Name, length: 200
)
-
MinPS
(
type: esriFieldTypeDouble, alias: MinPS
)
-
MaxPS
(
type: esriFieldTypeDouble, alias: MaxPS
)
-
LowPS
(
type: esriFieldTypeDouble, alias: LowPS
)
-
HighPS
(
type: esriFieldTypeDouble, alias: HighPS
)
-
Category
(
type: esriFieldTypeInteger, alias: Category
, Coded Values:
[0: Unknown]
, [1: Primary]
, [2: Overview]
, ...6 more...
)
-
Tag
(
type: esriFieldTypeString, alias: Tag, length: 100
)
-
GroupName
(
type: esriFieldTypeString, alias: GroupName, length: 100
)
-
ProductName
(
type: esriFieldTypeString, alias: ProductName, length: 100
)
-
CenterX
(
type: esriFieldTypeDouble, alias: CenterX
)
-
CenterY
(
type: esriFieldTypeDouble, alias: CenterY
)
-
ZOrder
(
type: esriFieldTypeInteger, alias: ZOrder
)
-
Shape_Length
(
type: esriFieldTypeDouble, alias: Shape_Length
)
-
Shape_Area
(
type: esriFieldTypeDouble, alias: Shape_Area
)
-
Date
(
type: esriFieldTypeDate, alias: Date, length: 8
)
-
DateInt
(
type: esriFieldTypeSmallInteger, alias: DateInt
)
Default Mosaic Method: Northwest
Allowed Mosaic Methods: NorthWest,Center,ByAttribute,Nadir,Viewpoint,None
SortField:
SortValue: null
Mosaic Operator: First
Default Compression Quality: 87
Default Resampling Method: Bilinear
Max Record Count: 1000
Max Image Height: 4100
Max Image Width: 15000
Max Download Image Count: 20
Max Mosaic Image Count: 20
Allow Raster Function: true
Allow Copy: true
Allow Analysis: true
Allow Compute TiePoints: false
Supports Statistics: true
Supports Advanced Queries: true
Use StandardizedQueries: true
Raster Type Infos:
Name: Raster Dataset
Description: Supports all ArcGIS Raster Datasets
Help:
Has Raster Attribute Table: false
Edit Fields Info: null
Ownership Based AccessControl For Rasters: null
Child Resources:
Info
Histograms
Statistics
Key Properties
Legend
Raster Function Infos
Supported Operations:
Export Image
Query
Identify
Download Rasters
Get Image Url
Compute Histograms
Compute Statistics Histograms
Get Samples
Compute Class Statistics
Query GPS Info
Find Images
Image to Map
Map to Image
Measure from Image
Image to Map Multiray
Query Boundary
Compute Pixel Location
Compute Angles
Validate
Project