View In:
ArcGIS JavaScript
ArcGIS Online Map Viewer
ArcGIS Earth
Service Description: This dataset consists of true color aerial imagery covering the coastline and islands of the greater Acadia region, from Brooklin, ME to Jonesport, ME. Imagery was captured at 15-cm GSD resolution and used to produce 6” orthorectified imagery with one-foot horizontal accuracy. Imagery collection dates were 06/26/2025, 06/27/2025, 07/26/2026, 07/27/2025, 08/12/2025, and 08/13/2025 during low tide conditions within two hours of spring tides. Additional atmospheric considerations were complied with including sun angle between 25 degrees and 50 degrees, no more than 10% cloud cover, and less than 10 knots of a maximum predicted wind velocity. Additionally, flights were only dispatched after a precipitation-free period of at least 48 hours. The project flight plan consisted of approximately 2,670 images on 20 flight lines with 80% endlap and 30% sidelap, with sections re-collected as needed to meet image quality standards. Airborne GPS and IMU were utilized during the acquisition to improve the aerotriangulation solution. Raw imagery was acquired using the Vexcel Eagle 80-mm Mark 3 mounted on a fixed wing aircraft and flown at an elevation of approximately 9,500 feet. Digital ortho-rectified imagery was created using the raw digital aerial imagery, surveyed ground control points, aerotriangulation, and a digital elevation model. These aerial survey products were created under contract for the State of Maine Department of Environmental Protection. Bluesky Geospatial, subcontractor, captured the raw aerial imagery and produced the digital orthophotos and related products, while James W. Sewall, contractor, provided ground control and verified that project specifications were met.
Name: Coastal/Maine_Orthoimagery_Coastal_Acadia_2025
Description: This dataset consists of true color aerial imagery covering the coastline and islands of the greater Acadia region, from Brooklin, ME to Jonesport, ME. Imagery was captured at 15-cm GSD resolution and used to produce 6” orthorectified imagery with one-foot horizontal accuracy. Imagery collection dates were 06/26/2025, 06/27/2025, 07/26/2026, 07/27/2025, 08/12/2025, and 08/13/2025 during low tide conditions within two hours of spring tides. Additional atmospheric considerations were complied with including sun angle between 25 degrees and 50 degrees, no more than 10% cloud cover, and less than 10 knots of a maximum predicted wind velocity. Additionally, flights were only dispatched after a precipitation-free period of at least 48 hours. The project flight plan consisted of approximately 2,670 images on 20 flight lines with 80% endlap and 30% sidelap, with sections re-collected as needed to meet image quality standards. Airborne GPS and IMU were utilized during the acquisition to improve the aerotriangulation solution. Raw imagery was acquired using the Vexcel Eagle 80-mm Mark 3 mounted on a fixed wing aircraft and flown at an elevation of approximately 9,500 feet. Digital ortho-rectified imagery was created using the raw digital aerial imagery, surveyed ground control points, aerotriangulation, and a digital elevation model. These aerial survey products were created under contract for the State of Maine Department of Environmental Protection. Bluesky Geospatial, subcontractor, captured the raw aerial imagery and produced the digital orthophotos and related products, while James W. Sewall, contractor, provided ground control and verified that project specifications were met.
Single Fused Map Cache: false
Extent:
XMin: 529301.4000000004
YMin: 4880253.75
XMax: 620123.4000000004
YMax: 4947000.0
Spatial Reference: 26919
(26919)
LatestVCSWkid(0)
Initial Extent:
XMin: 529301.4000000004
YMin: 4880253.75
XMax: 620123.4000000004
YMax: 4947000.0
Spatial Reference: 26919
(26919)
LatestVCSWkid(0)
Full Extent:
XMin: 529301.4000000004
YMin: 4880253.75
XMax: 620123.4000000004
YMax: 4947000.0
Spatial Reference: 26919
(26919)
LatestVCSWkid(0)
Pixel Size X: 0.15
Pixel Size Y: 0.15
Band Count: 4
Pixel Type: U8
RasterFunction Infos: {"rasterFunctionInfos": [{
"name": "None",
"description": "",
"help": ""
}]}
Mensuration Capabilities:
Inspection Capabilities:
Has Histograms: true
Has Colormap: false
Has Multi Dimensions : false
Rendering Rule:
Min Scale: 0
Max Scale: 0
Copyright Text: Orthophotos were produced for the State of Maine Department of Environmental Protection. James W. Sewall was the primary contractor and Bluesky Geospatial the subcontractor for aerial imagery acquisition and orthophoto production.
Service Data Type: esriImageServiceDataTypeThematic
Min Values: 0, 0, 0, 0
Max Values: 255, 255, 255, 255
Mean Values: 195.58499999998838, 195.58499999998838, 195.58499999998838, 195.58499999998838
Standard Deviation Values: 107.79932465324099, 107.79932465324099, 107.79932465324099, 107.79932465324099
Object ID Field: OBJECTID
Fields:
-
OBJECTID
(
type: esriFieldTypeOID, alias: OBJECTID
)
-
Shape
(
type: esriFieldTypeGeometry, alias: Shape
)
-
Name
(
type: esriFieldTypeString, alias: Name, length: 200
)
-
MinPS
(
type: esriFieldTypeDouble, alias: MinPS
)
-
MaxPS
(
type: esriFieldTypeDouble, alias: MaxPS
)
-
LowPS
(
type: esriFieldTypeDouble, alias: LowPS
)
-
HighPS
(
type: esriFieldTypeDouble, alias: HighPS
)
-
Category
(
type: esriFieldTypeInteger, alias: Category
, Coded Values:
[0: Unknown]
, [1: Primary]
, [2: Overview]
, ...6 more...
)
-
Tag
(
type: esriFieldTypeString, alias: Tag, length: 100
)
-
GroupName
(
type: esriFieldTypeString, alias: GroupName, length: 100
)
-
ProductName
(
type: esriFieldTypeString, alias: ProductName, length: 100
)
-
CenterX
(
type: esriFieldTypeDouble, alias: CenterX
)
-
CenterY
(
type: esriFieldTypeDouble, alias: CenterY
)
-
ZOrder
(
type: esriFieldTypeInteger, alias: ZOrder
)
-
Shape_Length
(
type: esriFieldTypeDouble, alias: Shape_Length
)
-
Shape_Area
(
type: esriFieldTypeDouble, alias: Shape_Area
)
-
DateBegin
(
type: esriFieldTypeDate, alias: DateBegin, length: 8
)
-
DateEnd
(
type: esriFieldTypeDate, alias: DateEnd, length: 8
)
-
DateIntBegin
(
type: esriFieldTypeSmallInteger, alias: DateIntBegin
)
-
DateIntEnd
(
type: esriFieldTypeSmallInteger, alias: DateIntEnd
)
Default Mosaic Method: Northwest
Allowed Mosaic Methods: NorthWest,Center,ByAttribute,Nadir,Viewpoint,None
SortField:
SortValue: null
Mosaic Operator: First
Default Compression Quality: 91
Default Resampling Method: Bilinear
Max Record Count: 1000
Max Image Height: 4100
Max Image Width: 15000
Max Download Image Count: 20
Max Mosaic Image Count: 20
Allow Raster Function: true
Allow Copy: true
Allow Analysis: true
Allow Compute TiePoints: false
Supports Statistics: true
Supports Advanced Queries: true
Use StandardizedQueries: true
Raster Type Infos:
Name: Raster Dataset
Description: Supports all ArcGIS Raster Datasets
Help:
Has Raster Attribute Table: false
Edit Fields Info: null
Ownership Based AccessControl For Rasters: null
Child Resources:
Info
Histograms
Statistics
Key Properties
Legend
Raster Function Infos
Supported Operations:
Export Image
Query
Identify
Download Rasters
Get Image Url
Compute Histograms
Compute Statistics Histograms
Get Samples
Compute Class Statistics
Query GPS Info
Find Images
Image to Map
Map to Image
Measure from Image
Image to Map Multiray
Query Boundary
Compute Pixel Location
Compute Angles
Validate
Project